{"text_format":"2","workbook":"xlsx","n_sheets":7,"sheets":["rtr","g_m","Hoja4","oor","ooi","cf","cnfff"],"not_rendered":{"charts":0,"images":0,"macros":0,"external_links":0,"defined_names":5,"comments":0,"pivot_tables":0},"unopened":[],"bounds":{"document_bytes":16777216,"sheet_cells":100000,"run_cost":"one","rows_first":2000,"rows_last":500,"rows_between":2000,"halvings":0,"cell_chars":16384,"cell_head_chars":4096},"cells_cut":0,"cells_raw":0,"read":"whole","date_system":"1900"}

{"sheet":"rtr","index":0,"n_rows":834,"n_cols":7,"rows_kept":834,"cut":false,"hidden":false,"merged":[]}
["BUS_I","BUS_J","ID_CKT","X","R","CTOIJ","CTOJI"]
[4404,4800,"1",7.8299999999999995E-2,9.7999999999999997E-3,343,343]
[4330,4827,"1",2.1999999999999999E-2,5.7000000000000002E-3,142.5,142.5]
[4173,4800,"1",9.1800000000000007E-2,0,16,16]
[4800,4827,"1",5.6500000000000002E-2,0,114,114]
[4827,4173,"1",6.8699999999999997E-2,0,16,16]
[1101,1124,"2",2.6727999999999998E-2,4.1320000000000003E-3,396.4,396.4]
[4800,4832,"1",5.0000000000000001E-4,1E-4,343,343]
[4750,4832,"1",1.0999999999999999E-2,1.4E-3,343,343]
[4410,4800,"1",1.4E-3,2.0000000000000001E-4,98,98]
[4404,4803,"1",7.3999999999999996E-2,1.14E-2,240,240]
[1133,1444,"1",5.2975000000000001E-2,9.1739999999999999E-3,262.89999999999998,262.89999999999998]
[1102,1105,"1",4.0759999999999998E-2,8.7799999999999996E-3,294.5,294.5]
[1102,1106,"1",2.7999999999999998E-4,5.0000000000000002E-5,491.6,491.6]
[1102,1106,"2",3.6999999999999999E-4,1E-4,482.8,482.8]
[1102,1111,"1",1.83E-3,5.1999999999999995E-4,245.8,245.8]
[1103,1141,"1",5.5199999999999997E-3,1.07E-3,558.5,558.5]
[1103,1141,"2",5.5199999999999997E-3,1.07E-3,558.5,558.5]
[1106,1109,"1",3.0269999999999998E-2,5.8199999999999997E-3,491.6,491.6]
[1106,1132,"1",1.201E-2,2.2300000000000002E-3,491.6,491.6]
[1107,1108,"1",1.247E-2,2.4099999999999998E-3,558.5,558.5]
[1107,1109,"1",8.4899999999999993E-3,1.64E-3,558.5,558.5]
[1108,1444,"1",5.1139999999999998E-2,9.92E-3,558.5,558.5]
[1108,1444,"2",5.1139999999999998E-2,9.92E-3,558.5,558.5]
[1110,1119,"1",3.773E-2,4.7499999999999999E-3,424,424]
[1113,1115,"1",3.3090000000000001E-2,9.2399999999999999E-3,147.5,147.5]
[1114,1115,"2",8.1339999999999996E-2,2.3199999999999998E-2,167.6,167.6]
[1114,1122,"1",5.475E-2,1.562E-2,167.6,167.6]
[1115,1122,"1",2.6620000000000001E-2,7.6E-3,167.6,167.6]
[1120,1121,"1",2.802E-2,6.0200000000000002E-3,245.8,245.8]
[1126,1129,"2",1.4400000000000001E-3,2.7999999999999998E-4,558.5,558.5]
[1132,1219,"1",2.332E-2,3.5799999999999998E-3,365.54,365.54]
[1141,1444,"1",2.9950000000000001E-2,5.8199999999999997E-3,558.5,558.5]
[1141,1444,"2",2.9950000000000001E-2,5.8199999999999997E-3,558.5,558.5]
[1141,1845,"1",2.3439999999999999E-2,3.9199999999999999E-3,514.70000000000005,514.70000000000005]
[1141,1845,"2",2.3439999999999999E-2,3.9199999999999999E-3,514.70000000000005,514.70000000000005]
[1151,1240,"1",0.13503999999999999,3.8960000000000002E-2,73.7,73.7]
[1151,12177,"1",7.2940000000000005E-2,1.7690000000000001E-2,94.4,94.4]
[1151,12204,"1",1.7409999999999998E-2,4.4099999999999999E-3,94.4,94.4]
[1151,12205,"1",1.643E-2,4.1700000000000001E-3,94.41,94.41]
[1151,12241,"1",0.14893999999999999,4.2970000000000001E-2,73.7,73.7]
[1153,1408,"1",0.28094999999999998,8.1049999999999997E-2,83.8,83.8]
[1154,1204,"1",6.8930000000000005E-2,2.9569999999999999E-2,83.8,83.8]
[1154,1204,"2",6.6930000000000003E-2,2.0889999999999999E-2,83.8,83.8]
[1154,1204,"3",6.6930000000000003E-2,2.0889999999999999E-2,83.8,83.8]
[1154,12080,"1",1.6500000000000001E-2,5.1500000000000001E-3,83.8,83.8]
[1154,1159,"1",1.6389999999999998E-2,5.1200000000000004E-3,83.8,83.8]
[1154,1163,"1",6.3299999999999997E-3,1.5399999999999999E-3,94.41,94.41]
[1154,1425,"1",0.28261999999999998,0.11226999999999999,67.2,67.2]
[1159,1331,"1",0.12021,3.7519999999999998E-2,83.8,83.8]
[4122,4403,"1",9.1800000000000007E-2,0,16,16]
[4316,4122,"1",6.8699999999999997E-2,0,16,16]
[4403,4316,"1",5.6500000000000002E-2,0,114,114]
[6059,6684,"51",2.0902E-2,4.4970000000000001E-3,156,156]
[4124,4403,"2",9.1800000000000007E-2,0,16,16]
[4316,4124,"2",6.8699999999999997E-2,0,16,16]
[4403,4316,"2",5.6500000000000002E-2,0,114,114]
[3211,29181,"1",1.7420000000000001E-2,2.751E-3,317.3,317.3]
[6003,6470,"2B",8.0719999999999993E-3,2.676E-3,225,225]
[1101,1908,"1",1.4645E-2,1.977E-3,453.7,453.7]
[3211,3592,"1",5.8799999999999998E-4,9.2999999999999997E-5,317.3,317.3]
[3301,3592,"1",2.0212000000000001E-2,3.1879999999999999E-3,317.3,317.3]
[6008,6520,"4A",6.4797999999999994E-2,7.058E-3,275,275]
[6182,6520,"4B",3.7092E-2,4.0400000000000002E-3,275,275]
[6008,6520,"5A",6.4797999999999994E-2,7.058E-3,275,275]
[6182,6520,"5B",3.7092E-2,4.0400000000000002E-3,275,275]
[1732,1710,"1",6.8025000000000002E-2,1.1781E-2,438.2,438.2]
[1407,1736,"1",6.6011E-2,1.9042E-2,80.099999999999994,80.099999999999994]
[1730,1444,"1",7.9898999999999998E-2,1.3837E-2,438.2,438.2]
[1427,1735,"1",2.0448999999999998E-2,5.8989999999999997E-3,80.099999999999994,80.099999999999994]
[1526,1732,"1",0.45479999999999998,0,30.6,30.6]
[1732,1736,"1",0.247,0,90,90]
[1736,1526,"1",0.15840000000000001,0,30.6,30.6]
[1527,1730,"1",0.45800000000000002,0,30.6,30.6]
[1730,1735,"1",0.24859999999999999,0,90,90]
[1735,1527,"1",0.1598,0,30.6,30.6]
[58150,58200,"1",2.8657999999999999E-2,4.0949999999999997E-3,478,478]
[1122,1174,"1",2.0740999999999999E-2,5.7029999999999997E-3,117,117]
[1131,1174,"1",1.3952000000000001E-2,3.833E-3,117,117]
[1427,14002,"1",0.33532499999999998,0.106882,58.6,58.6]
[14002,1718,"1",0.17293800000000001,5.5122999999999998E-2,58.6,58.6]
[27371,27501,"1",4.8920999999999999E-2,8.8310000000000003E-3,260,260]
[27381,27501,"1",3.79E-4,6.7999999999999999E-5,260,260]
[58450,58500,"1",1.346E-2,1.41E-3,562,562]
[6173,6604,"57",7.2400000000000003E-4,1.83E-4,93,93]
[50800,51300,"1",1.2239999999999999E-2,1.531E-3,508,508]
[51300,53200,"1",3.2190000000000003E-2,5.0990000000000002E-3,464,464]
[1306,1862,"1",0.186783,5.9219000000000001E-2,73.7,73.7]
[1302,1862,"1",0.18090999999999999,5.7356999999999998E-2,73.7,73.7]
[50900,54750,"1",5.7362999999999997E-2,1.0629E-2,389,389]
[54750,53000,"1",1.3601E-2,2.4719999999999998E-3,389,389]
[1323,1863,"1",0.23035800000000001,7.3010000000000005E-2,73.7,73.7]
[1863,1306,"1",0.379413,0.120252,73.7,73.7]
[1429,14011,"1",0.43329600000000001,0.13720499999999999,58.6,58.6]
[14011,1702,"1",0.19859399999999999,6.2884999999999996E-2,58.6,58.6]
[3040,3213,"1",2.954E-2,7.2000000000000005E-4,151.80000000000001,151.80000000000001]
[3213,3408,"1",4.5710000000000001E-2,1.91E-3,151.80000000000001,151.80000000000001]
[3116,3424,"1",0.32884999999999998,0.14405000000000001,47.9,47.9]
[1159,1331,"2",0.12021,3.7519999999999998E-2,83.8,83.8]
[1163,12243,"1",3.2140000000000002E-2,1.0500000000000001E-2,62.82,62.82]
[1163,12269,"1",7.4799999999999997E-3,2.4399999999999999E-3,83.8,83.8]
[1204,12080,"1",6.2899999999999998E-2,2.281E-2,74.900000000000006,74.900000000000006]
[1204,12089,"1",2.6239999999999999E-2,7.9000000000000008E-3,83.8,83.8]
[1215,12007,"1",5.6469999999999999E-2,1.857E-2,94.4,94.4]
[1215,12094,"1",5.3800000000000001E-2,2.8539999999999999E-2,58,58]
[1215,12280,"1",2.6089999999999999E-2,9.1699999999999993E-3,74.900000000000006,74.900000000000006]
[1216,12183,"1",3.82E-3,1.4E-3,74.900000000000006,74.900000000000006]
[1220,1241,"1",9.5149999999999998E-2,5.1090000000000003E-2,51.2,51.2]
[1240,12219,"1",0.10922,3.1519999999999999E-2,73.7,73.7]
[1241,12219,"1",2.5600000000000002E-3,8.3000000000000001E-4,73.7,73.7]
[1241,12220,"1",2.82E-3,9.2000000000000003E-4,73,73]
[1249,12049,"1",0.16864000000000001,5.3350000000000002E-2,83.8,83.8]
[1301,1331,"1",0.15587999999999999,4.4970000000000003E-2,83.8,83.8]
[1301,1810,"1",0.18268999999999999,5.271E-2,83.8,83.8]
[1302,1310,"1",0.30868000000000001,0.24593000000000001,35.4,35.4]
[1302,1310,"2",0.24307999999999999,7.707E-2,73.7,73.7]
[1303,1816,"1",0.23816999999999999,6.8669999999999995E-2,73.7,73.7]
[1303,1833,"1",0.27781,8.0089999999999995E-2,73.7,73.7]
[1303,12220,"1",0.25217000000000001,7.2749999999999995E-2,73.7,73.7]
[1304,1321,"1",0.16163,4.6629999999999998E-2,83.8,83.8]
[1304,1329,"1",2.383E-2,6.8799999999999998E-3,83.8,83.8]
[1304,1372,"1",0.32262999999999997,9.3060000000000004E-2,83.8,83.8]
[1305,1325,"1",0.39602999999999999,0.11422,83.8,83.8]
[1305,1327,"1",0.46148,0.13308,83.8,83.8]
[1306,1338,"1",3.4750000000000003E-2,1.0030000000000001E-2,73.7,73.7]
[1306,1374,"1",7.4270000000000003E-2,2.1430000000000001E-2,73.7,73.7]
[1306,1828,"1",4.0239999999999998E-2,1.29E-2,73.7,73.7]
[1308,1310,"1",0.44885999999999998,0.35748999999999997,35.4,35.4]
[1308,1312,"1",0.19558,0.15581999999999999,35.4,35.4]
[1309,1336,"1",6.7510000000000001E-2,1.9480000000000001E-2,73.7,73.7]
[1309,1835,"1",0.1883,5.4449999999999998E-2,73.7,73.7]
[1314,1339,"1",4.1880000000000001E-2,1.538E-2,70.5,70.5]
[1314,1374,"1",0.13880000000000001,4.0050000000000002E-2,73.7,73.7]
[1314,1813,"1",1.3899999999999999E-2,4.0099999999999997E-3,83.8,83.8]
[1315,1318,"1",0.28393000000000002,8.1909999999999997E-2,83.8,83.8]
[1315,1810,"1",0.32558999999999999,9.3920000000000003E-2,83.8,83.8]
[1315,1833,"1",0.28177000000000002,8.1229999999999997E-2,73.7,73.7]
[1318,1329,"1",0.14198,4.0960000000000003E-2,83.8,83.8]
[1321,1322,"1",5.9470000000000002E-2,1.7160000000000002E-2,83.8,83.8]
[1322,1813,"2",5.987E-2,1.7270000000000001E-2,83.8,83.8]
[1324,1372,"1",0.23430999999999999,6.7599999999999993E-2,83.8,83.8]
[1327,1388,"1",0.44714999999999999,0.14330000000000001,83.8,83.8]
[1336,1337,"1",4.2930000000000003E-2,1.376E-2,73.7,73.7]
[1336,1338,"1",8.7370000000000003E-2,2.521E-2,73.7,73.7]
[1403,1416,"1",0.25117,7.2459999999999997E-2,83.8,83.8]
[1406,1411,"1",0.72787999999999997,0.57904999999999995,35.4,35.4]
[1406,1439,"1",0.27201999999999998,7.8469999999999998E-2,83.8,83.8]
[50050,51450,"10",0.132077,1.7436E-2,345,345]
[51450,54000,"10",3.6027999999999998E-2,4.7840000000000001E-3,345,345]
[1846,1308,"1",0.162275,5.1734000000000002E-2,58.6,58.6]
[1846,1372,"1",0.21940599999999999,6.9947999999999996E-2,58.6,58.6]
[6011,6182,"6C",8.0750000000000002E-2,1.5679999999999999E-2,280,280]
[6008,6550,"6A",9.8234000000000002E-2,1.7336000000000001E-2,247,247]
[6550,6182,"6B",7.8879999999999992E-3,1.392E-3,247,247]
[1306,1869,"1",0.11716,3.3803E-2,66.7,66.7]
[1869,1857,"1",4.1701000000000002E-2,1.2031E-2,66.7,66.7]
[1119,1841,"1",3.2919999999999998E-2,3.9699999999999996E-3,438.2,438.2]
[1841,1832,"1",8.8059999999999999E-2,1.061E-2,438.2,438.2]
[1842,1821,"1",3.6388999999999998E-2,1.0152E-2,147.5,147.5]
[1822,1842,"1",6.5651000000000001E-2,1.8315000000000001E-2,147.5,147.5]
[1528,1841,"1",0.3518,0,51,51]
[1841,1842,"1",0.12379999999999999,0,150,150]
[1842,1528,"1",0.2087,0,51,51]
[12305,12285,"1",0.199853,5.2215999999999999E-2,94.4,94.4]
[12305,12177,"1",7.7459E-2,2.0143999999999999E-2,94.4,94.4]
[1223,1166,"1",0.103077,0,78,78]
[1140,1166,"1",8.1060000000000004E-3,1.4040000000000001E-3,438.2,438.2]
[6003,6713,"2A",3.1392000000000003E-2,3.5200000000000001E-3,275,275]
[6713,6460,"2A",8.9690000000000006E-2,1.005E-2,275,275]
[4419,4401,"1",4.3499999999999997E-3,6.2E-4,414,414]
[4402,4419,"1",4.2040000000000001E-2,7.1999999999999998E-3,225,225]
[6008,6182,"51",9.8969000000000001E-2,1.1240999999999999E-2,500,500]
[6008,6182,"52",9.8969000000000001E-2,1.1240999999999999E-2,500,500]
[6100,6243,"2A",5.1119999999999999E-2,1.0710000000000001E-2,225,225]
[6243,6470,"2A",1.256E-3,2.6200000000000003E-4,225,225]
[1164,1140,"1",1.4001E-2,1.758E-3,370.6,370.6]
[1164,1117,"1",3.2940000000000001E-3,4.1800000000000002E-4,370.6,370.6]
[14005,1447,"1",7.4212E-2,2.1412E-2,83.8,83.8]
[14005,1449,"1",0.12223199999999999,3.5265999999999999E-2,83.8,83.8]
[4342,4386,"1",6.0839999999999998E-2,1.3610000000000001E-2,133.9,133.9]
[1840,1845,"1",3.1267000000000003E-2,5.0590000000000001E-3,482,482]
[58150,58500,"1",4.7499999999999999E-3,5.2099999999999998E-4,573,573]
[6005,6001,"47",3.354E-2,4.0899999999999999E-3,500,500]
[6005,6001,"48",3.354E-2,4.0899999999999999E-3,500,500]
[4402,4415,"1",1.436E-3,2.22E-4,60,60]
[4319,4361,"1",1.9851000000000001E-2,4.235E-3,133.9,133.9]
[4336,4361,"1",2.9038999999999999E-2,6.195E-3,133.9,133.9]
[6005,6008,"49",0.13752,1.6639999999999999E-2,500,500]
[6005,6008,"50",0.13752,1.6639999999999999E-2,500,500]
[6008,6753,"41",8.7307999999999997E-2,1.7215999999999999E-2,382.4,382.4]
[6008,6753,"42",8.7639999999999996E-2,1.8758E-2,382.4,382.4]
[6753,6755,"43",2.2043E-2,4.4479999999999997E-3,382.4,382.4]
[6753,6755,"44",2.2008E-2,4.5729999999999998E-3,382.4,382.4]
[4331,4354,"1",7.0800000000000002E-2,1.5310000000000001E-2,133.9,133.9]
[4336,4354,"1",0.18245,3.9449999999999999E-2,133.9,133.9]
[1407,1424,"1",0.41782000000000002,0.12049,73.7,73.7]
[1407,1431,"1",0.32525999999999999,0.10310999999999999,73.7,73.7]
[1407,1432,"1",0.77629000000000004,0.22359999999999999,73.7,73.7]
[1408,1414,"1",9.5310000000000006E-2,2.75E-2,83.8,83.8]
[1408,1667,"1",2.5000000000000001E-3,8.0000000000000004E-4,83.8,83.8]
[1409,1432,"1",0.25613000000000002,7.3889999999999997E-2,73.7,73.7]
[1409,1435,"1",0.10206,2.945E-2,73.7,73.7]
[1411,1428,"1",0.26508999999999999,0.2112,35.4,35.4]
[1411,1762,"1",0.161,4.4400000000000002E-2,73.599999999999994,73.599999999999994]
[1414,1415,"1",0.26606000000000002,7.6759999999999995E-2,83.8,83.8]
[1414,1433,"1",0.17848,5.1499999999999997E-2,83.8,83.8]
[1415,1449,"1",9.9290000000000003E-2,2.8649999999999998E-2,83.8,83.8]
[1416,1447,"1",7.5459999999999999E-2,2.1770000000000001E-2,83.8,83.8]
[1416,1447,"2",7.9589999999999994E-2,2.5510000000000001E-2,83.8,83.8]
[1416,1758,"1",0.20726,5.9700000000000003E-2,83.8,83.8]
[1417,1718,"1",3.7479999999999999E-2,1.0800000000000001E-2,83.8,83.8]
[1418,1433,"1",9.9529999999999993E-2,2.8719999999999999E-2,73.7,73.7]
[1418,1713,"1",0.21415000000000001,6.1789999999999998E-2,73.7,73.7]
[1422,1434,"1",9.0079999999999993E-2,2.597E-2,147.5,147.5]
[1422,1445,"1",0.11165,3.2190000000000003E-2,147.5,147.5]
[1425,1439,"1",8.1600000000000006E-3,3.2399999999999998E-3,67.2,67.2]
[1427,1431,"1",0.37672,0.11940000000000001,73.7,73.7]
[1429,1719,"1",0.53651499999999996,0.171012,58.3,58.3]
[1431,1442,"1",0.79920000000000002,0.25284000000000001,73.7,73.7]
[1435,1491,"1",2.9760000000000002E-2,8.5900000000000004E-3,73.7,73.7]
[1442,1495,"1",0.82293000000000005,0.26229999999999998,73.7,73.7]
[1445,1493,"1",3.499E-2,1.009E-2,147.5,147.5]
[1490,1492,"1",6.45E-3,1.8600000000000001E-3,73.7,73.7]
[1490,1714,"1",0.12834000000000001,3.703E-2,83.8,83.8]
[1491,1492,"1",6.45E-3,1.8600000000000001E-3,73.7,73.7]
[1493,1497,"1",6.4939999999999998E-2,1.8689999999999998E-2,147.5,147.5]
[1497,1498,"1",5.1310000000000001E-2,1.477E-2,147.5,147.5]
[1498,1499,"1",2.751E-2,7.92E-3,147.5,147.5]
[1710,3190,"1",0.11469,1.7739999999999999E-2,374,374]
[1713,1715,"1",9.2099999999999994E-3,2.66E-3,83.8,83.8]
[1714,1715,"2",9.2099999999999994E-3,2.66E-3,83.8,83.8]
[1718,1758,"1",0.51080999999999999,0.14713999999999999,83.8,83.8]
[1816,1835,"1",6.1289999999999997E-2,1.7659999999999999E-2,73.7,73.7]
[1820,1821,"1",4.9570000000000003E-2,1.427E-2,147.5,147.5]
[1823,1845,"1",1.6299999999999999E-3,2.7E-4,257.39999999999998,257.39999999999998]
[1823,1845,"2",1.6299999999999999E-3,2.7E-4,257.39999999999998,257.39999999999998]
[3029,3098,"1",2.1129999999999999E-2,5.3299999999999997E-3,136.62,136.62]
[3029,3103,"1",0.14086000000000001,3.6220000000000002E-2,136.62,136.62]
[3030,3101,"1",4.2209999999999998E-2,1.085E-2,147,147]
[3031,3085,"1",1.3780000000000001E-2,3.2799999999999999E-3,136.62,136.62]
[3031,3120,"1",1.592E-2,3.8600000000000001E-3,136.62,136.62]
[3032,3095,"2",3.6740000000000002E-2,7.0699999999999999E-3,405.1,405.1]
[3032,3300,"1",2.2530000000000001E-2,3.8500000000000001E-3,374,374]
[3032,3429,"1",0.107803,1.9701E-2,405.1,405.1]
[3033,3429,"1",2.7779999999999999E-2,5.0769999999999999E-3,405.1,405.1]
[3033,3429,"2",2.7779999999999999E-2,5.0769999999999999E-3,405.1,405.1]
[3033,3544,"1",1.9109999999999999E-2,2.8900000000000002E-3,317.33999999999997,317.33999999999997]
[3034,3080,"1",1.2E-4,2.0000000000000002E-5,317.3,317.3]
[3034,3301,"1",2.4399999999999999E-3,4.0000000000000002E-4,455.31,455.31]
[3034,3544,"1",3.3360000000000001E-2,5.0499999999999998E-3,317.33999999999997,317.33999999999997]
[3036,3093,"1",7.1190000000000003E-2,1.6219999999999998E-2,68.31,68.31]
[3037,3045,"1",1.8530000000000001E-2,4.8799999999999998E-3,136.62,136.62]
[3037,3052,"1",2.5559999999999999E-2,6.2199999999999998E-3,136.62,136.62]
[3037,3203,"1",3.9539999999999999E-2,1.042E-2,136.62,136.62]
[3038,3064,"1",5.74E-2,1.4590000000000001E-2,136.62,136.62]
[3038,3098,"1",0.12049,3.0870000000000002E-2,136.62,136.62]
[3038,3108,"1",3.5430000000000003E-2,8.9599999999999992E-3,155,155]
[3038,3160,"1",5.8139999999999997E-2,1.4250000000000001E-2,153,153]
[3040,3122,"1",8.4209999999999993E-2,1.9179999999999999E-2,136.62,136.62]
[3040,3408,"1",1.2880000000000001E-2,2.9299999999999999E-3,136.62,136.62]
[3045,3078,"1",1.2070000000000001E-2,3.1800000000000001E-3,136.62,136.62]
[3049,3082,"1",9.8839999999999997E-2,2.2509999999999999E-2,136.62,136.62]
[3049,3204,"1",1.449E-3,3.4699999999999998E-4,273.89999999999998,273.89999999999998]
[3052,3160,"1",2.0670000000000001E-2,5.0600000000000003E-3,136.62,136.62]
[3052,3203,"1",2.8309999999999998E-2,7.4599999999999996E-3,136.62,136.62]
[3055,3118,"1",0.23094999999999999,5.935E-2,136.62,136.62]
[3059,3122,"1",5.5000000000000003E-4,1.4999999999999999E-4,136.62,136.62]
[3060,3091,"1",2.9389999999999999E-2,7.5500000000000003E-3,136.62,136.62]
[3060,3427,"1",0.12017899999999999,2.8891E-2,136.6,136.6]
[3064,3118,"1",8.4709999999999994E-2,2.1780000000000001E-2,136.62,136.62]
[3075,3100,"1",5.0430000000000003E-2,2.266E-2,47.34,47.34]
[3075,3113,"1",7.0290000000000005E-2,2.9250000000000002E-2,47.34,47.34]
[3077,3100,"1",3.637E-2,1.873E-2,47.34,47.34]
[3077,3110,"1",8.2900000000000005E-3,2.5300000000000001E-3,68.31,68.31]
[3078,3203,"1",3.3509999999999998E-2,8.8299999999999993E-3,136.62,136.62]
[3078,3203,"2",2.632E-2,6.94E-3,136.62,136.62]
[3082,3122,"1",2.214E-2,5.0400000000000002E-3,136.62,136.62]
[3091,3103,"1",5.7160000000000002E-2,1.47E-2,136.62,136.62]
[3093,3424,"1",0.15493999999999999,6.9610000000000005E-2,47.3,47.3]
[3098,3180,"1",4.0739999999999998E-2,1.035E-2,136.62,136.62]
[3101,3427,"1",5.8810000000000001E-2,1.4138E-2,136.6,136.6]
[3108,3203,"1",1.0619999999999999E-2,2.8E-3,136.62,136.62]
[3110,3113,"1",3.1870000000000002E-2,8.7100000000000007E-3,68.31,68.31]
[3123,3180,"1",5.5399999999999998E-2,1.4239999999999999E-2,136.62,136.62]
[3123,3203,"1",2.1499999999999998E-2,5.6699999999999997E-3,136.62,136.62]
[3155,3301,"1",5.704E-2,8.9200000000000008E-3,455.31,455.31]
[3155,3301,"2",5.704E-2,8.9200000000000008E-3,455.31,455.31]
[3155,3429,"1",2.3018E-2,3.6080000000000001E-3,455.3,455.3]
[3155,3429,"2",2.3018E-2,3.6080000000000001E-3,455.3,455.3]
[3183,3300,"1",8.133E-2,1.2579999999999999E-2,374,374]
[3203,3204,"2",5.3616999999999998E-2,8.9840000000000007E-3,270,270]
[3300,3429,"1",0.108406,1.9022000000000001E-2,374,374]
[3301,29182,"2",4.9279999999999997E-2,7.62E-3,374,374]
[3301,3355,"1",4.0000000000000003E-5,1.0000000000000001E-5,317.3,317.3]
[3301,3355,"2",4.0000000000000003E-5,1.0000000000000001E-5,317.3,317.3]
[3301,4411,"1",6.0499999999999998E-2,9.3600000000000003E-3,374,374]
[3310,4407,"1",2.0660000000000001E-2,3.1900000000000001E-3,317.3,317.3]
[4300,4315,"1",1.044E-2,2.15E-3,200,200]
[4300,4317,"1",1.6760000000000001E-2,3.6800000000000001E-3,133.9,133.9]
[4302,4323,"1",1.486E-2,3.31E-3,133.9,133.9]
[4302,4343,"1",8.5599999999999999E-3,2.33E-3,133.9,133.9]
[4305,4315,"1",1.5740000000000001E-2,3.5100000000000001E-3,133.9,133.9]
[4305,4325,"1",9.4299999999999991E-3,2.0999999999999999E-3,133.9,133.9]
[4306,4319,"1",8.2100000000000003E-3,1.7899999999999999E-3,80,80]
[4307,4319,"1",2.3900000000000001E-2,5.5999999999999999E-3,142.5,142.5]
[4307,4322,"1",4.8800000000000003E-2,1.67E-2,142.5,142.5]
[4312,4316,"1",8.8450000000000001E-2,1.9120000000000002E-2,100,100]
[4312,4345,"1",1.346E-2,2.8500000000000001E-3,134,134]
[4315,4342,"1",7.3090000000000002E-2,1.5520000000000001E-2,80,80]
[4316,4341,"1",5.5039999999999999E-2,1.226E-2,133.9,133.9]
[4316,4346,"1",5.2569999999999999E-2,1.226E-2,134,134]
[4317,4338,"1",9.4199999999999996E-3,2.0600000000000002E-3,133.9,133.9]
[4322,4330,"1",0.1072,3.6600000000000001E-2,142.5,142.5]
[4323,4336,"1",3.2070000000000001E-2,6.9899999999999997E-3,150,150]
[4323,4338,"1",1.2699999999999999E-2,2.82E-3,133.9,133.9]
[4325,4340,"1",3.6339999999999997E-2,8.9899999999999997E-3,133.9,133.9]
[4326,4345,"1",5.8599999999999999E-2,1.242E-2,100,100]
[4327,4329,"1",8.8980000000000004E-2,1.9230000000000001E-2,133.9,133.9]
[4328,4342,"1",7.9469999999999999E-2,1.6879999999999999E-2,80,80]
[4329,4331,"1",7.6649999999999996E-2,1.653E-2,133.9,133.9]
[4340,4343,"1",1.542E-2,3.81E-3,133.9,133.9]
[4345,4346,"1",2.9559999999999999E-2,6.8900000000000003E-3,134,134]
[4400,4405,"1",1.9499999999999999E-3,2.9999999999999997E-4,70,70]
[4401,4406,"1",2.8799999999999999E-2,4.4999999999999997E-3,225.4,225.4]
[4402,4404,"1",7.1760000000000004E-2,1.119E-2,300,300]
[4402,4405,"1",4.4200000000000003E-3,6.8999999999999997E-4,225.4,225.4]
[4402,4405,"2",4.4200000000000003E-3,6.8999999999999997E-4,225.4,225.4]
[4402,4406,"1",5.4489999999999997E-2,9.9799999999999993E-3,367,367]
[4402,4411,"1",0.10664999999999999,1.6490000000000001E-2,367,367]
[4403,4407,"1",6.6909999999999997E-2,1.034E-2,225.4,225.4]
[4404,4406,"1",1.4449999999999999E-2,2.2599999999999999E-3,225.4,225.4]
[4406,4412,"1",0.1157,1.789E-2,367,367]
[4408,50000,"1",6.2100000000000002E-2,9.5300000000000003E-3,230,230]
[4412,50050,"1",0.11835,1.83E-2,338,338]
[4750,4803,"1",3.5999999999999999E-3,5.9999999999999995E-4,240,240]
[6000,56050,"1",3.3529999999999997E-2,5.7200000000000003E-3,300,300]
[6000,6014,"1",9.4999999999999998E-3,1.6900000000000001E-3,193,193]
[6001,6003,"1C",1.17E-2,2.3999999999999998E-3,335,335]
[6001,6005,"4A",3.5000000000000003E-2,6.7999999999999996E-3,247,247]
[6002,6018,"12",2.5999999999999999E-3,5.9999999999999995E-4,120,120]
[6002,6018,"37",1.73E-3,3.6999999999999999E-4,142,142]
[6002,6024,"3A",8.4370000000000001E-2,1.553E-2,168,168]
[6002,6036,"7",4.8599999999999997E-3,1.1789999999999999E-3,120,120]
[6002,6170,"4A",0.11887,2.188E-2,120,120]
[6003,6171,"1B",1.7309999999999999E-2,3.63E-3,202,202]
[6005,6105,"11",3.8000000000000002E-4,4.0000000000000003E-5,193,193]
[6005,6240,"4B",7.2330000000000005E-2,1.404E-2,247,247]
[6008,6182,"5A",0.101482,1.7909000000000001E-2,247,247]
[6008,6240,"4C",5.237E-2,1.0160000000000001E-2,350,350]
[6011,6096,"7",3.3700000000000001E-2,6.4999999999999997E-3,193,193]
[6011,6096,"8",3.3700000000000001E-2,6.4999999999999997E-3,193,193]
[6011,6182,"5B",8.0750000000000002E-2,1.5679999999999999E-2,247,247]
[6011,6380,"9A",2.64E-2,4.7000000000000002E-3,248,248]
[6012,6087,"15",9.5299999999999996E-2,1.8200000000000001E-2,93,93]
[6012,6087,"16",9.5299999999999996E-2,1.8200000000000001E-2,150,150]
[6014,6380,"9B",2.64E-2,4.7000000000000002E-3,248,248]
[6018,6123,"5",3.5200000000000002E-2,9.1999999999999998E-3,100,100]
[6018,6173,"1A",0.16172400000000001,3.1580999999999998E-2,150,150]
[6018,6173,"2A",0.16172400000000001,3.1580999999999998E-2,150,150]
[6024,6060,"3B",0.11812,2.1739999999999999E-2,168,168]
[6059,6066,"30",3.1570000000000001E-2,7.6649999999999999E-3,120,120]
[6059,6074,"23",4.0000000000000002E-4,0,90.6,90.6]
[6059,6173,"2B",2.2409999999999999E-2,4.3660000000000001E-3,211,211]
[6059,6270,"0A",5.0000000000000001E-4,5.0000000000000001E-4,93,93]
[6059,6290,"1C",2.5300000000000001E-3,4.6999999999999999E-4,211,211]
[6060,6074,"26",4.0000000000000002E-4,0,90.6,90.6]
[6060,6170,"4B",9.2619999999999994E-2,1.7049999999999999E-2,120,120]
[6060,6270,"0B",5.0000000000000001E-4,5.0000000000000001E-4,93,93]
[6087,6088,"17",2.0400000000000001E-2,4.1999999999999997E-3,93,93]
[6087,6092,"18",7.0000000000000001E-3,1.5E-3,93,93]
[6096,6179,"18",1.4399E-2,1.6149999999999999E-3,290,290]
[6096,6263,"0A",9.0589000000000003E-2,1.5886999999999998E-2,304,304]
[6100,6171,"1A",4.367E-2,9.1500000000000001E-3,202,202]
[6170,6280,"43",7.3299999999999997E-3,1.5900000000000001E-3,159,159]
[6173,6290,"1B",2.2769999999999999E-2,4.3E-3,211,211]
[6178,6179,"19",1.8600000000000001E-3,2.2000000000000001E-4,193,193]
[6179,6182,"16",7.7799999999999994E-2,8.5000000000000006E-3,275,275]
[6179,6182,"17",7.7799999999999994E-2,8.5000000000000006E-3,275,275]
[6179,6360,"22",3.0500000000000002E-3,5.4200000000000003E-3,131,131]
[6179,6340,"29",3.9600000000000003E-2,4.4400000000000004E-3,276,276]
[6260,6263,"0B",2.239E-2,3.9269999999999999E-3,304,304]
[6260,6340,"30",7.1190000000000003E-2,1.2485E-2,304,304]
[6260,6400,"21",1.4760000000000001E-2,2.4399999999999999E-3,304,304]
[6360,6363,"23",4.0600000000000002E-3,7.2300000000000003E-3,131,131]
[6363,6366,"24",3.5500000000000002E-3,6.3299999999999997E-3,131,131]
[6400,58350,"1",4.3150000000000001E-2,7.1199999999999996E-3,333,333]
[6500,56050,"1",2.068E-2,3.2000000000000002E-3,338,338]
[12007,12195,"1",6.028E-2,2.1860000000000001E-2,83.8,83.8]
[12007,12225,"1",2.9739999999999999E-2,9.7800000000000005E-3,83.8,83.8]
[12036,12089,"1",6.6600000000000001E-3,2E-3,83.8,83.8]
[12036,12257,"1",1.387E-2,4.5100000000000001E-3,83.8,83.8]
[12047,12142,"1",7.9000000000000001E-4,1.9000000000000001E-4,94.4,94.4]
[12049,12239,"1",9.1800000000000007E-3,2.8999999999999998E-3,83.8,83.8]
[12094,12251,"1",8.8100000000000001E-3,4.8599999999999997E-3,51.2,51.2]
[12127,12129,"1",2.5600000000000001E-2,1.374E-2,58,58]
[12127,12239,"1",4.2840000000000003E-2,1.355E-2,83.8,83.8]
[12129,12154,"1",1.0659999999999999E-2,3.47E-3,83.8,83.8]
[12142,12205,"1",5.101E-2,1.2370000000000001E-2,94.41,94.41]
[12154,12257,"1",5.6600000000000001E-3,1.8400000000000001E-3,83.8,83.8]
[12183,12238,"1",1.2109999999999999E-2,4.45E-3,74.900000000000006,74.900000000000006]
[12195,12242,"1",3.7699999999999999E-3,1.3699999999999999E-3,83.8,83.8]
[12218,12234,"1",1.6549999999999999E-2,7.2500000000000004E-3,67.599999999999994,67.599999999999994]
[12218,12254,"1",1.48E-3,6.5199999999999998E-3,63.58,63.58]
[12221,12234,"1",3.48E-3,1.08E-3,84.3,84.3]
[12221,12243,"1",9.2499999999999995E-3,2.8800000000000002E-3,84.3,84.3]
[12238,12280,"1",3.0700000000000002E-2,1.1129999999999999E-2,74.900000000000006,74.900000000000006]
[12242,12269,"1",1.3440000000000001E-2,4.3899999999999998E-3,83.8,83.8]
[12257,12258,"1",4.4900000000000001E-3,5.6499999999999996E-3,24.71,24.71]
[27101,27171,"1",4.2259999999999999E-2,9.3299999999999998E-3,266,266]
[27101,27321,"1",6.6830000000000001E-2,1.3679999999999999E-2,266,266]
[27111,27351,"1",8.1000000000000003E-2,2.7380000000000002E-2,133,133]
[27131,27411,"1",7.0809999999999998E-2,2.1389999999999999E-2,133,133]
[27131,27411,"2",7.0279999999999995E-2,2.384E-2,133,133]
[27131,27441,"1",0.12758,2.674E-2,266,266]
[27161,27351,"1",0.10879999999999999,3.313E-2,133,133]
[27161,27411,"1",7.5759999999999994E-2,2.283E-2,133,133]
[27171,27321,"1",9.3049999999999994E-2,3.1690000000000003E-2,133,133]
[27171,27371,"1",7.9100000000000004E-2,1.8259999999999998E-2,266,266]
[27171,27371,"2",7.9100000000000004E-2,1.8259999999999998E-2,266,266]
[27181,27211,"1",4.5229999999999999E-2,1.4200000000000001E-2,133,133]
[27181,27321,"1",0.12214999999999999,3.7330000000000002E-2,133,133]
[27181,27341,"1",0.15384,3.9969999999999999E-2,133,133]
[27181,27431,"1",0.17971999999999999,6.241E-2,133,133]
[27181,27431,"2",0.17971999999999999,6.241E-2,133,133]
[27211,27341,"1",0.11688,4.0230000000000002E-2,133,133]
[27301,27371,"1",2.2110000000000001E-2,4.6100000000000004E-3,266,266]
[27301,27431,"1",2.6100000000000002E-2,6.0800000000000003E-3,266,266]
[27321,27431,"1",4.8579999999999998E-2,1.052E-2,266,266]
[27341,27401,"1",0.13209000000000001,3.9719999999999998E-2,133,133]
[27351,27381,"1",6.7780000000000007E-2,2.0969999999999999E-2,133,133]
[27361,27371,"1",1.511E-2,3.4399999999999999E-3,266,266]
[27361,27481,"1",6.7119999999999999E-2,1.031E-2,266,266]
[27371,27431,"1",3.5999999999999997E-2,7.5100000000000002E-3,266,266]
[27381,27411,"1",0.12099,4.0840000000000001E-2,133,133]
[27391,27401,"1",0.11362,3.4169999999999999E-2,133,133]
[27411,27441,"1",8.7069999999999995E-2,2.928E-2,133,133]
[27421,27441,"1",5.2749999999999998E-2,1.1860000000000001E-2,266,266]
[27421,27461,"1",4.1529999999999997E-2,8.9800000000000001E-3,266,266]
[27431,27451,"1",1.52E-2,5.4299999999999999E-3,133,133]
[27431,27451,"2",1.52E-2,5.4299999999999999E-3,133,133]
[27431,27461,"1",3.2710000000000003E-2,7.0699999999999999E-3,266,266]
[27441,27481,"1",7.7200000000000003E-3,1.1900000000000001E-3,266,266]
[27461,27471,"1",8.0820000000000003E-2,2.4340000000000001E-2,133,133]
[28161,28371,"1",8.9289999999999994E-2,1.116E-2,374,374]
[28161,28371,"2",8.9289999999999994E-2,1.116E-2,374,374]
[28161,29161,"1",1.6930000000000001E-2,2.1199999999999999E-3,374,374]
[28181,28371,"1",8.7150000000000005E-2,1.09E-2,374,374]
[28181,28371,"2",8.7150000000000005E-2,1.09E-2,374,374]
[28181,29181,"1",5.2720000000000003E-2,1.155E-2,533.79999999999995,533.79999999999995]
[28181,29182,"2",8.5070000000000007E-2,1.316E-2,374,374]
[50000,50050,"1",3.7999999999999999E-2,5.79E-3,518,518]
[50000,51150,"1",1.959E-2,3.5000000000000001E-3,560,560]
[50000,51200,"1",2.189E-2,3.5200000000000001E-3,173,173]
[50050,50100,"1",6.9779999999999998E-3,7.9699999999999997E-4,635,635]
[50050,50900,"1",4.0430000000000001E-2,7.0499999999999998E-3,465,465]
[50054,50454,"1",6.4670000000000005E-2,2.5999999999999999E-2,65,65]
[50054,50604,"1",0.11632000000000001,4.2639999999999997E-2,65,65]
[50100,50103,"1",2.9750000000000002E-3,5.0000000000000001E-4,48,48]
[50100,50200,"1",9.0799999999999995E-3,1.66E-3,350,350]
[50200,50250,"1",3.3505E-2,4.9370000000000004E-3,518,518]
[50200,50900,"1",5.1339999999999997E-2,9.5499999999999995E-3,390,390]
[50200,53050,"1",0.10746,2.0070000000000001E-2,389,389]
[50250,50253,"1",2.1800000000000001E-3,3.3E-4,149,149]
[50250,50300,"1",7.8100000000000001E-3,1.39E-3,390,390]
[50300,51150,"1",1.736E-2,2.8600000000000001E-3,380,380]
[50350,50900,"1",5.3400000000000001E-3,7.9000000000000001E-4,547,547]
[50350,53200,"1",2.6800000000000001E-2,4.8300000000000001E-3,480,480]
[50354,50404,"1",1.542E-2,2.3600000000000001E-3,115,115]
[50454,50499,"1",8.9899999999999997E-3,3.6099999999999999E-3,65,65]
[50454,50554,"1",8.6699999999999999E-2,3.5540000000000002E-2,65,65]
[50504,50604,"1",7.6340000000000005E-2,2.657E-2,65,65]
[50650,50750,"1",1.541E-2,2.3900000000000002E-3,400,400]
[50650,50800,"1",1.238E-2,1.8699999999999999E-3,400,400]
[50700,50750,"1",5.4099999999999999E-3,7.6000000000000004E-4,400,400]
[50700,50950,"1",5.8399999999999997E-3,8.8000000000000003E-4,400,400]
[50950,53150,"1",3.024E-2,4.4000000000000003E-3,400,400]
[51200,51250,"1",2.6159999999999999E-2,3.9899999999999996E-3,173,173]
[53000,53050,"1",5.0699999999999999E-3,9.3999999999999997E-4,389,389]
[53000,53050,"2",5.7099999999999998E-3,8.4999999999999995E-4,380,380]
[53000,53100,"1",3.4299999999999999E-3,5.5999999999999995E-4,380,380]
[53000,53100,"2",3.32E-3,5.4000000000000001E-4,380,380]
[53004,53204,"1",5.4129999999999998E-2,1.278E-2,110,110]
[53004,53304,"1",3.8390000000000001E-2,9.2700000000000005E-3,110,110]
[53004,53354,"1",8.8599999999999998E-3,2.0999999999999999E-3,190,190]
[53004,53454,"1",2.9579999999999999E-2,6.8199999999999997E-3,190,190]
[53004,53604,"1",1.8440000000000002E-2,4.3499999999999997E-3,110,110]
[53004,53654,"1",2.0639999999999999E-2,4.8770000000000003E-3,110,110]
[53050,53150,"1",1.7998E-2,2.7360000000000002E-3,380,380]
[53050,53150,"2",1.8051000000000001E-2,2.7390000000000001E-3,380,380]
[53050,53900,"1",3.0589999999999999E-2,4.6899999999999997E-3,343,343]
[53050,53900,"2",3.0557000000000001E-2,4.6860000000000001E-3,343,343]
[53154,53654,"1",1.325E-2,3.14E-3,190,190]
[53154,53654,"2",1.325E-2,3.14E-3,190,190]
[53154,53704,"1",1.7670000000000002E-2,4.1799999999999997E-3,190,190]
[53154,58004,"1",8.9539999999999995E-2,2.1180000000000001E-2,190,190]
[53204,53254,"1",4.7989999999999998E-2,1.0540000000000001E-2,146,146]
[53204,53304,"1",4.6339999999999999E-2,1.1140000000000001E-2,110,110]
[53204,54104,"1",4.4720000000000003E-2,9.9900000000000006E-3,173,173]
[53254,54104,"1",3.7789999999999997E-2,8.7600000000000004E-3,104,104]
[53354,53404,"1",4.0910000000000002E-2,9.7199999999999995E-3,190,190]
[53454,53754,"1",8.3759E-2,1.6219999999999998E-2,190,190]
[53604,53654,"1",1.6549999999999999E-2,3.0899999999999999E-3,110,110]
[53704,58004,"1",8.7080000000000005E-2,2.061E-2,190,190]
[53754,53756,"1",3.5999999999999999E-3,8.0999999999999996E-4,40,40]
[53754,53854,"1",2.0910000000000002E-2,4.9500000000000004E-3,190,190]
[53754,58104,"1",8.1479999999999997E-2,1.2840000000000001E-2,240,240]
[53850,54050,"1",1.4017999999999999E-2,2.1090000000000002E-3,345,345]
[53850,56000,"1",5.2669000000000001E-2,9.6570000000000007E-3,200,200]
[53854,58004,"1",2.75E-2,3.3999999999999998E-3,230,230]
[53900,54000,"1",3.8350000000000002E-2,6.0600000000000003E-3,343,343]
[53900,54250,"1",3.0589999999999999E-2,4.6800000000000001E-3,343,343]
[54000,54250,"1",8.8599999999999998E-3,1.3600000000000001E-3,343,343]
[54000,56100,"10",0.11821,1.8280000000000001E-2,338,338]
[54154,58004,"1",2.0369999999999999E-2,4.4999999999999997E-3,110,110]
[54500,58200,"1",1.4394000000000001E-2,1.7639999999999999E-3,451,451]
[56000,56100,"1",5.0639999999999998E-2,9.3299999999999998E-3,200,200]
[56050,56100,"1",4.5069999999999999E-2,8.26E-3,259,259]
[58004,58054,"1",2.368E-2,5.62E-3,190,190]
[58004,58104,"1",3.7769999999999998E-2,8.94E-3,190,190]
[58054,58104,"1",1.405E-2,3.3400000000000001E-3,190,190]
[58300,58350,"1",3.9460000000000002E-2,7.2300000000000003E-3,259,259]
[24161,28161,"1",0.26924999999999999,5.3699999999999998E-3,50,50]
[27161,24161,"1",0.21274999999999999,4.8599999999999997E-3,50,50]
[28161,27161,"1",4.7199999999999999E-2,1.4E-3,156.30000000000001,156.30000000000001]
[24161,28161,"2",0.26924999999999999,5.4099999999999999E-3,50,50]
[27161,24161,"2",0.21199999999999999,4.8700000000000002E-3,50,50]
[28161,27161,"2",4.7359999999999999E-2,1.4E-3,156.30000000000001,156.30000000000001]
[24181,28181,"1",0.21540000000000001,5.4099999999999999E-3,50,50]
[27181,24181,"1",0.1734,5.6699999999999997E-3,50,50]
[28181,27181,"1",3.8269999999999998E-2,9.2000000000000003E-4,156.30000000000001,156.30000000000001]
[24181,28181,"2",0.21540000000000001,5.5500000000000002E-3,50,50]
[27181,24181,"2",0.17380000000000001,5.7600000000000004E-3,50,50]
[28181,27181,"2",3.8269999999999998E-2,9.3000000000000005E-4,156.30000000000001,156.30000000000001]
[54200,53550,"1",1.3899999999999999E-2,1.7700000000000001E-3,348,348]
[53404,53854,"1",8.3339999999999997E-2,1.9743E-2,190,190]
[27281,27391,"1",2.5690000000000001E-2,6.3810000000000004E-3,133,133]
[4315,4392,"1",1.3440000000000001E-2,2.65E-3,200,200]
[4392,4919,"1",0.63729999999999998,0,25,25]
[4419,4392,"1",0.11466,0,71.3,71.3]
[4919,4419,"1",0.84599999999999997,0,25,25]
[4342,4392,"1",6.4798999999999995E-2,1.5369000000000001E-2,133.9,133.9]
[53150,53550,"1",1.9400000000000001E-2,2.457E-3,350,350]
[6008,6009,"T3",9.1399999999999995E-2,0,100,100]
[6380,6381,"T2",0.245,0,83.33,83.33]
[53550,54050,"1",1.3651999999999999E-2,1.3940000000000001E-3,382,382]
[27281,27321,"1",9.0305999999999997E-2,2.2423999999999999E-2,133,133]
[4350,4318,"1",1.49E-2,3.3E-3,133.9,133.9]
[4350,4329,"1",0.10829999999999999,2.41E-2,133.9,133.9]
[4359,4350,"1",1.2E-2,2.7000000000000001E-3,133.9,133.9]
[4341,4359,"1",9.1499999999999998E-2,2.1399999999999999E-2,133.9,133.9]
[4328,4359,"1",7.6499999999999999E-2,1.9300000000000001E-2,133.9,133.9]
[1219,1140,"1",2.5426000000000001E-2,4.4029999999999998E-3,438.2,438.2]
[6001,6002,"T5",2.9190000000000001E-2,0,350,350]
[1168,1132,"1",5.0419999999999996E-3,8.7299999999999997E-4,438.2,438.2]
[1169,1168,"1",7.1729999999999997E-3,1.242E-3,438.2,438.2]
[1165,1169,"1",5.9329999999999999E-3,1.0280000000000001E-3,438.2,438.2]
[58500,58600,"1",4.2509999999999999E-2,4.568E-3,573,573]
[58300,58600,"1",3.3600000000000001E-3,3.8400000000000001E-4,573,573]
[6015,6016,"T1",0.23,0,50,50]
[6016,6014,"T1",0.38,0,50,50]
[6014,6015,"T2",0.1226,0,50,50]
[6015,6016,"T2",0.2286,0,50,50]
[6016,6014,"T2",0.38500000000000001,0,50,50]
[6260,6261,"T1",0.125,0,50,50]
[6261,6262,"T1",0.2293,0,50,50]
[6262,6260,"T1",0.379,0,50,50]
[4315,4908,"1",0.76466999999999996,2.3130000000000001E-2,25,25]
[4401,4315,"1",0.13755999999999999,4.9100000000000003E-3,75,75]
[4908,4401,"1",1.0213300000000001,2.5329999999999998E-2,25,25]
[4315,4910,"1",0.76466999999999996,2.3130000000000001E-2,25,25]
[4401,4315,"1",0.13755999999999999,4.9100000000000003E-3,75,75]
[4910,4401,"1",1.0153300000000001,2.5329999999999998E-2,25,25]
[4319,4916,"1",0.26879999999999998,0,25,25]
[4404,4319,"1",0.14052999999999999,0,75,75]
[4916,4404,"1",0.42599999999999999,0,25,25]
[4319,4918,"2",0.26800000000000002,0,25,25]
[4404,4319,"2",0.13986999999999999,0,75,75]
[4918,4404,"2",0.4244,0,25,25]
[4319,4927,"3",0.26267000000000001,0,25,25]
[4404,4319,"3",0.13667000000000001,0,75,75]
[4927,4404,"3",0.42799999999999999,0,25,25]
[4340,4920,"1",0.54432999999999998,0,25,25]
[4406,4340,"1",0.12675,0,75,75]
[4920,4406,"1",0.70440000000000003,0,25,25]
[4340,4922,"2",0.54432999999999998,0,25,25]
[4406,4340,"2",0.12675,0,75,75]
[4922,4406,"2",0.70440000000000003,0,25,25]
[1102,1151,"1",0.1636,0,100,100]
[1128,1110,"1",9.9930000000000005E-2,0,245,245]
[1126,1434,"1",0.11700000000000001,0,100,100]
[1219,1218,"1",0.1636,0,300,300]
[1422,1411,"1",0.19400000000000001,0,30,30]
[1444,1447,"1",8.3330000000000001E-2,0,180,180]
[1106,1113,"1",0.11570999999999999,0,180,180]
[1113,1502,"1",7.0860000000000006E-2,0,60,60]
[1502,1106,"1",0.20305000000000001,0,60,60]
[1106,1151,"1",0.11899999999999999,0,120,120]
[1151,1504,"1",7.3639999999999997E-2,0,36,36]
[1504,1106,"1",0.21078,0,36,36]
[1107,1155,"1",6.1490000000000003E-2,0,234,234]
[1155,1507,"1",3.7999999999999999E-2,0,81.900000000000006,81.900000000000006]
[1507,1107,"1",0.10964,0,81.900000000000006,81.900000000000006]
[1110,1306,"1",0.11570999999999999,0,180,180]
[1306,1501,"1",7.0860000000000006E-2,0,60,60]
[1501,1110,"1",0.20305000000000001,0,60,60]
[1114,1154,"1",8.2000000000000003E-2,0,90,90]
[1154,1509,"1",5.0700000000000002E-2,0,30,30]
[1509,1114,"1",0.1452,0,30,30]
[1119,1820,"1",6.361E-2,0,150,150]
[1519,1119,"1",0.1958,0,50,50]
[1820,1519,"1",0.28162999999999999,0,50,50]
[1119,1304,"1",0.12330000000000001,0,180,180]
[1304,1506,"1",7.2669999999999998E-2,0,60,60]
[1506,1119,"1",0.20799999999999999,0,60,60]
[1409,1521,"1",0.22286,0,42,42]
[1499,1409,"1",0.11425,0,150,150]
[1521,1499,"1",6.1190000000000001E-2,0,42,42]
[1409,1516,"1",7.2669999999999998E-2,0,55,55]
[1516,1710,"1",0.20305000000000001,0,55,55]
[1710,1409,"1",0.11743000000000001,0,165,165]
[1305,1520,"1",0.17455999999999999,0,30,30]
[1520,1822,"1",0.32467000000000001,0,30,30]
[1822,1305,"1",0.12772,0,90,90]
[3030,3033,"1",0.13100000000000001,0,120,120]
[3113,3030,"1",0.20666999999999999,0,53,53]
[3113,3030,"2",0.20832999999999999,0,60,60]
[3036,3037,"1",0.20666999999999999,0,60,60]
[3095,3038,"1",8.8889999999999997E-2,0,160,160]
[3095,3038,"2",8.7779999999999997E-2,0,165,165]
[3100,3101,"1",0.22,0,55,55]
[3122,3116,"1",0.22420000000000001,0,50,50]
[3120,3155,"1",0.15332999999999999,0,84,84]
[3030,3131,"1",0.18667,9.1699999999999993E-3,30,30]
[3033,3030,"1",0.13,4.8999999999999998E-3,100,100]
[3131,3033,"1",0.32667000000000002,6.5500000000000003E-3,30,30]
[3030,3132,"1",0.185,9.1699999999999993E-3,30,30]
[3033,3030,"1",0.13167000000000001,4.8999999999999998E-3,100,100]
[3132,3033,"1",0.32667000000000002,6.5500000000000003E-3,30,30]
[3427,3428,"1",0.57148900000000002,0,150,150]
[3428,3429,"1",0.341422,0,150,150]
[3429,3427,"1",8.5366999999999998E-2,0,150,150]
[1102,1109,"1",3.0640000000000001E-2,5.8900000000000003E-3,491.6,491.6]
[1106,1120,"1",3.0400000000000002E-3,5.5999999999999995E-4,491.6,491.6]
[1110,1145,"1",1.9220000000000001E-2,3.5699999999999998E-3,491.6,491.6]
[1128,14320,"1",1.7389999999999999E-2,1.2099999999999999E-3,1517,1517]
[1132,1145,"1",3.875E-2,7.1999999999999998E-3,491.6,491.6]
[1217,12283,"1",7.9850000000000004E-2,4.3990000000000001E-2,51.2,51.2]
[12204,12282,"1",5.9470000000000002E-2,1.443E-2,94.41,94.41]
[3183,3190,"1",4.9079999999999999E-2,7.5900000000000004E-3,374,374]
[6014,6330,"27",2.249E-2,4.0000000000000001E-3,193,193]
[6059,6060,"1",8.0000000000000004E-4,1.0000000000000001E-5,115,115]
[4402,4403,"1",3.0439999999999998E-2,5.8700000000000002E-3,225.4,225.4]
[28161,29162,"2",8.8500000000000002E-3,1.67E-3,491.6,491.6]
[6005,6006,"T3",0.16420000000000001,0,50,50]
[6006,6007,"T3",5.2200000000000003E-2,0,50,50]
[6007,6005,"T3",8.6999999999999994E-2,0,100,100]
[53150,54200,"1",5.1700000000000001E-3,6.6E-4,345,345]
[1206,12178,"1",3.0970000000000001E-2,1.7059999999999999E-2,51.2,51.2]
[1207,12178,"1",2.7459999999999998E-2,8.6800000000000002E-3,94.4,94.4]
[12047,12178,"1",1.5270000000000001E-2,3.7000000000000002E-3,94.4,94.4]
[1113,1755,"1",4.7030000000000002E-2,1.355E-2,147.5,147.5]
[1423,1755,"1",0.10451000000000001,3.0120000000000001E-2,147.5,147.5]
[4750,4408,"1",1.8550000000000001E-2,2.8500000000000001E-3,225.4,225.4]
[6331,6332,"44",9.5299999999999996E-2,1.8200000000000001E-2,93,93]
[53200,53050,"1",1.4905E-2,2.4099999999999998E-3,480,480]
[53854,53850,"2",0.1535,0,110,110]
[53854,53850,"1",0.1515,0,110,110]
[1126,29162,"1",1.7829999999999999E-2,3.3400000000000001E-3,491.6,491.6]
[58300,58304,"1",9.4600000000000004E-2,0,110,110]
[58304,58300,"2",0.1535,0,110,110]
[53154,53150,"1",6.0199999999999997E-2,0,110,110]
[53154,53150,"2",7.17E-2,0,100,100]
[53154,53150,"3",5.8599999999999999E-2,0,110,110]
[50050,50054,"1",6.0199999999999997E-2,0,110,110]
[50350,50354,"1",0.06,0,110,110]
[53004,53000,"1",6.3600000000000004E-2,0,110,110]
[53004,53000,"2",7.1999999999999995E-2,0,100,100]
[53004,53000,"3",7.1999999999999995E-2,0,100,100]
[53004,53000,"4",7.2700000000000001E-2,0,100,100]
[6003,6460,"3A",0.121085,1.3568999999999999E-2,275,275]
[6008,6460,"2B",5.382E-2,6.0299999999999998E-3,275,275]
[6008,6460,"3B",5.382E-2,6.0299999999999998E-3,275,275]
[1108,1153,"2",8.3330000000000001E-2,0,150,150]
[1153,1503,"2",4.8599999999999997E-2,0,60,60]
[1503,1108,"2",0.1474,0,60,60]
[1108,1153,"3",8.3330000000000001E-2,0,150,150]
[1153,1505,"3",4.8599999999999997E-2,0,60,60]
[1505,1108,"3",0.1474,0,60,60]
[1114,1154,"2",8.2000000000000003E-2,0,75,75]
[1154,1511,"2",5.0700000000000002E-2,0,30,30]
[1511,1114,"2",0.1452,0,30,30]
[1108,1153,"4",8.3330000000000001E-2,0,150,150]
[1153,1518,"4",4.8599999999999997E-2,0,60,60]
[1518,1108,"4",0.1474,0,60,60]
[1109,1154,"4",0.15429000000000001,0,120,120]
[1109,1154,"5",6.1490000000000003E-2,0,195,195]
[1107,1155,"2",6.1490000000000003E-2,0,195,195]
[1155,1522,"2",3.7999999999999999E-2,0,195,195]
[1522,1107,"2",0.10964,0,195,195]
[1109,1154,"3",8.3330000000000001E-2,0,150,150]
[1154,1513,"3",4.8000000000000001E-2,0,60,60]
[1513,1109,"3",0.154,0,60,60]
[1403,1764,"1",0.20238,5.8340000000000003E-2,66.7,66.7]
[1764,1429,"1",0.39483000000000001,0.11382,66.7,66.7]
[1107,1108,"2",1.247E-2,2.4099999999999998E-3,558.5,558.5]
[1107,1109,"2",8.4899999999999993E-3,1.64E-3,558.5,558.5]
[6440,6441,"33",1.5723000000000001E-2,3.2439999999999999E-3,374,374]
[6440,6442,"34",1.0962E-2,2.2620000000000001E-3,374,374]
[6182,6440,"5A",0.130216,1.6972999999999999E-2,374,374]
[6440,6500,"5B",7.3359999999999996E-3,9.5600000000000004E-4,374,374]
[50200,50150,"1",4.2329999999999998E-3,5.22E-4,400,400]
[50150,50800,"1",4.1028000000000002E-2,5.0759999999999998E-3,400,400]
[6440,6443,"35",6.3899999999999998E-3,8.2200000000000003E-4,374,374]
[3032,3550,"1",6.4900000000000001E-3,1.209E-3,405.1,405.1]
[3095,3550,"1",3.5555999999999997E-2,6.6940000000000003E-3,405.1,405.1]
[3037,3179,"1",2.2908999999999999E-2,5.1830000000000001E-3,160,160]
[3049,3179,"1",1.0534999999999999E-2,2.3839999999999998E-3,170,170]
[1124,29161,"1",8.2669999999999993E-2,1.2789999999999999E-2,374,374]
[1124,1129,"1",3.8519999999999999E-2,7.1900000000000002E-3,390.4,390.4]
[1101,1124,"1",2.6519999999999998E-2,4.1000000000000003E-3,374,374]
[1108,1771,"1",5.2170000000000001E-2,8.0700000000000008E-3,374,374]
[1710,1771,"1",5.493E-2,8.5000000000000006E-3,374,374]
[1433,1772,"1",3.6483000000000002E-2,6.3449999999999999E-3,80.099999999999994,80.099999999999994]
[1524,1771,"1",0.149563,0,30.6,30.6]
[1771,1772,"1",0.149399,0,90,90]
[1772,1524,"1",0.149474,0,30.6,30.6]
[58150,58300,"1",3.5550999999999999E-2,3.8430000000000001E-3,518,518]
[1102,1140,"1",7.4200000000000004E-3,1.14E-3,370.6,370.6]
[1101,1140,"1",5.6100000000000004E-3,2.8300000000000001E-3,390.4,390.4]
[1120,1140,"1",4.4000000000000002E-4,2.2000000000000001E-4,390.4,390.4]
[53200,53204,"1",0.16439999999999999,0,110,110]
[53200,53204,"2",0.16439999999999999,0,110,110]
[1141,1771,"1",6.9556999999999994E-2,0.12046,438.2,438.2]
[58300,58304,"1",9.4600000000000004E-2,0,110,110]
[53854,53850,"2",6.5500000000000003E-2,0,110,110]
[53854,53850,"1",0.1515,0,110,110]
[58304,58300,"2",0.1535,0,110,110]
[53004,53000,"1",6.5799999999999997E-2,0,110,110]
[53004,53000,"2",7.1999999999999995E-2,0,100,100]
[53004,53000,"3",7.1999999999999995E-2,0,100,100]
[53004,53000,"4",7.2700000000000001E-2,0,100,100]
[50050,50054,"1",6.0199999999999997E-2,0,110,110]
[50350,50354,"1",0.06,0,110,110]
[53154,53150,"1",6.0199999999999997E-2,0,110,110]
[53154,53150,"2",7.17E-2,0,100,100]
[53154,53150,"3",5.8599999999999999E-2,0,110,110]
[4317,4357,"1",5.0522999999999998E-2,1.1006E-2,133.9,133.9]
[4327,4357,"1",6.9747000000000003E-2,1.5193999999999999E-2,133.9,133.9]
[4404,4420,"1",9.6287999999999999E-2,1.7635000000000001E-2,367,367]
[4357,4362,"2",0.26267000000000001,0,25,25]
[4362,4420,"2",0.42799999999999999,0,25,25]
[4420,4357,"2",0.13667000000000001,0,71.3,71.3]
[4357,4358,"1",0.26267000000000001,0,25,25]
[4358,4420,"1",0.42799999999999999,0,25,25]
[4420,4357,"1",0.13667000000000001,0,71.3,71.3]
[6014,6510,"8A",1.7250000000000001E-2,3.5400000000000002E-3,193,193]
[6330,6510,"8B",5.9800000000000001E-3,1.23E-3,193,193]
[6510,6511,"36",4.2999999999999999E-4,8.0000000000000007E-5,193,193]
[6511,6513,"37",2.1800000000000001E-3,4.0999999999999999E-4,193,193]
[6261,6490,"50",3.6769999999999997E-2,1.0397E-2,40,40]
[6005,6240,"3B",7.2330000000000005E-2,1.404E-2,247,247]
[6008,6240,"3C",5.237E-2,1.0160000000000001E-2,320,320]
[12030,12282,"1",5.3480000000000003E-3,1.2979999999999999E-3,94.4,94.4]
[12030,12177,"1",3.6729999999999999E-2,8.9099999999999995E-3,94.4,94.4]
[12029,12282,"1",5.4799999999999996E-3,1.33E-3,94.4,94.4]
[12281,12136,"1",9.7119999999999998E-2,2.3560000000000001E-2,94.4,94.4]
[12283,12292,"1",1E-4,1E-4,170,170]
[12031,12136,"1",0.1351,7.2520000000000001E-2,79.400000000000006,79.400000000000006]
[12029,12031,"1",2.7999999999999998E-4,1.4999999999999999E-4,79.400000000000006,79.400000000000006]
[12292,12295,"1",5.0810000000000001E-2,1.2326999999999999E-2,79.400000000000006,79.400000000000006]
[12295,12144,"1",9.8055000000000003E-2,2.3788E-2,79.400000000000006,79.400000000000006]
[12108,12144,"1",3.8000000000000002E-4,2.0000000000000001E-4,41,41]
[1251,12292,"1",4.9027000000000001E-2,1.1894E-2,79.400000000000006,79.400000000000006]
[12292,12294,"1",5.0810000000000001E-2,1.2326999999999999E-2,79.400000000000006,79.400000000000006]
[12136,12294,"1",9.8055000000000003E-2,2.3788E-2,79.400000000000006,79.400000000000006]
[27341,27511,"1",3.8719000000000003E-2,7.1539999999999998E-3,260,260]
[27491,27511,"1",8.5142999999999996E-2,1.5730999999999998E-2,260,260]
[53850,58450,"1",2.401E-2,2.5579999999999999E-3,518,518]
[3408,3219,"1",2.954E-2,6.6800000000000002E-3,151.80000000000001,151.80000000000001]
[3037,3219,"1",4.5710000000000001E-2,1.034E-2,151.80000000000001,151.80000000000001]
[3310,3553,"1",1.6036000000000002E-2,2.444E-3,317.3,317.3]
[3034,3553,"1",1.7325E-2,2.6410000000000001E-3,317.3,317.3]
[1107,1170,"1",0.12286,2.2399999999999998E-3,390.4,390.4]
[1170,1124,"1",7.7999999999999996E-3,1.42E-3,390.4,390.4]
[1423,1795,"1",3.7200000000000002E-3,1.07E-3,117.1,117.1]
[1434,1795,"1",0.12654000000000001,3.6479999999999999E-2,117.1,117.1]
[50950,54500,"1",5.178E-2,5.5370000000000003E-3,518,518]
[22372,28371,"1",0.26924999999999999,5.3699999999999998E-3,50,50]
[27371,22372,"1",0.21274999999999999,4.8599999999999997E-3,50,50]
[28371,27371,"1",4.7199999999999999E-2,1.4E-3,156.30000000000001,156.30000000000001]
[22372,28371,"2",0.26924999999999999,5.3699999999999998E-3,50,50]
[27371,22372,"2",0.21274999999999999,4.8599999999999997E-3,50,50]
[28371,27371,"2",4.7199999999999999E-2,1.4E-3,156.30000000000001,156.30000000000001]
[6087,6300,"T1",0.24,0,62.5,62.5]
[6240,6241,"T1",0.245,0,50,50]
[6330,6331,"T1",0.13500000000000001,0,60,60]
[6380,6381,"T1",0.245,0,83.33,83.33]
[6001,6002,"T1",5.1400000000000001E-2,0,210,210]
[6002,6082,"T1",0.44950000000000001,0,30,30]
[6082,6001,"T1",0.52569999999999995,0,30,30]
[6001,6002,"T2",5.1400000000000001E-2,0,220,220]
[6002,6083,"T2",0.44950000000000001,0,40,40]
[6083,6001,"T2",0.52569999999999995,0,40,40]
[6001,6002,"T3",2.5700000000000001E-2,0,375,375]
[6002,6084,"T3",0.22470000000000001,0,75,75]
[6084,6001,"T3",0.26279999999999998,0,75,75]
[6003,6004,"T1",5.1400000000000001E-2,0,175,175]
[6004,6085,"T1",0.44950000000000001,0,30,30]
[6085,6003,"T1",0.52569999999999995,0,30,30]
[6003,6004,"T2",5.1400000000000001E-2,0,175,175]
[6004,6086,"T2",0.44950000000000001,0,30,30]
[6086,6003,"T2",0.52569999999999995,0,30,30]
[6005,6006,"T1",0.12,0,50,50]
[6006,6007,"T1",0.23,0,50,50]
[6007,6005,"T1",0.38,0,50,50]
[6005,6006,"T2",0.12,0,50,50]
[6006,6007,"T2",0.23,0,50,50]
[6007,6005,"T2",0.38,0,50,50]
[6008,6009,"T1",0.13139999999999999,0,60,60]
[6009,6010,"T1",0.32619999999999999,0,30,30]
[6010,6008,"T1",0.48809999999999998,0,30,30]
[6008,6009,"T2",0.13139999999999999,0,60,60]
[6009,6010,"T2",0.32619999999999999,0,30,30]
[6010,6008,"T2",0.48809999999999998,0,30,30]
[6011,6012,"T1",0.13139999999999999,0,60,60]
[6012,6013,"T1",0.32619999999999999,0,50,50]
[6013,6011,"T1",0.48809999999999998,0,50,50]
[6011,6012,"T2",0.13139999999999999,0,60,60]
[6012,6013,"T2",0.32619999999999999,0,50,50]
[6013,6011,"T2",0.48809999999999998,0,50,50]
[6011,6012,"T3",0.1341,0,60,60]
[6012,6013,"T3",0.3347,0,50,50]
[6013,6011,"T3",0.51049999999999995,0,50,50]
[6014,6015,"T1",0.12,0,50,50]

{"sheet":"g_m","index":1,"n_rows":557,"n_cols":3,"rows_kept":557,"cut":false,"hidden":false,"merged":[]}
["Nodo","Generacion","Demanda"]
[1101,{"$f":"Hoja4!E2","v":208.32},{"$f":"Hoja4!J2","v":0}]
[1102,{"$f":"Hoja4!E3","v":22.87},{"$f":"Hoja4!J3","v":35.031000000000006}]
[1103,{"$f":"Hoja4!E4","v":0},{"$f":"Hoja4!J4","v":0}]
[1105,{"$f":"Hoja4!E5","v":0},{"$f":"Hoja4!J5","v":0}]
[1106,{"$f":"Hoja4!E6","v":0},{"$f":"Hoja4!J6","v":29.522000000000002}]
[1107,{"$f":"Hoja4!E7","v":0},{"$f":"Hoja4!J7","v":106.91499999999999}]
[1108,{"$f":"Hoja4!E8","v":0},{"$f":"Hoja4!J8","v":122.56099999999999}]
[1109,{"$f":"Hoja4!E9","v":0},{"$f":"Hoja4!J9","v":162.45499999999998}]
[1110,{"$f":"Hoja4!E10","v":0},{"$f":"Hoja4!J10","v":0}]
[1111,{"$f":"Hoja4!E11","v":0},{"$f":"Hoja4!J11","v":0}]
[1113,{"$f":"Hoja4!E12","v":0},{"$f":"Hoja4!J12","v":0}]
[1114,{"$f":"Hoja4!E13","v":0},{"$f":"Hoja4!J13","v":0}]
[1115,{"$f":"Hoja4!E14","v":0},{"$f":"Hoja4!J14","v":0}]
[1117,{"$f":"Hoja4!E15","v":0},{"$f":"Hoja4!J15","v":0}]
[1119,{"$f":"Hoja4!E16","v":0},{"$f":"Hoja4!J16","v":0}]
[1120,{"$f":"Hoja4!E17","v":8.1431000000000004},{"$f":"Hoja4!J17","v":0}]
[1121,{"$f":"Hoja4!E18","v":0},{"$f":"Hoja4!J18","v":0}]
[1122,{"$f":"Hoja4!E19","v":0},{"$f":"Hoja4!J19","v":0}]
[1124,{"$f":"Hoja4!E20","v":0},{"$f":"Hoja4!J20","v":41.093000000000004}]
[1126,{"$f":"Hoja4!E21","v":0},{"$f":"Hoja4!J21","v":54.659000000000006}]
[1128,{"$f":"Hoja4!E22","v":0},{"$f":"Hoja4!J22","v":0}]
[1129,{"$f":"Hoja4!E23","v":0},{"$f":"Hoja4!J23","v":0}]
[1131,{"$f":"Hoja4!E24","v":0},{"$f":"Hoja4!J24","v":0}]
[1132,{"$f":"Hoja4!E25","v":0},{"$f":"Hoja4!J25","v":0}]
[1133,{"$f":"Hoja4!E26","v":17.953700000000001},{"$f":"Hoja4!J26","v":16.8}]
[1140,{"$f":"Hoja4!E27","v":123.2627},{"$f":"Hoja4!J27","v":26.7}]
[1141,{"$f":"Hoja4!E28","v":40.031999999999996},{"$f":"Hoja4!J28","v":0}]
[1145,{"$f":"Hoja4!E29","v":39.776000000000003},{"$f":"Hoja4!J29","v":0}]
[1151,{"$f":"Hoja4!E30","v":0},{"$f":"Hoja4!J30","v":0}]
[1153,{"$f":"Hoja4!E31","v":0},{"$f":"Hoja4!J31","v":0}]
[1154,{"$f":"Hoja4!E32","v":0},{"$f":"Hoja4!J32","v":0}]
[1155,{"$f":"Hoja4!E33","v":0},{"$f":"Hoja4!J33","v":0}]
[1159,{"$f":"Hoja4!E34","v":0},{"$f":"Hoja4!J34","v":0}]
[1163,{"$f":"Hoja4!E35","v":0},{"$f":"Hoja4!J35","v":0}]
[1164,{"$f":"Hoja4!E36","v":0},{"$f":"Hoja4!J36","v":0}]
[1165,{"$f":"Hoja4!E37","v":49.567999999999998},{"$f":"Hoja4!J37","v":0}]
[1166,{"$f":"Hoja4!E38","v":0},{"$f":"Hoja4!J38","v":0}]
[1168,{"$f":"Hoja4!E39","v":47.957000000000001},{"$f":"Hoja4!J39","v":0}]
[1169,{"$f":"Hoja4!E40","v":0},{"$f":"Hoja4!J40","v":0}]
[1170,{"$f":"Hoja4!E41","v":1.3495999999999999},{"$f":"Hoja4!J41","v":0}]
[1174,{"$f":"Hoja4!E42","v":0},{"$f":"Hoja4!J42","v":0}]
[1204,{"$f":"Hoja4!E43","v":0},{"$f":"Hoja4!J43","v":0}]
[1206,{"$f":"Hoja4!E44","v":0},{"$f":"Hoja4!J44","v":0}]
[1207,{"$f":"Hoja4!E45","v":0},{"$f":"Hoja4!J45","v":0}]
[1215,{"$f":"Hoja4!E46","v":0},{"$f":"Hoja4!J46","v":0}]
[1216,{"$f":"Hoja4!E47","v":0},{"$f":"Hoja4!J47","v":0}]
[1217,{"$f":"Hoja4!E48","v":0},{"$f":"Hoja4!J48","v":0}]
[1218,{"$f":"Hoja4!E49","v":0},{"$f":"Hoja4!J49","v":0}]
[1219,{"$f":"Hoja4!E50","v":68.570999999999998},{"$f":"Hoja4!J50","v":0}]
[1220,{"$f":"Hoja4!E51","v":0},{"$f":"Hoja4!J51","v":0}]
[1223,{"$f":"Hoja4!E52","v":0},{"$f":"Hoja4!J52","v":0}]
[1240,{"$f":"Hoja4!E53","v":0},{"$f":"Hoja4!J53","v":0}]
[1241,{"$f":"Hoja4!E54","v":0},{"$f":"Hoja4!J54","v":0}]
[1249,{"$f":"Hoja4!E55","v":0},{"$f":"Hoja4!J55","v":0}]
[1251,{"$f":"Hoja4!E56","v":0},{"$f":"Hoja4!J56","v":0}]
[1301,{"$f":"Hoja4!E57","v":0},{"$f":"Hoja4!J57","v":0}]
[1302,{"$f":"Hoja4!E58","v":0},{"$f":"Hoja4!J58","v":0}]
[1303,{"$f":"Hoja4!E59","v":0},{"$f":"Hoja4!J59","v":0}]
[1304,{"$f":"Hoja4!E60","v":0},{"$f":"Hoja4!J60","v":0}]
[1305,{"$f":"Hoja4!E61","v":0},{"$f":"Hoja4!J61","v":0}]
[1306,{"$f":"Hoja4!E62","v":0},{"$f":"Hoja4!J62","v":0}]
[1308,{"$f":"Hoja4!E63","v":0},{"$f":"Hoja4!J63","v":0}]
[1309,{"$f":"Hoja4!E64","v":0},{"$f":"Hoja4!J64","v":0}]
[1310,{"$f":"Hoja4!E65","v":0},{"$f":"Hoja4!J65","v":0}]
[1312,{"$f":"Hoja4!E66","v":0},{"$f":"Hoja4!J66","v":0}]
[1314,{"$f":"Hoja4!E67","v":0},{"$f":"Hoja4!J67","v":0}]
[1315,{"$f":"Hoja4!E68","v":0},{"$f":"Hoja4!J68","v":0}]
[1318,{"$f":"Hoja4!E69","v":0},{"$f":"Hoja4!J69","v":0}]
[1321,{"$f":"Hoja4!E70","v":0},{"$f":"Hoja4!J70","v":0}]
[1322,{"$f":"Hoja4!E71","v":0},{"$f":"Hoja4!J71","v":0}]
[1323,{"$f":"Hoja4!E72","v":0},{"$f":"Hoja4!J72","v":0}]
[1324,{"$f":"Hoja4!E73","v":0},{"$f":"Hoja4!J73","v":0}]
[1325,{"$f":"Hoja4!E74","v":0},{"$f":"Hoja4!J74","v":0}]
[1327,{"$f":"Hoja4!E75","v":0},{"$f":"Hoja4!J75","v":0}]
[1329,{"$f":"Hoja4!E76","v":0},{"$f":"Hoja4!J76","v":0}]
[1331,{"$f":"Hoja4!E77","v":0},{"$f":"Hoja4!J77","v":0}]
[1336,{"$f":"Hoja4!E78","v":0},{"$f":"Hoja4!J78","v":0}]
[1337,{"$f":"Hoja4!E79","v":0},{"$f":"Hoja4!J79","v":0}]
[1338,{"$f":"Hoja4!E80","v":0},{"$f":"Hoja4!J80","v":0}]
[1339,{"$f":"Hoja4!E81","v":0},{"$f":"Hoja4!J81","v":0}]
[1372,{"$f":"Hoja4!E82","v":0},{"$f":"Hoja4!J82","v":0}]
[1374,{"$f":"Hoja4!E83","v":0},{"$f":"Hoja4!J83","v":0}]
[1388,{"$f":"Hoja4!E84","v":0},{"$f":"Hoja4!J84","v":0}]
[1403,{"$f":"Hoja4!E85","v":0},{"$f":"Hoja4!J85","v":0}]
[1406,{"$f":"Hoja4!E86","v":0},{"$f":"Hoja4!J86","v":0}]
[1407,{"$f":"Hoja4!E87","v":0},{"$f":"Hoja4!J87","v":0}]
[1408,{"$f":"Hoja4!E88","v":0},{"$f":"Hoja4!J88","v":0}]
[1409,{"$f":"Hoja4!E89","v":0},{"$f":"Hoja4!J89","v":0}]
[1411,{"$f":"Hoja4!E90","v":0},{"$f":"Hoja4!J90","v":0}]
[1414,{"$f":"Hoja4!E91","v":0},{"$f":"Hoja4!J91","v":0}]
[1415,{"$f":"Hoja4!E92","v":0},{"$f":"Hoja4!J92","v":0}]
[1416,{"$f":"Hoja4!E93","v":0},{"$f":"Hoja4!J93","v":0}]
[1417,{"$f":"Hoja4!E94","v":0},{"$f":"Hoja4!J94","v":0}]
[1418,{"$f":"Hoja4!E95","v":0},{"$f":"Hoja4!J95","v":0}]
[1422,{"$f":"Hoja4!E96","v":0},{"$f":"Hoja4!J96","v":0}]
[1423,{"$f":"Hoja4!E97","v":0},{"$f":"Hoja4!J97","v":0}]
[1424,{"$f":"Hoja4!E98","v":0},{"$f":"Hoja4!J98","v":0}]
[1425,{"$f":"Hoja4!E99","v":0},{"$f":"Hoja4!J99","v":0}]
[1427,{"$f":"Hoja4!E100","v":0},{"$f":"Hoja4!J100","v":0}]
[1428,{"$f":"Hoja4!E101","v":0},{"$f":"Hoja4!J101","v":0}]
[1429,{"$f":"Hoja4!E102","v":0},{"$f":"Hoja4!J102","v":0}]
[1431,{"$f":"Hoja4!E103","v":0},{"$f":"Hoja4!J103","v":0}]
[1432,{"$f":"Hoja4!E104","v":0},{"$f":"Hoja4!J104","v":0}]
[1433,{"$f":"Hoja4!E105","v":0},{"$f":"Hoja4!J105","v":0}]
[1434,{"$f":"Hoja4!E106","v":0},{"$f":"Hoja4!J106","v":0}]
[1435,{"$f":"Hoja4!E107","v":0},{"$f":"Hoja4!J107","v":0}]
[1439,{"$f":"Hoja4!E108","v":0},{"$f":"Hoja4!J108","v":0}]
[1442,{"$f":"Hoja4!E109","v":0},{"$f":"Hoja4!J109","v":0}]
[1444,{"$f":"Hoja4!E110","v":33.241},{"$f":"Hoja4!J110","v":17.748000000000001}]
[1445,{"$f":"Hoja4!E111","v":0},{"$f":"Hoja4!J111","v":0}]
[1447,{"$f":"Hoja4!E112","v":0},{"$f":"Hoja4!J112","v":0}]
[1449,{"$f":"Hoja4!E113","v":0},{"$f":"Hoja4!J113","v":0}]
[1490,{"$f":"Hoja4!E114","v":0},{"$f":"Hoja4!J114","v":0}]
[1491,{"$f":"Hoja4!E115","v":0},{"$f":"Hoja4!J115","v":0}]
[1492,{"$f":"Hoja4!E116","v":0},{"$f":"Hoja4!J116","v":0}]
[1493,{"$f":"Hoja4!E117","v":0},{"$f":"Hoja4!J117","v":0}]
[1495,{"$f":"Hoja4!E118","v":0},{"$f":"Hoja4!J118","v":0}]
[1497,{"$f":"Hoja4!E119","v":0},{"$f":"Hoja4!J119","v":0}]
[1498,{"$f":"Hoja4!E120","v":0},{"$f":"Hoja4!J120","v":0}]
[1499,{"$f":"Hoja4!E121","v":0},{"$f":"Hoja4!J121","v":0}]
[1501,{"$f":"Hoja4!E122","v":0},{"$f":"Hoja4!J122","v":0}]
[1502,{"$f":"Hoja4!E123","v":0},{"$f":"Hoja4!J123","v":0}]
[1503,{"$f":"Hoja4!E124","v":0},{"$f":"Hoja4!J124","v":0}]
[1504,{"$f":"Hoja4!E125","v":0},{"$f":"Hoja4!J125","v":0}]
[1505,{"$f":"Hoja4!E126","v":0},{"$f":"Hoja4!J126","v":0}]
[1506,{"$f":"Hoja4!E127","v":0},{"$f":"Hoja4!J127","v":0}]
[1507,{"$f":"Hoja4!E128","v":0},{"$f":"Hoja4!J128","v":0}]
[1509,{"$f":"Hoja4!E129","v":0},{"$f":"Hoja4!J129","v":0}]
[1511,{"$f":"Hoja4!E130","v":0},{"$f":"Hoja4!J130","v":0}]
[1513,{"$f":"Hoja4!E131","v":0},{"$f":"Hoja4!J131","v":0}]
[1516,{"$f":"Hoja4!E132","v":0},{"$f":"Hoja4!J132","v":0}]
[1518,{"$f":"Hoja4!E133","v":0},{"$f":"Hoja4!J133","v":0}]
[1519,{"$f":"Hoja4!E134","v":0},{"$f":"Hoja4!J134","v":0}]
[1520,{"$f":"Hoja4!E135","v":0},{"$f":"Hoja4!J135","v":0}]
[1521,{"$f":"Hoja4!E136","v":0},{"$f":"Hoja4!J136","v":0}]
[1522,{"$f":"Hoja4!E137","v":0},{"$f":"Hoja4!J137","v":0}]
[1524,{"$f":"Hoja4!E138","v":0},{"$f":"Hoja4!J138","v":0}]
[1526,{"$f":"Hoja4!E139","v":0},{"$f":"Hoja4!J139","v":0}]
[1527,{"$f":"Hoja4!E140","v":0},{"$f":"Hoja4!J140","v":0}]
[1528,{"$f":"Hoja4!E141","v":0},{"$f":"Hoja4!J141","v":0}]
[1667,{"$f":"Hoja4!E142","v":0},{"$f":"Hoja4!J142","v":0}]
[1702,{"$f":"Hoja4!E143","v":0},{"$f":"Hoja4!J143","v":0}]
[1710,{"$f":"Hoja4!E144","v":0},{"$f":"Hoja4!J144","v":44.8752}]
[1713,{"$f":"Hoja4!E145","v":0},{"$f":"Hoja4!J145","v":0}]
[1714,{"$f":"Hoja4!E146","v":0},{"$f":"Hoja4!J146","v":0}]
[1715,{"$f":"Hoja4!E147","v":0},{"$f":"Hoja4!J147","v":0}]
[1718,{"$f":"Hoja4!E148","v":0},{"$f":"Hoja4!J148","v":0}]
[1719,{"$f":"Hoja4!E149","v":0},{"$f":"Hoja4!J149","v":0}]
[1730,{"$f":"Hoja4!E150","v":0},{"$f":"Hoja4!J150","v":0}]
[1732,{"$f":"Hoja4!E151","v":0},{"$f":"Hoja4!J151","v":0}]
[1735,{"$f":"Hoja4!E152","v":0},{"$f":"Hoja4!J152","v":0}]
[1736,{"$f":"Hoja4!E153","v":0},{"$f":"Hoja4!J153","v":0}]
[1755,{"$f":"Hoja4!E154","v":0},{"$f":"Hoja4!J154","v":0}]
[1758,{"$f":"Hoja4!E155","v":0},{"$f":"Hoja4!J155","v":0}]
[1762,{"$f":"Hoja4!E156","v":0},{"$f":"Hoja4!J156","v":0}]
[1764,{"$f":"Hoja4!E157","v":0},{"$f":"Hoja4!J157","v":0}]
[1771,{"$f":"Hoja4!E158","v":0},{"$f":"Hoja4!J158","v":27.6}]
[1772,{"$f":"Hoja4!E159","v":0},{"$f":"Hoja4!J159","v":0}]
[1795,{"$f":"Hoja4!E160","v":0},{"$f":"Hoja4!J160","v":0}]
[1810,{"$f":"Hoja4!E161","v":0},{"$f":"Hoja4!J161","v":0}]
[1813,{"$f":"Hoja4!E162","v":0},{"$f":"Hoja4!J162","v":0}]
[1816,{"$f":"Hoja4!E163","v":0},{"$f":"Hoja4!J163","v":0}]
[1820,{"$f":"Hoja4!E164","v":0},{"$f":"Hoja4!J164","v":0}]
[1821,{"$f":"Hoja4!E165","v":0},{"$f":"Hoja4!J165","v":0}]
[1822,{"$f":"Hoja4!E166","v":0},{"$f":"Hoja4!J166","v":0}]
[1823,{"$f":"Hoja4!E167","v":0},{"$f":"Hoja4!J167","v":0}]
[1828,{"$f":"Hoja4!E168","v":0},{"$f":"Hoja4!J168","v":0}]
[1832,{"$f":"Hoja4!E169","v":0},{"$f":"Hoja4!J169","v":0}]
[1833,{"$f":"Hoja4!E170","v":0},{"$f":"Hoja4!J170","v":0}]
[1835,{"$f":"Hoja4!E171","v":0},{"$f":"Hoja4!J171","v":0}]
[1840,{"$f":"Hoja4!E172","v":32.079000000000001},{"$f":"Hoja4!J172","v":0}]
[1841,{"$f":"Hoja4!E173","v":0},{"$f":"Hoja4!J173","v":0}]
[1842,{"$f":"Hoja4!E174","v":0},{"$f":"Hoja4!J174","v":0}]
[1845,{"$f":"Hoja4!E175","v":0},{"$f":"Hoja4!J175","v":0}]
[1846,{"$f":"Hoja4!E176","v":0},{"$f":"Hoja4!J176","v":0}]
[1857,{"$f":"Hoja4!E177","v":0},{"$f":"Hoja4!J177","v":0}]
[1862,{"$f":"Hoja4!E178","v":0},{"$f":"Hoja4!J178","v":0}]
[1863,{"$f":"Hoja4!E179","v":0},{"$f":"Hoja4!J179","v":0}]
[1869,{"$f":"Hoja4!E180","v":0},{"$f":"Hoja4!J180","v":0}]
[1908,{"$f":"Hoja4!E181","v":0},{"$f":"Hoja4!J181","v":0}]
[3029,{"$f":"Hoja4!E182","v":3.883},{"$f":"Hoja4!J182","v":34.0642}]
[3030,{"$f":"Hoja4!E183","v":0},{"$f":"Hoja4!J183","v":31.468599999999999}]
[3031,{"$f":"Hoja4!E184","v":0},{"$f":"Hoja4!J184","v":17.018699999999999}]
[3032,{"$f":"Hoja4!E185","v":88.9786},{"$f":"Hoja4!J185","v":1.6054999999999999}]
[3033,{"$f":"Hoja4!E186","v":0},{"$f":"Hoja4!J186","v":14.9315}]
[3034,{"$f":"Hoja4!E187","v":99.338000000000008},{"$f":"Hoja4!J187","v":29.140599999999999}]
[3036,{"$f":"Hoja4!E188","v":0},{"$f":"Hoja4!J188","v":0}]
[3037,{"$f":"Hoja4!E189","v":0},{"$f":"Hoja4!J189","v":51.056199999999997}]
[3038,{"$f":"Hoja4!E190","v":23.728000000000002},{"$f":"Hoja4!J190","v":19.618400000000001}]
[3040,{"$f":"Hoja4!E191","v":0},{"$f":"Hoja4!J191","v":9.4726999999999997}]
[3045,{"$f":"Hoja4!E192","v":0},{"$f":"Hoja4!J192","v":29.060300000000002}]
[3049,{"$f":"Hoja4!E193","v":0},{"$f":"Hoja4!J193","v":25.688700000000001}]
[3052,{"$f":"Hoja4!E194","v":0},{"$f":"Hoja4!J194","v":41.744100000000003}]
[3055,{"$f":"Hoja4!E195","v":6.4510000000000005},{"$f":"Hoja4!J195","v":56.1492}]
[3059,{"$f":"Hoja4!E196","v":0},{"$f":"Hoja4!J196","v":0}]
[3060,{"$f":"Hoja4!E197","v":3.9689999999999999},{"$f":"Hoja4!J197","v":30.023599999999998}]
[3064,{"$f":"Hoja4!E198","v":0},{"$f":"Hoja4!J198","v":2.8479999999999999}]
[3075,{"$f":"Hoja4!E199","v":0},{"$f":"Hoja4!J199","v":13.004899999999999}]
[3077,{"$f":"Hoja4!E200","v":0},{"$f":"Hoja4!J200","v":31.147500000000001}]
[3078,{"$f":"Hoja4!E201","v":0},{"$f":"Hoja4!J201","v":52.501199999999997}]
[3080,{"$f":"Hoja4!E202","v":0},{"$f":"Hoja4!J202","v":0}]
[3082,{"$f":"Hoja4!E203","v":5.9249999999999998},{"$f":"Hoja4!J203","v":7.2248999999999999}]
[3085,{"$f":"Hoja4!E204","v":0},{"$f":"Hoja4!J204","v":25.367599999999999}]
[3091,{"$f":"Hoja4!E205","v":0},{"$f":"Hoja4!J205","v":8.9909999999999997}]
[3093,{"$f":"Hoja4!E206","v":0},{"$f":"Hoja4!J206","v":0}]
[3095,{"$f":"Hoja4!E207","v":0},{"$f":"Hoja4!J207","v":24.7254}]
[3098,{"$f":"Hoja4!E208","v":20},{"$f":"Hoja4!J208","v":0}]
[3100,{"$f":"Hoja4!E209","v":3.5950000000000002},{"$f":"Hoja4!J209","v":23.440899999999999}]
[3101,{"$f":"Hoja4!E210","v":9.57},{"$f":"Hoja4!J210","v":53.1434}]
[3103,{"$f":"Hoja4!E211","v":0},{"$f":"Hoja4!J211","v":12.041600000000001}]
[3108,{"$f":"Hoja4!E212","v":0},{"$f":"Hoja4!J212","v":14.6104}]
[3110,{"$f":"Hoja4!E213","v":0},{"$f":"Hoja4!J213","v":0}]
[3113,{"$f":"Hoja4!E214","v":0},{"$f":"Hoja4!J214","v":15.8949}]
[3116,{"$f":"Hoja4!E215","v":0},{"$f":"Hoja4!J215","v":0}]
[3118,{"$f":"Hoja4!E216","v":0},{"$f":"Hoja4!J216","v":7.4414999999999996}]
[3120,{"$f":"Hoja4!E217","v":0},{"$f":"Hoja4!J217","v":0}]
[3122,{"$f":"Hoja4!E218","v":0},{"$f":"Hoja4!J218","v":11.559900000000001}]
[3123,{"$f":"Hoja4!E219","v":10.115},{"$f":"Hoja4!J219","v":43.670699999999997}]
[3131,{"$f":"Hoja4!E220","v":0},{"$f":"Hoja4!J220","v":7.2248999999999999}]
[3132,{"$f":"Hoja4!E221","v":0},{"$f":"Hoja4!J221","v":0}]
[3155,{"$f":"Hoja4!E222","v":0},{"$f":"Hoja4!J222","v":20.711500000000001}]
[3160,{"$f":"Hoja4!E223","v":0},{"$f":"Hoja4!J223","v":14.9315}]
[3179,{"$f":"Hoja4!E224","v":0},{"$f":"Hoja4!J224","v":8.5093999999999994}]
[3180,{"$f":"Hoja4!E225","v":0.14399999999999999},{"$f":"Hoja4!J225","v":12.2021}]
[3183,{"$f":"Hoja4!E226","v":6.7830000000000004},{"$f":"Hoja4!J226","v":12.1755}]
[3190,{"$f":"Hoja4!E227","v":0},{"$f":"Hoja4!J227","v":0}]
[3203,{"$f":"Hoja4!E228","v":10.115},{"$f":"Hoja4!J228","v":0}]
[3204,{"$f":"Hoja4!E229","v":227},{"$f":"Hoja4!J229","v":0}]
[3211,{"$f":"Hoja4!E230","v":0},{"$f":"Hoja4!J230","v":0}]
[3213,{"$f":"Hoja4!E231","v":70},{"$f":"Hoja4!J231","v":0}]
[3219,{"$f":"Hoja4!E232","v":30},{"$f":"Hoja4!J232","v":0}]
[3300,{"$f":"Hoja4!E233","v":0},{"$f":"Hoja4!J233","v":0}]
[3301,{"$f":"Hoja4!E234","v":240},{"$f":"Hoja4!J234","v":0}]
[3310,{"$f":"Hoja4!E235","v":0},{"$f":"Hoja4!J235","v":7.5460000000000003}]
[3355,{"$f":"Hoja4!E236","v":0},{"$f":"Hoja4!J236","v":0}]
[3408,{"$f":"Hoja4!E237","v":0},{"$f":"Hoja4!J237","v":17.3399}]
[3424,{"$f":"Hoja4!E238","v":0},{"$f":"Hoja4!J238","v":33.7164}]
[3427,{"$f":"Hoja4!E239","v":0},{"$f":"Hoja4!J239","v":0}]
[3428,{"$f":"Hoja4!E240","v":0},{"$f":"Hoja4!J240","v":0}]
[3429,{"$f":"Hoja4!E241","v":0},{"$f":"Hoja4!J241","v":0}]
[3544,{"$f":"Hoja4!E242","v":11},{"$f":"Hoja4!J242","v":0}]
[3550,{"$f":"Hoja4!E243","v":28},{"$f":"Hoja4!J243","v":0}]
[3553,{"$f":"Hoja4!E244","v":14},{"$f":"Hoja4!J244","v":29.140599999999999}]
[3592,{"$f":"Hoja4!E245","v":0},{"$f":"Hoja4!J245","v":0}]
[4122,{"$f":"Hoja4!E246","v":0},{"$f":"Hoja4!J246","v":0}]
[4124,{"$f":"Hoja4!E247","v":0},{"$f":"Hoja4!J247","v":0}]
[4173,{"$f":"Hoja4!E248","v":0},{"$f":"Hoja4!J248","v":0}]
[4300,{"$f":"Hoja4!E249","v":0},{"$f":"Hoja4!J249","v":24.01}]
[4302,{"$f":"Hoja4!E250","v":0},{"$f":"Hoja4!J250","v":0}]
[4305,{"$f":"Hoja4!E251","v":0},{"$f":"Hoja4!J251","v":0}]
[4306,{"$f":"Hoja4!E252","v":0},{"$f":"Hoja4!J252","v":0}]
[4307,{"$f":"Hoja4!E253","v":10.83},{"$f":"Hoja4!J253","v":5.65}]
[4312,{"$f":"Hoja4!E254","v":0},{"$f":"Hoja4!J254","v":0}]
[4315,{"$f":"Hoja4!E255","v":0},{"$f":"Hoja4!J255","v":59.570000000000007}]
[4316,{"$f":"Hoja4!E256","v":52.821999999999996},{"$f":"Hoja4!J256","v":35.001999999999995}]
[4317,{"$f":"Hoja4!E257","v":0},{"$f":"Hoja4!J257","v":65.2}]
[4318,{"$f":"Hoja4!E258","v":0},{"$f":"Hoja4!J258","v":0}]
[4319,{"$f":"Hoja4!E259","v":0},{"$f":"Hoja4!J259","v":40.46}]
[4322,{"$f":"Hoja4!E260","v":0},{"$f":"Hoja4!J260","v":0}]
[4323,{"$f":"Hoja4!E261","v":0},{"$f":"Hoja4!J261","v":0}]
[4325,{"$f":"Hoja4!E262","v":0},{"$f":"Hoja4!J262","v":0}]
[4326,{"$f":"Hoja4!E263","v":0},{"$f":"Hoja4!J263","v":0}]
[4327,{"$f":"Hoja4!E264","v":0},{"$f":"Hoja4!J264","v":0}]
[4328,{"$f":"Hoja4!E265","v":22.8},{"$f":"Hoja4!J265","v":1.5049999999999999}]
[4329,{"$f":"Hoja4!E266","v":0},{"$f":"Hoja4!J266","v":0.11}]
[4330,{"$f":"Hoja4!E267","v":25.65},{"$f":"Hoja4!J267","v":14.77}]
[4331,{"$f":"Hoja4!E268","v":15.85},{"$f":"Hoja4!J268","v":51.81}]
[4336,{"$f":"Hoja4!E269","v":32.279000000000003},{"$f":"Hoja4!J269","v":91.74}]
[4338,{"$f":"Hoja4!E270","v":0},{"$f":"Hoja4!J270","v":0}]
[4340,{"$f":"Hoja4!E271","v":0},{"$f":"Hoja4!J271","v":0}]
[4341,{"$f":"Hoja4!E272","v":67},{"$f":"Hoja4!J272","v":6.1929999999999996}]
[4342,{"$f":"Hoja4!E273","v":0},{"$f":"Hoja4!J273","v":5.51}]
[4343,{"$f":"Hoja4!E274","v":0},{"$f":"Hoja4!J274","v":0}]
[4345,{"$f":"Hoja4!E275","v":0},{"$f":"Hoja4!J275","v":0}]
[4346,{"$f":"Hoja4!E276","v":0},{"$f":"Hoja4!J276","v":0}]
[4350,{"$f":"Hoja4!E277","v":0},{"$f":"Hoja4!J277","v":0}]
[4354,{"$f":"Hoja4!E278","v":0},{"$f":"Hoja4!J278","v":0}]
[4357,{"$f":"Hoja4!E279","v":0},{"$f":"Hoja4!J279","v":11.32}]
[4358,{"$f":"Hoja4!E280","v":0},{"$f":"Hoja4!J280","v":0}]
[4359,{"$f":"Hoja4!E281","v":0},{"$f":"Hoja4!J281","v":0}]
[4361,{"$f":"Hoja4!E282","v":0},{"$f":"Hoja4!J282","v":0}]
[4362,{"$f":"Hoja4!E283","v":0},{"$f":"Hoja4!J283","v":0}]
[4386,{"$f":"Hoja4!E284","v":0},{"$f":"Hoja4!J284","v":0}]
[4392,{"$f":"Hoja4!E285","v":0},{"$f":"Hoja4!J285","v":0}]
[4400,{"$f":"Hoja4!E286","v":0},{"$f":"Hoja4!J286","v":0}]
[4401,{"$f":"Hoja4!E287","v":0},{"$f":"Hoja4!J287","v":0}]
[4402,{"$f":"Hoja4!E288","v":0},{"$f":"Hoja4!J288","v":1.62}]
[4403,{"$f":"Hoja4!E289","v":0},{"$f":"Hoja4!J289","v":0}]
[4404,{"$f":"Hoja4!E290","v":0},{"$f":"Hoja4!J290","v":0}]
[4405,{"$f":"Hoja4!E291","v":57},{"$f":"Hoja4!J291","v":0.57000000000000006}]
[4406,{"$f":"Hoja4!E292","v":0},{"$f":"Hoja4!J292","v":0}]
[4407,{"$f":"Hoja4!E293","v":0},{"$f":"Hoja4!J293","v":0}]
[4408,{"$f":"Hoja4!E294","v":0},{"$f":"Hoja4!J294","v":0}]
[4410,{"$f":"Hoja4!E295","v":0},{"$f":"Hoja4!J295","v":0}]
[4411,{"$f":"Hoja4!E296","v":0},{"$f":"Hoja4!J296","v":0}]
[4412,{"$f":"Hoja4!E297","v":0},{"$f":"Hoja4!J297","v":0}]
[4415,{"$f":"Hoja4!E298","v":0},{"$f":"Hoja4!J298","v":0}]
[4419,{"$f":"Hoja4!E299","v":23.689299999999999},{"$f":"Hoja4!J299","v":0.14000000000000001}]
[4420,{"$f":"Hoja4!E300","v":0},{"$f":"Hoja4!J300","v":0}]
[4750,{"$f":"Hoja4!E301","v":47.3},{"$f":"Hoja4!J301","v":0}]
[4800,{"$f":"Hoja4!E302","v":29.92},{"$f":"Hoja4!J302","v":0.23}]
[4803,{"$f":"Hoja4!E303","v":35.880000000000003},{"$f":"Hoja4!J303","v":0}]
[4827,{"$f":"Hoja4!E304","v":0},{"$f":"Hoja4!J304","v":2.4500000000000002}]
[4832,{"$f":"Hoja4!E305","v":0},{"$f":"Hoja4!J305","v":0}]
[4908,{"$f":"Hoja4!E306","v":0},{"$f":"Hoja4!J306","v":0}]
[4910,{"$f":"Hoja4!E307","v":0},{"$f":"Hoja4!J307","v":0}]
[4916,{"$f":"Hoja4!E308","v":0},{"$f":"Hoja4!J308","v":0}]
[4918,{"$f":"Hoja4!E309","v":0},{"$f":"Hoja4!J309","v":0}]
[4919,{"$f":"Hoja4!E310","v":0},{"$f":"Hoja4!J310","v":0}]
[4920,{"$f":"Hoja4!E311","v":0},{"$f":"Hoja4!J311","v":0}]
[4922,{"$f":"Hoja4!E312","v":0},{"$f":"Hoja4!J312","v":0}]
[4927,{"$f":"Hoja4!E313","v":0},{"$f":"Hoja4!J313","v":0}]
[6000,{"$f":"Hoja4!E314","v":0},{"$f":"Hoja4!J314","v":0}]
[6001,{"$f":"Hoja4!E315","v":0},{"$f":"Hoja4!J315","v":0}]
[6002,{"$f":"Hoja4!E316","v":0},{"$f":"Hoja4!J316","v":301.25480000000005}]
[6003,{"$f":"Hoja4!E317","v":243.0521},{"$f":"Hoja4!J317","v":0}]
[6004,{"$f":"Hoja4!E318","v":0},{"$f":"Hoja4!J318","v":80.590900000000005}]
[6005,{"$f":"Hoja4!E319","v":142.45999999999998},{"$f":"Hoja4!J319","v":0}]
[6006,{"$f":"Hoja4!E320","v":0},{"$f":"Hoja4!J320","v":0}]
[6007,{"$f":"Hoja4!E321","v":0},{"$f":"Hoja4!J321","v":69.529499999999999}]
[6008,{"$f":"Hoja4!E322","v":157.31},{"$f":"Hoja4!J322","v":0}]
[6009,{"$f":"Hoja4!E323","v":4.8620000000000001},{"$f":"Hoja4!J323","v":102.5211}]
[6010,{"$f":"Hoja4!E324","v":2.8513999999999999},{"$f":"Hoja4!J324","v":7.8785999999999996}]
[6011,{"$f":"Hoja4!E325","v":0},{"$f":"Hoja4!J325","v":0}]
[6012,{"$f":"Hoja4!E326","v":0},{"$f":"Hoja4!J326","v":5.7474999999999996}]
[6013,{"$f":"Hoja4!E327","v":8.1154000000000011},{"$f":"Hoja4!J327","v":57.271299999999997}]
[6014,{"$f":"Hoja4!E328","v":0},{"$f":"Hoja4!J328","v":0}]
[6015,{"$f":"Hoja4!E329","v":0},{"$f":"Hoja4!J329","v":0.29580000000000001}]
[6016,{"$f":"Hoja4!E330","v":0},{"$f":"Hoja4!J330","v":13.2422}]
[6018,{"$f":"Hoja4!E331","v":1.6500000000000004},{"$f":"Hoja4!J331","v":134.54750000000001}]
[6024,{"$f":"Hoja4!E332","v":0},{"$f":"Hoja4!J332","v":33.413499999999999}]
[6036,{"$f":"Hoja4!E333","v":0},{"$f":"Hoja4!J333","v":0}]
[6059,{"$f":"Hoja4!E334","v":0},{"$f":"Hoja4!J334","v":85.097800000000007}]
[6060,{"$f":"Hoja4!E335","v":0},{"$f":"Hoja4!J335","v":0}]
[6066,{"$f":"Hoja4!E336","v":0},{"$f":"Hoja4!J336","v":0}]
[6074,{"$f":"Hoja4!E337","v":0},{"$f":"Hoja4!J337","v":0}]
[6082,{"$f":"Hoja4!E338","v":0},{"$f":"Hoja4!J338","v":0}]
[6083,{"$f":"Hoja4!E339","v":0},{"$f":"Hoja4!J339","v":0}]
[6084,{"$f":"Hoja4!E340","v":0},{"$f":"Hoja4!J340","v":0}]
[6085,{"$f":"Hoja4!E341","v":0},{"$f":"Hoja4!J341","v":0}]
[6086,{"$f":"Hoja4!E342","v":0},{"$f":"Hoja4!J342","v":0}]
[6087,{"$f":"Hoja4!E343","v":0},{"$f":"Hoja4!J343","v":0}]
[6088,{"$f":"Hoja4!E344","v":12.0479},{"$f":"Hoja4!J344","v":0}]
[6092,{"$f":"Hoja4!E345","v":14.7133},{"$f":"Hoja4!J345","v":0}]
[6096,{"$f":"Hoja4!E346","v":289.96589999999998},{"$f":"Hoja4!J346","v":0}]
[6100,{"$f":"Hoja4!E347","v":0},{"$f":"Hoja4!J347","v":0.60440000000000005}]
[6105,{"$f":"Hoja4!E348","v":0},{"$f":"Hoja4!J348","v":0}]
[6123,{"$f":"Hoja4!E349","v":0},{"$f":"Hoja4!J349","v":0}]
[6170,{"$f":"Hoja4!E350","v":0},{"$f":"Hoja4!J350","v":11.154500000000001}]
[6171,{"$f":"Hoja4!E351","v":0},{"$f":"Hoja4!J351","v":11.739699999999999}]
[6173,{"$f":"Hoja4!E352","v":0},{"$f":"Hoja4!J352","v":0}]
[6178,{"$f":"Hoja4!E353","v":40.650100000000002},{"$f":"Hoja4!J353","v":0}]
[6179,{"$f":"Hoja4!E354","v":0},{"$f":"Hoja4!J354","v":0}]
[6182,{"$f":"Hoja4!E355","v":0},{"$f":"Hoja4!J355","v":0}]
[6240,{"$f":"Hoja4!E356","v":0},{"$f":"Hoja4!J356","v":0}]
[6241,{"$f":"Hoja4!E357","v":0},{"$f":"Hoja4!J357","v":24.014800000000001}]
[6243,{"$f":"Hoja4!E358","v":0},{"$f":"Hoja4!J358","v":0}]
[6260,{"$f":"Hoja4!E359","v":0},{"$f":"Hoja4!J359","v":0}]
[6261,{"$f":"Hoja4!E360","v":9.4},{"$f":"Hoja4!J360","v":0}]
[6262,{"$f":"Hoja4!E361","v":0},{"$f":"Hoja4!J361","v":9.3693000000000008}]
[6263,{"$f":"Hoja4!E362","v":9.6404999999999994},{"$f":"Hoja4!J362","v":0}]
[6270,{"$f":"Hoja4!E363","v":0},{"$f":"Hoja4!J363","v":0}]
[6280,{"$f":"Hoja4!E364","v":0},{"$f":"Hoja4!J364","v":0}]
[6290,{"$f":"Hoja4!E365","v":0},{"$f":"Hoja4!J365","v":0}]
[6300,{"$f":"Hoja4!E366","v":8.2654999999999994},{"$f":"Hoja4!J366","v":0}]
[6330,{"$f":"Hoja4!E367","v":0},{"$f":"Hoja4!J367","v":0}]
[6331,{"$f":"Hoja4!E368","v":0},{"$f":"Hoja4!J368","v":0}]
[6332,{"$f":"Hoja4!E369","v":14},{"$f":"Hoja4!J369","v":0}]
[6340,{"$f":"Hoja4!E370","v":0},{"$f":"Hoja4!J370","v":17.8431}]
[6360,{"$f":"Hoja4!E371","v":8.3673000000000002},{"$f":"Hoja4!J371","v":0}]
[6363,{"$f":"Hoja4!E372","v":11.206200000000001},{"$f":"Hoja4!J372","v":0}]
[6366,{"$f":"Hoja4!E373","v":16.430199999999999},{"$f":"Hoja4!J373","v":0}]
[6380,{"$f":"Hoja4!E374","v":0},{"$f":"Hoja4!J374","v":0}]
[6381,{"$f":"Hoja4!E375","v":16.306699999999999},{"$f":"Hoja4!J375","v":0}]
[6400,{"$f":"Hoja4!E376","v":0},{"$f":"Hoja4!J376","v":0}]
[6440,{"$f":"Hoja4!E377","v":9.5530000000000008},{"$f":"Hoja4!J377","v":0}]
[6441,{"$f":"Hoja4!E378","v":0},{"$f":"Hoja4!J378","v":0}]
[6442,{"$f":"Hoja4!E379","v":0},{"$f":"Hoja4!J379","v":0}]
[6443,{"$f":"Hoja4!E380","v":0},{"$f":"Hoja4!J380","v":0}]
[6460,{"$f":"Hoja4!E381","v":4.1500000000000004},{"$f":"Hoja4!J381","v":0}]
[6470,{"$f":"Hoja4!E382","v":0},{"$f":"Hoja4!J382","v":25.006399999999999}]
[6490,{"$f":"Hoja4!E383","v":0},{"$f":"Hoja4!J383","v":0}]
[6500,{"$f":"Hoja4!E384","v":0},{"$f":"Hoja4!J384","v":0}]
[6510,{"$f":"Hoja4!E385","v":0},{"$f":"Hoja4!J385","v":0}]
[6511,{"$f":"Hoja4!E386","v":0},{"$f":"Hoja4!J386","v":0}]
[6513,{"$f":"Hoja4!E387","v":0},{"$f":"Hoja4!J387","v":0}]
[6520,{"$f":"Hoja4!E388","v":0},{"$f":"Hoja4!J388","v":0}]
[6550,{"$f":"Hoja4!E389","v":0},{"$f":"Hoja4!J389","v":0}]
[6604,{"$f":"Hoja4!E390","v":0},{"$f":"Hoja4!J390","v":0}]
[6684,{"$f":"Hoja4!E391","v":0},{"$f":"Hoja4!J391","v":0}]
[6713,{"$f":"Hoja4!E392","v":0},{"$f":"Hoja4!J392","v":16.293099999999999}]
[6753,{"$f":"Hoja4!E393","v":0},{"$f":"Hoja4!J393","v":0}]
[6755,{"$f":"Hoja4!E394","v":0},{"$f":"Hoja4!J394","v":0}]
[12007,{"$f":"Hoja4!E395","v":0},{"$f":"Hoja4!J395","v":0}]
[12029,{"$f":"Hoja4!E396","v":0},{"$f":"Hoja4!J396","v":0}]
[12030,{"$f":"Hoja4!E397","v":0},{"$f":"Hoja4!J397","v":0}]
[12031,{"$f":"Hoja4!E398","v":0},{"$f":"Hoja4!J398","v":0}]
[12036,{"$f":"Hoja4!E399","v":0},{"$f":"Hoja4!J399","v":0}]
[12047,{"$f":"Hoja4!E400","v":0},{"$f":"Hoja4!J400","v":0}]
[12049,{"$f":"Hoja4!E401","v":0},{"$f":"Hoja4!J401","v":0}]
[12080,{"$f":"Hoja4!E402","v":0},{"$f":"Hoja4!J402","v":0}]
[12089,{"$f":"Hoja4!E403","v":0},{"$f":"Hoja4!J403","v":0}]
[12094,{"$f":"Hoja4!E404","v":0},{"$f":"Hoja4!J404","v":0}]
[12108,{"$f":"Hoja4!E405","v":0},{"$f":"Hoja4!J405","v":0}]
[12127,{"$f":"Hoja4!E406","v":0},{"$f":"Hoja4!J406","v":0}]
[12129,{"$f":"Hoja4!E407","v":0},{"$f":"Hoja4!J407","v":0}]
[12136,{"$f":"Hoja4!E408","v":0},{"$f":"Hoja4!J408","v":0}]
[12142,{"$f":"Hoja4!E409","v":0},{"$f":"Hoja4!J409","v":0}]
[12144,{"$f":"Hoja4!E410","v":0},{"$f":"Hoja4!J410","v":0}]
[12154,{"$f":"Hoja4!E411","v":0},{"$f":"Hoja4!J411","v":0}]
[12177,{"$f":"Hoja4!E412","v":0},{"$f":"Hoja4!J412","v":0}]
[12178,{"$f":"Hoja4!E413","v":0},{"$f":"Hoja4!J413","v":0}]
[12183,{"$f":"Hoja4!E414","v":0},{"$f":"Hoja4!J414","v":0}]
[12195,{"$f":"Hoja4!E415","v":0},{"$f":"Hoja4!J415","v":0}]
[12204,{"$f":"Hoja4!E416","v":0},{"$f":"Hoja4!J416","v":0}]
[12205,{"$f":"Hoja4!E417","v":0},{"$f":"Hoja4!J417","v":0}]
[12218,{"$f":"Hoja4!E418","v":0},{"$f":"Hoja4!J418","v":0}]
[12219,{"$f":"Hoja4!E419","v":0},{"$f":"Hoja4!J419","v":0}]
[12220,{"$f":"Hoja4!E420","v":0},{"$f":"Hoja4!J420","v":0}]
[12221,{"$f":"Hoja4!E421","v":0},{"$f":"Hoja4!J421","v":0}]
[12225,{"$f":"Hoja4!E422","v":0},{"$f":"Hoja4!J422","v":0}]
[12234,{"$f":"Hoja4!E423","v":0},{"$f":"Hoja4!J423","v":0}]
[12238,{"$f":"Hoja4!E424","v":0},{"$f":"Hoja4!J424","v":0}]
[12239,{"$f":"Hoja4!E425","v":0},{"$f":"Hoja4!J425","v":0}]
[12241,{"$f":"Hoja4!E426","v":0},{"$f":"Hoja4!J426","v":0}]
[12242,{"$f":"Hoja4!E427","v":0},{"$f":"Hoja4!J427","v":0}]
[12243,{"$f":"Hoja4!E428","v":0},{"$f":"Hoja4!J428","v":0}]
[12251,{"$f":"Hoja4!E429","v":0},{"$f":"Hoja4!J429","v":0}]
[12254,{"$f":"Hoja4!E430","v":0},{"$f":"Hoja4!J430","v":0}]
[12257,{"$f":"Hoja4!E431","v":0},{"$f":"Hoja4!J431","v":0}]
[12258,{"$f":"Hoja4!E432","v":0},{"$f":"Hoja4!J432","v":0}]
[12269,{"$f":"Hoja4!E433","v":0},{"$f":"Hoja4!J433","v":0}]
[12280,{"$f":"Hoja4!E434","v":0},{"$f":"Hoja4!J434","v":0}]
[12281,{"$f":"Hoja4!E435","v":0},{"$f":"Hoja4!J435","v":0}]
[12282,{"$f":"Hoja4!E436","v":0},{"$f":"Hoja4!J436","v":0}]
[12283,{"$f":"Hoja4!E437","v":0},{"$f":"Hoja4!J437","v":0}]
[12285,{"$f":"Hoja4!E438","v":0},{"$f":"Hoja4!J438","v":0}]
[12292,{"$f":"Hoja4!E439","v":0},{"$f":"Hoja4!J439","v":0}]
[12294,{"$f":"Hoja4!E440","v":0},{"$f":"Hoja4!J440","v":0}]
[12295,{"$f":"Hoja4!E441","v":0},{"$f":"Hoja4!J441","v":0}]
[12305,{"$f":"Hoja4!E442","v":0},{"$f":"Hoja4!J442","v":0}]
[14002,{"$f":"Hoja4!E443","v":0},{"$f":"Hoja4!J443","v":0}]
[14005,{"$f":"Hoja4!E444","v":0},{"$f":"Hoja4!J444","v":0}]
[14011,{"$f":"Hoja4!E445","v":0},{"$f":"Hoja4!J445","v":0}]
[14320,{"$f":"Hoja4!E446","v":0},{"$f":"Hoja4!J446","v":0}]
[22372,{"$f":"Hoja4!E447","v":0},{"$f":"Hoja4!J447","v":0}]
[24161,{"$f":"Hoja4!E448","v":0},{"$f":"Hoja4!J448","v":0}]
[24181,{"$f":"Hoja4!E449","v":0},{"$f":"Hoja4!J449","v":0}]
[27101,{"$f":"Hoja4!E450","v":84.6},{"$f":"Hoja4!J450","v":0}]
[27111,{"$f":"Hoja4!E451","v":0},{"$f":"Hoja4!J451","v":0}]
[27131,{"$f":"Hoja4!E452","v":47.1},{"$f":"Hoja4!J452","v":12.9}]
[27161,{"$f":"Hoja4!E453","v":72.892400000000009},{"$f":"Hoja4!J453","v":8.5}]
[27171,{"$f":"Hoja4!E454","v":69.599999999999994},{"$f":"Hoja4!J454","v":11.2}]
[27181,{"$f":"Hoja4!E455","v":58.8},{"$f":"Hoja4!J455","v":8.6999999999999993}]
[27211,{"$f":"Hoja4!E456","v":93.4},{"$f":"Hoja4!J456","v":0}]
[27281,{"$f":"Hoja4!E457","v":0},{"$f":"Hoja4!J457","v":0}]
[27301,{"$f":"Hoja4!E458","v":0},{"$f":"Hoja4!J458","v":83.1}]
[27321,{"$f":"Hoja4!E459","v":0},{"$f":"Hoja4!J459","v":31.5}]
[27341,{"$f":"Hoja4!E460","v":52.4},{"$f":"Hoja4!J460","v":66.400000000000006}]
[27351,{"$f":"Hoja4!E461","v":11.1},{"$f":"Hoja4!J461","v":37.299999999999997}]
[27361,{"$f":"Hoja4!E462","v":0},{"$f":"Hoja4!J462","v":35.9}]
[27371,{"$f":"Hoja4!E463","v":0},{"$f":"Hoja4!J463","v":62.6}]
[27381,{"$f":"Hoja4!E464","v":0},{"$f":"Hoja4!J464","v":10}]
[27391,{"$f":"Hoja4!E465","v":0},{"$f":"Hoja4!J465","v":0}]
[27401,{"$f":"Hoja4!E466","v":0.1},{"$f":"Hoja4!J466","v":15.3}]
[27411,{"$f":"Hoja4!E467","v":0},{"$f":"Hoja4!J467","v":12.9}]
[27421,{"$f":"Hoja4!E468","v":0},{"$f":"Hoja4!J468","v":0}]
[27431,{"$f":"Hoja4!E469","v":0},{"$f":"Hoja4!J469","v":0}]
[27441,{"$f":"Hoja4!E470","v":0},{"$f":"Hoja4!J470","v":73.3}]
[27451,{"$f":"Hoja4!E471","v":0},{"$f":"Hoja4!J471","v":0}]
[27461,{"$f":"Hoja4!E472","v":0},{"$f":"Hoja4!J472","v":48.9}]
[27471,{"$f":"Hoja4!E473","v":0},{"$f":"Hoja4!J473","v":0}]
[27481,{"$f":"Hoja4!E474","v":47.8},{"$f":"Hoja4!J474","v":0.1}]
[27491,{"$f":"Hoja4!E475","v":0},{"$f":"Hoja4!J475","v":0}]
[27501,{"$f":"Hoja4!E476","v":0},{"$f":"Hoja4!J476","v":14.8}]
[27511,{"$f":"Hoja4!E477","v":0},{"$f":"Hoja4!J477","v":0}]
[28161,{"$f":"Hoja4!E478","v":0},{"$f":"Hoja4!J478","v":0}]
[28181,{"$f":"Hoja4!E479","v":0},{"$f":"Hoja4!J479","v":0}]
[28371,{"$f":"Hoja4!E480","v":0},{"$f":"Hoja4!J480","v":0}]
[29161,{"$f":"Hoja4!E481","v":0},{"$f":"Hoja4!J481","v":0}]
[29162,{"$f":"Hoja4!E482","v":0},{"$f":"Hoja4!J482","v":0}]
[29181,{"$f":"Hoja4!E483","v":0},{"$f":"Hoja4!J483","v":0}]
[29182,{"$f":"Hoja4!E484","v":0},{"$f":"Hoja4!J484","v":0}]
[50000,{"$f":"Hoja4!E485","v":0},{"$f":"Hoja4!J485","v":27.895499999999998}]
[50050,{"$f":"Hoja4!E486","v":0},{"$f":"Hoja4!J486","v":10.5471}]
[50054,{"$f":"Hoja4!E487","v":5.4753999999999996},{"$f":"Hoja4!J487","v":38.8369}]
[50100,{"$f":"Hoja4!E488","v":148.35900000000001},{"$f":"Hoja4!J488","v":0}]
[50103,{"$f":"Hoja4!E489","v":22.187000000000001},{"$f":"Hoja4!J489","v":0}]
[50150,{"$f":"Hoja4!E490","v":66.552999999999997},{"$f":"Hoja4!J490","v":0}]
[50200,{"$f":"Hoja4!E491","v":155.97909999999999},{"$f":"Hoja4!J491","v":11.434200000000001}]
[50250,{"$f":"Hoja4!E492","v":136.3271},{"$f":"Hoja4!J492","v":10.0542}]
[50253,{"$f":"Hoja4!E493","v":0},{"$f":"Hoja4!J493","v":0}]
[50300,{"$f":"Hoja4!E494","v":35.509799999999998},{"$f":"Hoja4!J494","v":0}]
[50350,{"$f":"Hoja4!E495","v":0},{"$f":"Hoja4!J495","v":31.641200000000001}]
[50354,{"$f":"Hoja4!E496","v":0},{"$f":"Hoja4!J496","v":0}]
[50404,{"$f":"Hoja4!E497","v":0},{"$f":"Hoja4!J497","v":0}]
[50454,{"$f":"Hoja4!E498","v":0},{"$f":"Hoja4!J498","v":0}]
[50499,{"$f":"Hoja4!E499","v":0},{"$f":"Hoja4!J499","v":0}]
[50504,{"$f":"Hoja4!E500","v":0},{"$f":"Hoja4!J500","v":0}]
[50554,{"$f":"Hoja4!E501","v":0},{"$f":"Hoja4!J501","v":0}]
[50604,{"$f":"Hoja4!E502","v":0},{"$f":"Hoja4!J502","v":0}]
[50650,{"$f":"Hoja4!E503","v":2.6802999999999999},{"$f":"Hoja4!J503","v":14.391299999999999}]
[50700,{"$f":"Hoja4!E504","v":0.18240000000000001},{"$f":"Hoja4!J504","v":1.8728}]
[50750,{"$f":"Hoja4!E505","v":0},{"$f":"Hoja4!J505","v":11.335599999999999}]
[50800,{"$f":"Hoja4!E506","v":6.0007999999999999},{"$f":"Hoja4!J506","v":3.7456999999999998}]
[50900,{"$f":"Hoja4!E507","v":1.4998},{"$f":"Hoja4!J507","v":0}]
[50950,{"$f":"Hoja4!E508","v":1.0004},{"$f":"Hoja4!J508","v":6.7027999999999999}]
[51150,{"$f":"Hoja4!E509","v":139.91},{"$f":"Hoja4!J509","v":0}]
[51200,{"$f":"Hoja4!E510","v":0},{"$f":"Hoja4!J510","v":0}]
[51250,{"$f":"Hoja4!E511","v":0},{"$f":"Hoja4!J511","v":0}]
[51300,{"$f":"Hoja4!E512","v":1.7891999999999999},{"$f":"Hoja4!J512","v":0}]
[51450,{"$f":"Hoja4!E513","v":0},{"$f":"Hoja4!J513","v":16.559899999999999}]
[53000,{"$f":"Hoja4!E514","v":0},{"$f":"Hoja4!J514","v":104.5835}]
[53004,{"$f":"Hoja4!E515","v":0},{"$f":"Hoja4!J515","v":0}]
[53050,{"$f":"Hoja4!E516","v":2.9996999999999998},{"$f":"Hoja4!J516","v":30.162600000000001}]
[53100,{"$f":"Hoja4!E517","v":0},{"$f":"Hoja4!J517","v":0}]
[53150,{"$f":"Hoja4!E518","v":0},{"$f":"Hoja4!J518","v":23.558399999999999}]
[53154,{"$f":"Hoja4!E519","v":0},{"$f":"Hoja4!J519","v":0}]
[53200,{"$f":"Hoja4!E520","v":0},{"$f":"Hoja4!J520","v":0}]
[53204,{"$f":"Hoja4!E521","v":9.3468999999999998},{"$f":"Hoja4!J521","v":11.729900000000001}]
[53254,{"$f":"Hoja4!E522","v":0.28999999999999998},{"$f":"Hoja4!J522","v":27.304099999999998}]
[53304,{"$f":"Hoja4!E523","v":1.2501},{"$f":"Hoja4!J523","v":30.458400000000001}]
[53354,{"$f":"Hoja4!E524","v":3.1166},{"$f":"Hoja4!J524","v":26.417000000000002}]
[53404,{"$f":"Hoja4!E525","v":0},{"$f":"Hoja4!J525","v":56.481000000000002}]
[53454,{"$f":"Hoja4!E526","v":0},{"$f":"Hoja4!J526","v":59.635300000000001}]
[53550,{"$f":"Hoja4!E527","v":0},{"$f":"Hoja4!J527","v":22.868400000000001}]
[53604,{"$f":"Hoja4!E528","v":0},{"$f":"Hoja4!J528","v":62.986699999999999}]
[53654,{"$f":"Hoja4!E529","v":0},{"$f":"Hoja4!J529","v":49.088200000000001}]
[53704,{"$f":"Hoja4!E530","v":0},{"$f":"Hoja4!J530","v":38.935400000000001}]
[53754,{"$f":"Hoja4!E531","v":5.6173000000000002},{"$f":"Hoja4!J531","v":63.9724}]
[53756,{"$f":"Hoja4!E532","v":0},{"$f":"Hoja4!J532","v":0}]
[53850,{"$f":"Hoja4!E533","v":0},{"$f":"Hoja4!J533","v":0}]
[53854,{"$f":"Hoja4!E534","v":8},{"$f":"Hoja4!J534","v":8.2798999999999996}]
[53900,{"$f":"Hoja4!E535","v":0},{"$f":"Hoja4!J535","v":8.5756999999999994}]
[54000,{"$f":"Hoja4!E536","v":0},{"$f":"Hoja4!J536","v":12.617100000000001}]
[54050,{"$f":"Hoja4!E537","v":0},{"$f":"Hoja4!J537","v":23.657}]
[54104,{"$f":"Hoja4!E538","v":2.3001999999999998},{"$f":"Hoja4!J538","v":24.2484}]
[54154,{"$f":"Hoja4!E539","v":0},{"$f":"Hoja4!J539","v":0}]
[54200,{"$f":"Hoja4!E540","v":0},{"$f":"Hoja4!J540","v":6.7027999999999999}]
[54250,{"$f":"Hoja4!E541","v":137.916},{"$f":"Hoja4!J541","v":0}]
[54500,{"$f":"Hoja4!E542","v":11.86},{"$f":"Hoja4!J542","v":0}]
[54750,{"$f":"Hoja4!E543","v":0},{"$f":"Hoja4!J543","v":24.5441}]
[56000,{"$f":"Hoja4!E544","v":0},{"$f":"Hoja4!J544","v":23.755500000000001}]
[56050,{"$f":"Hoja4!E545","v":0},{"$f":"Hoja4!J545","v":16.461300000000001}]
[56100,{"$f":"Hoja4!E546","v":0},{"$f":"Hoja4!J546","v":4.1399999999999997}]
[58004,{"$f":"Hoja4!E547","v":0},{"$f":"Hoja4!J547","v":4.9284999999999997}]
[58054,{"$f":"Hoja4!E548","v":3.9662000000000002},{"$f":"Hoja4!J548","v":4.9284999999999997}]
[58104,{"$f":"Hoja4!E549","v":44.494},{"$f":"Hoja4!J549","v":1.9714}]
[58150,{"$f":"Hoja4!E550","v":0},{"$f":"Hoja4!J550","v":14.785600000000001}]
[58200,{"$f":"Hoja4!E551","v":3.4695999999999998},{"$f":"Hoja4!J551","v":25.529800000000002}]
[58300,{"$f":"Hoja4!E552","v":0},{"$f":"Hoja4!J552","v":0}]
[58304,{"$f":"Hoja4!E553","v":0},{"$f":"Hoja4!J553","v":20.009899999999998}]
[58350,{"$f":"Hoja4!E554","v":0},{"$f":"Hoja4!J554","v":4.2385000000000002}]
[58450,{"$f":"Hoja4!E555","v":15},{"$f":"Hoja4!J555","v":0}]
[58500,{"$f":"Hoja4!E556","v":66.456999999999994},{"$f":"Hoja4!J556","v":0}]
[58600,{"$f":"Hoja4!E557","v":0},{"$f":"Hoja4!J557","v":0}]

{"sheet":"Hoja4","index":2,"n_rows":557,"n_cols":23,"rows_kept":557,"cut":false,"hidden":false,"merged":[[0,11,0,12],[0,13,0,14],[0,15,0,16],[0,17,0,18],[0,19,0,20],[0,21,0,22]]}
["Nodo","IEP I","TCP I","TOP I",null,null,"IEP R","TOP R","TCP R",null,null,"IEP I",null,"TCP I",null,"top i",null,"IEP R",null,"TOP R",null,"TCP R"]
[1101,{"$f":"IFERROR(VLOOKUP(A2,L:M,2,0),0)","v":208.32},{"$f":"IFERROR(VLOOKUP(A2,N:O,2,0),0)","v":0},{"$f":"IFERROR(VLOOKUP(A2,P:Q,2,0),0)","v":0},{"$f":"B2-C2-D2","v":208.32},{"$f":"SUM(E:E)","v":4629.0647999999992},{"$f":"IFERROR(VLOOKUP(A2,R:S,2,0),0)","v":0},{"$f":"IFERROR(VLOOKUP(A2,V:W,2,0),0)","v":0},{"$f":"IFERROR(VLOOKUP(A2,T:U,2,0),0)","v":0},{"$f":"G2-H2-I2","v":0},{"$f":"SUM(J2:J557)","v":4569.3614000000052},1101,208.32,1124,35,1124,0,1102,35.031000000000006,1124,0,1124,15]
[1102,22.87,0,0,22.87,{"$f":"F2-K2","v":59.703399999993962},35.031000000000006,0,0,35.031000000000006,null,1102,22.87,1126,0,1126,0,1106,29.522000000000002,3034,0,1126,{"$f":"10-2.121","v":7.8789999999999996}]
[1103,0,0,0,0,null,0,0,0,0,null,1106,0,1710,22.91,1710,0,1107,106.91499999999999,4402,0,1710,0]
[1105,0,0,0,0,null,0,0,0,0,null,1107,0,6005,12,4402,0,1108,122.56099999999999,4403,16.065999999999999,3183,5.91]
[1106,0,0,0,0,null,29.522000000000002,0,0,29.522000000000002,null,1108,0,6008,37,6003,0,1109,162.45499999999998,6096,0,4403,35]
[1107,0,0,0,0,null,106.91499999999999,0,0,106.91499999999999,null,1109,0,6018,8.3500000000000014,6018,0,1120,0,27131,0,4750,49]
[1108,0,0,0,0,null,122.56099999999999,0,0,122.56099999999999,null,1120,8.1431000000000004,6100,3.25,6059,0,1124,56.093000000000004,27161,0,6018,0]
[1109,0,0,0,0,null,162.45499999999998,0,0,162.45499999999998,null,1124,35,27161,0,6100,20.936999999999998,1126,62.538000000000004,27211,0,6100,0]
[1110,0,0,0,0,null,0,0,0,0,null,1126,0,27301,0,6171,0,1133,16.8,28161,0,27161,17]
[1111,0,0,0,0,null,0,0,0,0,null,1133,17.953700000000001,27461,0,6173,0,1140,26.7,28181,0,27301,0]
[1113,0,0,0,0,null,0,0,0,0,null,1140,123.2627,null,null,6290,0,1145,0,null,null,27461,0]
[1114,0,0,0,0,null,0,0,0,0,null,1141,40.031999999999996,null,null,27131,0,1165,0]
[1115,0,0,0,0,null,0,0,0,0,null,1145,39.776000000000003,null,null,27161,0,1166,0]
[1117,0,0,0,0,null,0,0,0,0,null,1165,49.567999999999998,null,null,27301,0,1168,0]
[1119,0,0,0,0,null,0,0,0,0,null,1166,0,null,null,27461,0,1219,0]
[1120,8.1431000000000004,0,0,8.1431000000000004,null,0,0,0,0,null,1168,47.957000000000001,null,null,28161,0,1444,17.748000000000001]
[1121,0,0,0,0,null,0,0,0,0,null,1170,1.3495999999999999,null,null,28181,0,1710,44.8752]
[1122,0,0,0,0,null,0,0,0,0,null,1219,68.570999999999998,null,null,50350,0,1771,27.6]
[1124,35,35,0,0,null,56.093000000000004,15,0,41.093000000000004,null,1444,33.241,null,null,50900,0,1840,0]
[1126,0,0,0,0,null,62.538000000000004,7.8789999999999996,0,54.659000000000006,null,1710,22.91,null,null,58200,0,3029,34.0642]
[1128,0,0,0,0,null,0,0,0,0,null,1771,0,{"$nulls":4},3030,31.468599999999999]
[1129,0,0,0,0,null,0,0,0,0,null,1840,32.079000000000001,{"$nulls":4},3031,17.018699999999999]
[1131,0,0,0,0,null,0,0,0,0,null,1845,0,{"$nulls":4},3032,1.6054999999999999]
[1132,0,0,0,0,null,0,0,0,0,null,3029,3.883,{"$nulls":4},3033,14.9315]
[1133,17.953700000000001,0,0,17.953700000000001,null,16.8,0,0,16.8,null,3032,88.9786,{"$nulls":4},3034,29.140599999999999]
[1140,123.2627,0,0,123.2627,null,26.7,0,0,26.7,null,3034,99.338000000000008,{"$nulls":4},3036,0]
[1141,40.031999999999996,0,0,40.031999999999996,null,0,0,0,0,null,3038,23.728000000000002,{"$nulls":4},3037,51.056199999999997]
[1145,39.776000000000003,0,0,39.776000000000003,null,0,0,0,0,null,3049,0,{"$nulls":4},3038,19.618400000000001]
[1151,0,0,0,0,null,0,0,0,0,null,3055,6.4510000000000005,{"$nulls":4},3040,9.4726999999999997]
[1153,0,0,0,0,null,0,0,0,0,null,3059,0,{"$nulls":4},3045,29.060300000000002]
[1154,0,0,0,0,null,0,0,0,0,null,3060,3.9689999999999999,{"$nulls":4},3049,25.688700000000001]
[1155,0,0,0,0,null,0,0,0,0,null,3078,0,{"$nulls":4},3052,41.744100000000003]
[1159,0,0,0,0,null,0,0,0,0,null,3082,5.9249999999999998,{"$nulls":4},3055,56.1492]
[1163,0,0,0,0,null,0,0,0,0,null,3098,20,{"$nulls":4},3060,30.023599999999998]
[1164,0,0,0,0,null,0,0,0,0,null,3100,3.5950000000000002,{"$nulls":4},3064,2.8479999999999999]
[1165,49.567999999999998,0,0,49.567999999999998,null,0,0,0,0,null,3101,9.57,{"$nulls":4},3075,13.004899999999999]
[1166,0,0,0,0,null,0,0,0,0,null,3123,10.115,{"$nulls":4},3077,31.147500000000001]
[1168,47.957000000000001,0,0,47.957000000000001,null,0,0,0,0,null,3180,0.14399999999999999,{"$nulls":4},3078,52.501199999999997]
[1169,0,0,0,0,null,0,0,0,0,null,3183,6.7830000000000004,{"$nulls":4},3082,7.2248999999999999]
[1170,1.3495999999999999,0,0,1.3495999999999999,null,0,0,0,0,null,3203,10.115,{"$nulls":4},3085,25.367599999999999]
[1174,0,0,0,0,null,0,0,0,0,null,3204,227,{"$nulls":4},3091,8.9909999999999997]
[1204,0,0,0,0,null,0,0,0,0,null,3211,0,{"$nulls":4},3095,24.7254]
[1206,0,0,0,0,null,0,0,0,0,null,3213,70,{"$nulls":4},3100,23.440899999999999]
[1207,0,0,0,0,null,0,0,0,0,null,3219,30,{"$nulls":4},3101,53.1434]
[1215,0,0,0,0,null,0,0,0,0,null,3301,240,{"$nulls":4},3103,12.041600000000001]
[1216,0,0,0,0,null,0,0,0,0,null,3424,0,{"$nulls":4},3108,14.6104]
[1217,0,0,0,0,null,0,0,0,0,null,3544,11,{"$nulls":4},3113,15.8949]
[1218,0,0,0,0,null,0,0,0,0,null,3550,28,{"$nulls":4},3118,7.4414999999999996]
[1219,68.570999999999998,0,0,68.570999999999998,null,0,0,0,0,null,3553,14,{"$nulls":4},3122,11.559900000000001]
[1220,0,0,0,0,null,0,0,0,0,null,3592,0,{"$nulls":4},3123,43.670699999999997]
[1223,0,0,0,0,null,0,0,0,0,null,4300,0,{"$nulls":4},3131,7.2248999999999999]
[1240,0,0,0,0,null,0,0,0,0,null,4307,10.83,{"$nulls":4},3155,20.711500000000001]
[1241,0,0,0,0,null,0,0,0,0,null,4315,0,{"$nulls":4},3160,14.9315]
[1249,0,0,0,0,null,0,0,0,0,null,4316,52.821999999999996,{"$nulls":4},3179,8.5093999999999994]
[1251,0,0,0,0,null,0,0,0,0,null,4317,0,{"$nulls":4},3180,12.2021]
[1301,0,0,0,0,null,0,0,0,0,null,4319,0,{"$nulls":4},3183,18.0855]
[1302,0,0,0,0,null,0,0,0,0,null,4328,22.8,{"$nulls":4},3310,7.5460000000000003]
[1303,0,0,0,0,null,0,0,0,0,null,4329,0,{"$nulls":4},3408,17.3399]
[1304,0,0,0,0,null,0,0,0,0,null,4330,25.65,{"$nulls":4},3424,33.7164]
[1305,0,0,0,0,null,0,0,0,0,null,4331,15.85,{"$nulls":4},3553,29.140599999999999]
[1306,0,0,0,0,null,0,0,0,0,null,4336,32.279000000000003,{"$nulls":4},4300,24.01]
[1308,0,0,0,0,null,0,0,0,0,null,4341,67,{"$nulls":4},4307,5.65]
[1309,0,0,0,0,null,0,0,0,0,null,4342,0,{"$nulls":4},4315,59.570000000000007]
[1310,0,0,0,0,null,0,0,0,0,null,4402,0,{"$nulls":4},4316,35.001999999999995]
[1312,{"$f":"IFERROR(VLOOKUP(A66,L:M,2,0),0)","v":0},{"$f":"IFERROR(VLOOKUP(A66,N:O,2,0),0)","v":0},{"$f":"IFERROR(VLOOKUP(A66,P:Q,2,0),0)","v":0},{"$f":"B66-C66-D66","v":0},null,{"$f":"IFERROR(VLOOKUP(A66,R:S,2,0),0)","v":0},{"$f":"IFERROR(VLOOKUP(A66,V:W,2,0),0)","v":0},{"$f":"IFERROR(VLOOKUP(A66,T:U,2,0),0)","v":0},{"$f":"G66-H66-I66","v":0},null,4403,0,{"$nulls":4},4317,65.2]
[1314,0,0,0,0,null,0,0,0,0,null,4405,57,{"$nulls":4},4319,40.46]
[1315,0,0,0,0,null,0,0,0,0,null,4406,0,{"$nulls":4},4328,1.5049999999999999]
[1318,0,0,0,0,null,0,0,0,0,null,4419,23.689299999999999,{"$nulls":4},4329,0.11]
[1321,0,0,0,0,null,0,0,0,0,null,4750,47.3,{"$nulls":4},4330,14.77]
[1322,0,0,0,0,null,0,0,0,0,null,4800,29.92,{"$nulls":4},4331,51.81]
[1323,0,0,0,0,null,0,0,0,0,null,4803,35.880000000000003,{"$nulls":4},4336,91.74]
[1324,0,0,0,0,null,0,0,0,0,null,6003,243.0521,{"$nulls":4},4341,6.1929999999999996]
[1325,0,0,0,0,null,0,0,0,0,null,6005,154.45999999999998,{"$nulls":4},4342,5.51]
[1327,0,0,0,0,null,0,0,0,0,null,6008,194.31,{"$nulls":4},4357,11.32]
[1329,0,0,0,0,null,0,0,0,0,null,6009,4.8620000000000001,{"$nulls":4},4402,1.62]
[1331,0,0,0,0,null,0,0,0,0,null,6010,2.8513999999999999,{"$nulls":4},4403,51.066000000000003]
[1336,0,0,0,0,null,0,0,0,0,null,6011,0,{"$nulls":4},4405,0.57000000000000006]
[1337,0,0,0,0,null,0,0,0,0,null,6013,8.1154000000000011,{"$nulls":4},4406,0]
[1338,0,0,0,0,null,0,0,0,0,null,6018,10.000000000000002,{"$nulls":4},4419,0.14000000000000001]
[1339,0,0,0,0,null,0,0,0,0,null,6059,0,{"$nulls":4},4750,49]
[1372,0,0,0,0,null,0,0,0,0,null,6060,0,{"$nulls":4},4800,0.23]
[1374,0,0,0,0,null,0,0,0,0,null,6088,12.0479,{"$nulls":4},4803,0]
[1388,0,0,0,0,null,0,0,0,0,null,6092,14.7133,{"$nulls":4},4827,2.4500000000000002]
[1403,0,0,0,0,null,0,0,0,0,null,6096,289.96589999999998,{"$nulls":4},6002,301.25480000000005]
[1406,0,0,0,0,null,0,0,0,0,null,6100,24.187000000000001,{"$nulls":4},6004,80.590900000000005]
[1407,0,0,0,0,null,0,0,0,0,null,6171,0,{"$nulls":4},6007,69.529499999999999]
[1408,0,0,0,0,null,0,0,0,0,null,6173,0,{"$nulls":4},6009,102.5211]
[1409,0,0,0,0,null,0,0,0,0,null,6178,40.650100000000002,{"$nulls":4},6010,7.8785999999999996]
[1411,0,0,0,0,null,0,0,0,0,null,6240,0,{"$nulls":4},6012,5.7474999999999996]
[1414,0,0,0,0,null,0,0,0,0,null,6261,9.4,{"$nulls":4},6013,57.271299999999997]
[1415,0,0,0,0,null,0,0,0,0,null,6263,9.6404999999999994,{"$nulls":4},6015,0.29580000000000001]
[1416,0,0,0,0,null,0,0,0,0,null,6290,0,{"$nulls":4},6016,13.2422]
[1417,0,0,0,0,null,0,0,0,0,null,6300,8.2654999999999994,{"$nulls":4},6018,134.54750000000001]
[1418,0,0,0,0,null,0,0,0,0,null,6330,0,{"$nulls":4},6024,33.413499999999999]
[1422,0,0,0,0,null,0,0,0,0,null,6332,14,{"$nulls":4},6059,85.097800000000007]
[1423,0,0,0,0,null,0,0,0,0,null,6360,8.3673000000000002,{"$nulls":4},6100,0.60440000000000005]
[1424,0,0,0,0,null,0,0,0,0,null,6363,11.206200000000001,{"$nulls":4},6170,11.154500000000001]
[1425,0,0,0,0,null,0,0,0,0,null,6366,16.430199999999999,{"$nulls":4},6171,11.739699999999999]
[1427,0,0,0,0,null,0,0,0,0,null,6381,16.306699999999999,{"$nulls":4},6241,24.014800000000001]
[1428,0,0,0,0,null,0,0,0,0,null,6440,9.5530000000000008,{"$nulls":4},6262,9.3693000000000008]
[1429,0,0,0,0,null,0,0,0,0,null,6460,4.1500000000000004,{"$nulls":4},6340,17.8431]
[1431,0,0,0,0,null,0,0,0,0,null,6510,0,{"$nulls":4},6470,25.006399999999999]
[1432,0,0,0,0,null,0,0,0,0,null,6520,0,{"$nulls":4},6713,16.293099999999999]
[1433,0,0,0,0,null,0,0,0,0,null,6550,0,{"$nulls":4},27131,12.9]
[1434,0,0,0,0,null,0,0,0,0,null,27101,84.6,{"$nulls":4},27161,25.5]
[1435,0,0,0,0,null,0,0,0,0,null,27131,47.1,{"$nulls":4},27171,11.2]
[1439,0,0,0,0,null,0,0,0,0,null,27161,72.892400000000009,{"$nulls":4},27181,8.6999999999999993]
[1442,0,0,0,0,null,0,0,0,0,null,27171,69.599999999999994,{"$nulls":4},27301,83.1]
[1444,33.241,0,0,33.241,null,17.748000000000001,0,0,17.748000000000001,null,27181,58.8,{"$nulls":4},27321,31.5]
[1445,0,0,0,0,null,0,0,0,0,null,27211,93.4,{"$nulls":4},27341,66.400000000000006]
[1447,0,0,0,0,null,0,0,0,0,null,27281,0,{"$nulls":4},27351,37.299999999999997]
[1449,0,0,0,0,null,0,0,0,0,null,27301,0,{"$nulls":4},27361,35.9]
[1490,0,0,0,0,null,0,0,0,0,null,27321,0,{"$nulls":4},27371,62.6]
[1491,0,0,0,0,null,0,0,0,0,null,27341,52.4,{"$nulls":4},27381,10]
[1492,0,0,0,0,null,0,0,0,0,null,27351,11.1,{"$nulls":4},27401,15.3]
[1493,0,0,0,0,null,0,0,0,0,null,27361,0,{"$nulls":4},27411,12.9]
[1495,0,0,0,0,null,0,0,0,0,null,27371,0,{"$nulls":4},27441,73.3]
[1497,0,0,0,0,null,0,0,0,0,null,27381,0,{"$nulls":4},27461,48.9]
[1498,0,0,0,0,null,0,0,0,0,null,27401,0.1,{"$nulls":4},27481,0.1]
[1499,0,0,0,0,null,0,0,0,0,null,27411,0,{"$nulls":4},27501,14.8]
[1501,0,0,0,0,null,0,0,0,0,null,27441,0,{"$nulls":4},50000,27.895499999999998]
[1502,0,0,0,0,null,0,0,0,0,null,27461,0,{"$nulls":4},50050,10.5471]
[1503,0,0,0,0,null,0,0,0,0,null,27481,47.8,{"$nulls":4},50054,38.8369]
[1504,0,0,0,0,null,0,0,0,0,null,27501,0,{"$nulls":4},50200,11.434200000000001]
[1505,0,0,0,0,null,0,0,0,0,null,28161,0,{"$nulls":4},50250,10.0542]
[1506,0,0,0,0,null,0,0,0,0,null,28181,0,{"$nulls":4},50350,31.641200000000001]
[1507,0,0,0,0,null,0,0,0,0,null,50050,0,{"$nulls":4},50650,14.391299999999999]
[1509,0,0,0,0,null,0,0,0,0,null,50054,5.4753999999999996,{"$nulls":4},50700,1.8728]
[1511,{"$f":"IFERROR(VLOOKUP(A130,L:M,2,0),0)","v":0},{"$f":"IFERROR(VLOOKUP(A130,N:O,2,0),0)","v":0},{"$f":"IFERROR(VLOOKUP(A130,P:Q,2,0),0)","v":0},{"$f":"B130-C130-D130","v":0},null,{"$f":"IFERROR(VLOOKUP(A130,R:S,2,0),0)","v":0},{"$f":"IFERROR(VLOOKUP(A130,V:W,2,0),0)","v":0},{"$f":"IFERROR(VLOOKUP(A130,T:U,2,0),0)","v":0},{"$f":"G130-H130-I130","v":0},null,50100,148.35900000000001,{"$nulls":4},50750,11.335599999999999]
[1513,0,0,0,0,null,0,0,0,0,null,50103,22.187000000000001,{"$nulls":4},50800,3.7456999999999998]
[1516,0,0,0,0,null,0,0,0,0,null,50150,66.552999999999997,{"$nulls":4},50900,0]
[1518,0,0,0,0,null,0,0,0,0,null,50200,155.97909999999999,{"$nulls":4},50950,6.7027999999999999]
[1519,0,0,0,0,null,0,0,0,0,null,50250,136.3271,{"$nulls":4},51150,0]
[1520,0,0,0,0,null,0,0,0,0,null,50300,35.509799999999998,{"$nulls":4},51450,16.559899999999999]
[1521,0,0,0,0,null,0,0,0,0,null,50350,0,{"$nulls":4},53000,104.5835]
[1522,0,0,0,0,null,0,0,0,0,null,50650,2.6802999999999999,{"$nulls":4},53050,30.162600000000001]
[1524,0,0,0,0,null,0,0,0,0,null,50700,0.18240000000000001,{"$nulls":4},53150,23.558399999999999]
[1526,0,0,0,0,null,0,0,0,0,null,50750,0,{"$nulls":4},53204,11.729900000000001]
[1527,0,0,0,0,null,0,0,0,0,null,50800,6.0007999999999999,{"$nulls":4},53254,27.304099999999998]
[1528,0,0,0,0,null,0,0,0,0,null,50900,1.4998,{"$nulls":4},53304,30.458400000000001]
[1667,0,0,0,0,null,0,0,0,0,null,50950,1.0004,{"$nulls":4},53354,26.417000000000002]
[1702,0,0,0,0,null,0,0,0,0,null,51150,139.91,{"$nulls":4},53404,56.481000000000002]
[1710,22.91,22.91,0,0,null,44.8752,0,0,44.8752,null,51300,1.7891999999999999,{"$nulls":4},53454,59.635300000000001]
[1713,0,0,0,0,null,0,0,0,0,null,53000,0,{"$nulls":4},53550,22.868400000000001]
[1714,0,0,0,0,null,0,0,0,0,null,53050,2.9996999999999998,{"$nulls":4},53604,62.986699999999999]
[1715,0,0,0,0,null,0,0,0,0,null,53200,0,{"$nulls":4},53654,49.088200000000001]
[1718,0,0,0,0,null,0,0,0,0,null,53204,9.3468999999999998,{"$nulls":4},53704,38.935400000000001]
[1719,0,0,0,0,null,0,0,0,0,null,53254,0.28999999999999998,{"$nulls":4},53754,63.9724]
[1730,0,0,0,0,null,0,0,0,0,null,53304,1.2501,{"$nulls":4},53854,8.2798999999999996]
[1732,0,0,0,0,null,0,0,0,0,null,53354,3.1166,{"$nulls":4},53900,8.5756999999999994]
[1735,0,0,0,0,null,0,0,0,0,null,53754,5.6173000000000002,{"$nulls":4},54000,12.617100000000001]
[1736,0,0,0,0,null,0,0,0,0,null,53854,8,{"$nulls":4},54050,23.657]
[1755,0,0,0,0,null,0,0,0,0,null,54104,2.3001999999999998,{"$nulls":4},54104,24.2484]
[1758,0,0,0,0,null,0,0,0,0,null,54250,137.916,{"$nulls":4},54200,6.7027999999999999]
[1762,0,0,0,0,null,0,0,0,0,null,54500,11.86,{"$nulls":4},54750,24.5441]
[1764,0,0,0,0,null,0,0,0,0,null,58004,0,{"$nulls":4},56000,23.755500000000001]
[1771,0,0,0,0,null,27.6,0,0,27.6,null,58054,3.9662000000000002,{"$nulls":4},56050,16.461300000000001]
[1772,0,0,0,0,null,0,0,0,0,null,58104,44.494,{"$nulls":4},56100,4.1399999999999997]
[1795,0,0,0,0,null,0,0,0,0,null,58200,3.4695999999999998,{"$nulls":4},58004,4.9284999999999997]
[1810,0,0,0,0,null,0,0,0,0,null,58304,0,{"$nulls":4},58054,4.9284999999999997]
[1813,0,0,0,0,null,0,0,0,0,null,58450,15,{"$nulls":4},58104,1.9714]
[1816,0,0,0,0,null,0,0,0,0,null,58500,66.456999999999994,{"$nulls":4},58150,14.785600000000001]
[1820,0,0,0,0,null,0,0,0,0,{"$nulls":7},58200,25.529800000000002]
[1821,0,0,0,0,null,0,0,0,0,{"$nulls":7},58304,20.009899999999998]
[1822,0,0,0,0,null,0,0,0,0,{"$nulls":7},58350,4.2385000000000002]
[1823,0,0,0,0,null,0,0,0,0]
[1828,0,0,0,0,null,0,0,0,0]
[1832,0,0,0,0,null,0,0,0,0]
[1833,0,0,0,0,null,0,0,0,0]
[1835,0,0,0,0,null,0,0,0,0]
[1840,32.079000000000001,0,0,32.079000000000001,null,0,0,0,0]
[1841,0,0,0,0,null,0,0,0,0]
[1842,0,0,0,0,null,0,0,0,0]
[1845,0,0,0,0,null,0,0,0,0]
[1846,0,0,0,0,null,0,0,0,0]
[1857,0,0,0,0,null,0,0,0,0]
[1862,0,0,0,0,null,0,0,0,0]
[1863,0,0,0,0,null,0,0,0,0]
[1869,0,0,0,0,null,0,0,0,0]
[1908,0,0,0,0,null,0,0,0,0]
[3029,3.883,0,0,3.883,null,34.0642,0,0,34.0642]
[3030,0,0,0,0,null,31.468599999999999,0,0,31.468599999999999]
[3031,0,0,0,0,null,17.018699999999999,0,0,17.018699999999999]
[3032,88.9786,0,0,88.9786,null,1.6054999999999999,0,0,1.6054999999999999]
[3033,0,0,0,0,null,14.9315,0,0,14.9315]
[3034,99.338000000000008,0,0,99.338000000000008,null,29.140599999999999,0,0,29.140599999999999]
[3036,0,0,0,0,null,0,0,0,0]
[3037,0,0,0,0,null,51.056199999999997,0,0,51.056199999999997]
[3038,23.728000000000002,0,0,23.728000000000002,null,19.618400000000001,0,0,19.618400000000001]
[3040,0,0,0,0,null,9.4726999999999997,0,0,9.4726999999999997]
[3045,0,0,0,0,null,29.060300000000002,0,0,29.060300000000002]
[3049,0,0,0,0,null,25.688700000000001,0,0,25.688700000000001]
[3052,{"$f":"IFERROR(VLOOKUP(A194,L:M,2,0),0)","v":0},{"$f":"IFERROR(VLOOKUP(A194,N:O,2,0),0)","v":0},{"$f":"IFERROR(VLOOKUP(A194,P:Q,2,0),0)","v":0},{"$f":"B194-C194-D194","v":0},null,{"$f":"IFERROR(VLOOKUP(A194,R:S,2,0),0)","v":41.744100000000003},{"$f":"IFERROR(VLOOKUP(A194,V:W,2,0),0)","v":0},{"$f":"IFERROR(VLOOKUP(A194,T:U,2,0),0)","v":0},{"$f":"G194-H194-I194","v":41.744100000000003}]
[3055,6.4510000000000005,0,0,6.4510000000000005,null,56.1492,0,0,56.1492]
[3059,0,0,0,0,null,0,0,0,0]
[3060,3.9689999999999999,0,0,3.9689999999999999,null,30.023599999999998,0,0,30.023599999999998]
[3064,0,0,0,0,null,2.8479999999999999,0,0,2.8479999999999999]
[3075,0,0,0,0,null,13.004899999999999,0,0,13.004899999999999]
[3077,0,0,0,0,null,31.147500000000001,0,0,31.147500000000001]
[3078,0,0,0,0,null,52.501199999999997,0,0,52.501199999999997]
[3080,0,0,0,0,null,0,0,0,0]
[3082,5.9249999999999998,0,0,5.9249999999999998,null,7.2248999999999999,0,0,7.2248999999999999]
[3085,0,0,0,0,null,25.367599999999999,0,0,25.367599999999999]
[3091,0,0,0,0,null,8.9909999999999997,0,0,8.9909999999999997]
[3093,0,0,0,0,null,0,0,0,0]
[3095,0,0,0,0,null,24.7254,0,0,24.7254]
[3098,20,0,0,20,null,0,0,0,0]
[3100,3.5950000000000002,0,0,3.5950000000000002,null,23.440899999999999,0,0,23.440899999999999]
[3101,9.57,0,0,9.57,null,53.1434,0,0,53.1434]
[3103,0,0,0,0,null,12.041600000000001,0,0,12.041600000000001]
[3108,0,0,0,0,null,14.6104,0,0,14.6104]
[3110,0,0,0,0,null,0,0,0,0]
[3113,0,0,0,0,null,15.8949,0,0,15.8949]
[3116,0,0,0,0,null,0,0,0,0]
[3118,0,0,0,0,null,7.4414999999999996,0,0,7.4414999999999996]
[3120,0,0,0,0,null,0,0,0,0]
[3122,0,0,0,0,null,11.559900000000001,0,0,11.559900000000001]
[3123,10.115,0,0,10.115,null,43.670699999999997,0,0,43.670699999999997]
[3131,0,0,0,0,null,7.2248999999999999,0,0,7.2248999999999999]
[3132,0,0,0,0,null,0,0,0,0]
[3155,0,0,0,0,null,20.711500000000001,0,0,20.711500000000001]
[3160,0,0,0,0,null,14.9315,0,0,14.9315]
[3179,0,0,0,0,null,8.5093999999999994,0,0,8.5093999999999994]
[3180,0.14399999999999999,0,0,0.14399999999999999,null,12.2021,0,0,12.2021]
[3183,6.7830000000000004,0,0,6.7830000000000004,null,18.0855,5.91,0,12.1755]
[3190,0,0,0,0,null,0,0,0,0]
[3203,10.115,0,0,10.115,null,0,0,0,0]
[3204,227,0,0,227,null,0,0,0,0]
[3211,0,0,0,0,null,0,0,0,0]
[3213,70,0,0,70,null,0,0,0,0]
[3219,30,0,0,30,null,0,0,0,0]
[3300,0,0,0,0,null,0,0,0,0]
[3301,240,0,0,240,null,0,0,0,0]
[3310,0,0,0,0,null,7.5460000000000003,0,0,7.5460000000000003]
[3355,0,0,0,0,null,0,0,0,0]
[3408,0,0,0,0,null,17.3399,0,0,17.3399]
[3424,0,0,0,0,null,33.7164,0,0,33.7164]
[3427,0,0,0,0,null,0,0,0,0]
[3428,0,0,0,0,null,0,0,0,0]
[3429,0,0,0,0,null,0,0,0,0]
[3544,11,0,0,11,null,0,0,0,0]
[3550,28,0,0,28,null,0,0,0,0]
[3553,14,0,0,14,null,29.140599999999999,0,0,29.140599999999999]
[3592,0,0,0,0,null,0,0,0,0]
[4122,0,0,0,0,null,0,0,0,0]
[4124,0,0,0,0,null,0,0,0,0]
[4173,0,0,0,0,null,0,0,0,0]
[4300,0,0,0,0,null,24.01,0,0,24.01]
[4302,0,0,0,0,null,0,0,0,0]
[4305,0,0,0,0,null,0,0,0,0]
[4306,0,0,0,0,null,0,0,0,0]
[4307,10.83,0,0,10.83,null,5.65,0,0,5.65]
[4312,0,0,0,0,null,0,0,0,0]
[4315,0,0,0,0,null,59.570000000000007,0,0,59.570000000000007]
[4316,52.821999999999996,0,0,52.821999999999996,null,35.001999999999995,0,0,35.001999999999995]
[4317,0,0,0,0,null,65.2,0,0,65.2]
[4318,{"$f":"IFERROR(VLOOKUP(A258,L:M,2,0),0)","v":0},{"$f":"IFERROR(VLOOKUP(A258,N:O,2,0),0)","v":0},{"$f":"IFERROR(VLOOKUP(A258,P:Q,2,0),0)","v":0},{"$f":"B258-C258-D258","v":0},null,{"$f":"IFERROR(VLOOKUP(A258,R:S,2,0),0)","v":0},{"$f":"IFERROR(VLOOKUP(A258,V:W,2,0),0)","v":0},{"$f":"IFERROR(VLOOKUP(A258,T:U,2,0),0)","v":0},{"$f":"G258-H258-I258","v":0}]
[4319,0,0,0,0,null,40.46,0,0,40.46]
[4322,0,0,0,0,null,0,0,0,0]
[4323,0,0,0,0,null,0,0,0,0]
[4325,0,0,0,0,null,0,0,0,0]
[4326,0,0,0,0,null,0,0,0,0]
[4327,0,0,0,0,null,0,0,0,0]
[4328,22.8,0,0,22.8,null,1.5049999999999999,0,0,1.5049999999999999]
[4329,0,0,0,0,null,0.11,0,0,0.11]
[4330,25.65,0,0,25.65,null,14.77,0,0,14.77]
[4331,15.85,0,0,15.85,null,51.81,0,0,51.81]
[4336,32.279000000000003,0,0,32.279000000000003,null,91.74,0,0,91.74]
[4338,0,0,0,0,null,0,0,0,0]
[4340,0,0,0,0,null,0,0,0,0]
[4341,67,0,0,67,null,6.1929999999999996,0,0,6.1929999999999996]
[4342,0,0,0,0,null,5.51,0,0,5.51]
[4343,0,0,0,0,null,0,0,0,0]
[4345,0,0,0,0,null,0,0,0,0]
[4346,0,0,0,0,null,0,0,0,0]
[4350,0,0,0,0,null,0,0,0,0]
[4354,0,0,0,0,null,0,0,0,0]
[4357,0,0,0,0,null,11.32,0,0,11.32]
[4358,0,0,0,0,null,0,0,0,0]
[4359,0,0,0,0,null,0,0,0,0]
[4361,0,0,0,0,null,0,0,0,0]
[4362,0,0,0,0,null,0,0,0,0]
[4386,0,0,0,0,null,0,0,0,0]
[4392,0,0,0,0,null,0,0,0,0]
[4400,0,0,0,0,null,0,0,0,0]
[4401,0,0,0,0,null,0,0,0,0]
[4402,0,0,0,0,null,1.62,0,0,1.62]
[4403,0,0,0,0,null,51.066000000000003,35,16.065999999999999,0]
[4404,0,0,0,0,null,0,0,0,0]
[4405,57,0,0,57,null,0.57000000000000006,0,0,0.57000000000000006]
[4406,0,0,0,0,null,0,0,0,0]
[4407,0,0,0,0,null,0,0,0,0]
[4408,0,0,0,0,null,0,0,0,0]
[4410,0,0,0,0,null,0,0,0,0]
[4411,0,0,0,0,null,0,0,0,0]
[4412,0,0,0,0,null,0,0,0,0]
[4415,0,0,0,0,null,0,0,0,0]
[4419,23.689299999999999,0,0,23.689299999999999,null,0.14000000000000001,0,0,0.14000000000000001]
[4420,0,0,0,0,null,0,0,0,0]
[4750,47.3,0,0,47.3,null,49,49,0,0]
[4800,29.92,0,0,29.92,null,0.23,0,0,0.23]
[4803,35.880000000000003,0,0,35.880000000000003,null,0,0,0,0]
[4827,0,0,0,0,null,2.4500000000000002,0,0,2.4500000000000002]
[4832,0,0,0,0,null,0,0,0,0]
[4908,0,0,0,0,null,0,0,0,0]
[4910,0,0,0,0,null,0,0,0,0]
[4916,0,0,0,0,null,0,0,0,0]
[4918,0,0,0,0,null,0,0,0,0]
[4919,0,0,0,0,null,0,0,0,0]
[4920,0,0,0,0,null,0,0,0,0]
[4922,0,0,0,0,null,0,0,0,0]
[4927,0,0,0,0,null,0,0,0,0]
[6000,0,0,0,0,null,0,0,0,0]
[6001,0,0,0,0,null,0,0,0,0]
[6002,0,0,0,0,null,301.25480000000005,0,0,301.25480000000005]
[6003,243.0521,0,0,243.0521,null,0,0,0,0]
[6004,0,0,0,0,null,80.590900000000005,0,0,80.590900000000005]
[6005,154.45999999999998,12,0,142.45999999999998,null,0,0,0,0]
[6006,0,0,0,0,null,0,0,0,0]
[6007,0,0,0,0,null,69.529499999999999,0,0,69.529499999999999]
[6008,{"$f":"IFERROR(VLOOKUP(A322,L:M,2,0),0)","v":194.31},{"$f":"IFERROR(VLOOKUP(A322,N:O,2,0),0)","v":37},{"$f":"IFERROR(VLOOKUP(A322,P:Q,2,0),0)","v":0},{"$f":"B322-C322-D322","v":157.31},null,{"$f":"IFERROR(VLOOKUP(A322,R:S,2,0),0)","v":0},{"$f":"IFERROR(VLOOKUP(A322,V:W,2,0),0)","v":0},{"$f":"IFERROR(VLOOKUP(A322,T:U,2,0),0)","v":0},{"$f":"G322-H322-I322","v":0}]
[6009,4.8620000000000001,0,0,4.8620000000000001,null,102.5211,0,0,102.5211]
[6010,2.8513999999999999,0,0,2.8513999999999999,null,7.8785999999999996,0,0,7.8785999999999996]
[6011,0,0,0,0,null,0,0,0,0]
[6012,0,0,0,0,null,5.7474999999999996,0,0,5.7474999999999996]
[6013,8.1154000000000011,0,0,8.1154000000000011,null,57.271299999999997,0,0,57.271299999999997]
[6014,0,0,0,0,null,0,0,0,0]
[6015,0,0,0,0,null,0.29580000000000001,0,0,0.29580000000000001]
[6016,0,0,0,0,null,13.2422,0,0,13.2422]
[6018,10.000000000000002,8.3500000000000014,0,1.6500000000000004,null,134.54750000000001,0,0,134.54750000000001]
[6024,0,0,0,0,null,33.413499999999999,0,0,33.413499999999999]
[6036,0,0,0,0,null,0,0,0,0]
[6059,0,0,0,0,null,85.097800000000007,0,0,85.097800000000007]
[6060,0,0,0,0,null,0,0,0,0]
[6066,0,0,0,0,null,0,0,0,0]
[6074,0,0,0,0,null,0,0,0,0]
[6082,0,0,0,0,null,0,0,0,0]
[6083,0,0,0,0,null,0,0,0,0]
[6084,0,0,0,0,null,0,0,0,0]
[6085,0,0,0,0,null,0,0,0,0]
[6086,0,0,0,0,null,0,0,0,0]
[6087,0,0,0,0,null,0,0,0,0]
[6088,12.0479,0,0,12.0479,null,0,0,0,0]
[6092,14.7133,0,0,14.7133,null,0,0,0,0]
[6096,289.96589999999998,0,0,289.96589999999998,null,0,0,0,0]
[6100,24.187000000000001,3.25,20.936999999999998,0,null,0.60440000000000005,0,0,0.60440000000000005]
[6105,0,0,0,0,null,0,0,0,0]
[6123,0,0,0,0,null,0,0,0,0]
[6170,0,0,0,0,null,11.154500000000001,0,0,11.154500000000001]
[6171,0,0,0,0,null,11.739699999999999,0,0,11.739699999999999]
[6173,0,0,0,0,null,0,0,0,0]
[6178,40.650100000000002,0,0,40.650100000000002,null,0,0,0,0]
[6179,0,0,0,0,null,0,0,0,0]
[6182,0,0,0,0,null,0,0,0,0]
[6240,0,0,0,0,null,0,0,0,0]
[6241,0,0,0,0,null,24.014800000000001,0,0,24.014800000000001]
[6243,0,0,0,0,null,0,0,0,0]
[6260,0,0,0,0,null,0,0,0,0]
[6261,9.4,0,0,9.4,null,0,0,0,0]
[6262,0,0,0,0,null,9.3693000000000008,0,0,9.3693000000000008]
[6263,9.6404999999999994,0,0,9.6404999999999994,null,0,0,0,0]
[6270,0,0,0,0,null,0,0,0,0]
[6280,0,0,0,0,null,0,0,0,0]
[6290,0,0,0,0,null,0,0,0,0]
[6300,8.2654999999999994,0,0,8.2654999999999994,null,0,0,0,0]
[6330,0,0,0,0,null,0,0,0,0]
[6331,0,0,0,0,null,0,0,0,0]
[6332,14,0,0,14,null,0,0,0,0]
[6340,0,0,0,0,null,17.8431,0,0,17.8431]
[6360,8.3673000000000002,0,0,8.3673000000000002,null,0,0,0,0]
[6363,11.206200000000001,0,0,11.206200000000001,null,0,0,0,0]
[6366,16.430199999999999,0,0,16.430199999999999,null,0,0,0,0]
[6380,0,0,0,0,null,0,0,0,0]
[6381,16.306699999999999,0,0,16.306699999999999,null,0,0,0,0]
[6400,0,0,0,0,null,0,0,0,0]
[6440,9.5530000000000008,0,0,9.5530000000000008,null,0,0,0,0]
[6441,0,0,0,0,null,0,0,0,0]
[6442,0,0,0,0,null,0,0,0,0]
[6443,0,0,0,0,null,0,0,0,0]
[6460,4.1500000000000004,0,0,4.1500000000000004,null,0,0,0,0]
[6470,0,0,0,0,null,25.006399999999999,0,0,25.006399999999999]
[6490,0,0,0,0,null,0,0,0,0]
[6500,0,0,0,0,null,0,0,0,0]
[6510,0,0,0,0,null,0,0,0,0]
[6511,{"$f":"IFERROR(VLOOKUP(A386,L:M,2,0),0)","v":0},{"$f":"IFERROR(VLOOKUP(A386,N:O,2,0),0)","v":0},{"$f":"IFERROR(VLOOKUP(A386,P:Q,2,0),0)","v":0},{"$f":"B386-C386-D386","v":0},null,{"$f":"IFERROR(VLOOKUP(A386,R:S,2,0),0)","v":0},{"$f":"IFERROR(VLOOKUP(A386,V:W,2,0),0)","v":0},{"$f":"IFERROR(VLOOKUP(A386,T:U,2,0),0)","v":0},{"$f":"G386-H386-I386","v":0}]
[6513,0,0,0,0,null,0,0,0,0]
[6520,0,0,0,0,null,0,0,0,0]
[6550,0,0,0,0,null,0,0,0,0]
[6604,0,0,0,0,null,0,0,0,0]
[6684,0,0,0,0,null,0,0,0,0]
[6713,0,0,0,0,null,16.293099999999999,0,0,16.293099999999999]
[6753,0,0,0,0,null,0,0,0,0]
[6755,0,0,0,0,null,0,0,0,0]
[12007,0,0,0,0,null,0,0,0,0]
[12029,0,0,0,0,null,0,0,0,0]
[12030,0,0,0,0,null,0,0,0,0]
[12031,0,0,0,0,null,0,0,0,0]
[12036,0,0,0,0,null,0,0,0,0]
[12047,0,0,0,0,null,0,0,0,0]
[12049,0,0,0,0,null,0,0,0,0]
[12080,0,0,0,0,null,0,0,0,0]
[12089,0,0,0,0,null,0,0,0,0]
[12094,0,0,0,0,null,0,0,0,0]
[12108,0,0,0,0,null,0,0,0,0]
[12127,0,0,0,0,null,0,0,0,0]
[12129,0,0,0,0,null,0,0,0,0]
[12136,0,0,0,0,null,0,0,0,0]
[12142,0,0,0,0,null,0,0,0,0]
[12144,0,0,0,0,null,0,0,0,0]
[12154,0,0,0,0,null,0,0,0,0]
[12177,0,0,0,0,null,0,0,0,0]
[12178,0,0,0,0,null,0,0,0,0]
[12183,0,0,0,0,null,0,0,0,0]
[12195,0,0,0,0,null,0,0,0,0]
[12204,0,0,0,0,null,0,0,0,0]
[12205,0,0,0,0,null,0,0,0,0]
[12218,0,0,0,0,null,0,0,0,0]
[12219,0,0,0,0,null,0,0,0,0]
[12220,0,0,0,0,null,0,0,0,0]
[12221,0,0,0,0,null,0,0,0,0]
[12225,0,0,0,0,null,0,0,0,0]
[12234,0,0,0,0,null,0,0,0,0]
[12238,0,0,0,0,null,0,0,0,0]
[12239,0,0,0,0,null,0,0,0,0]
[12241,0,0,0,0,null,0,0,0,0]
[12242,0,0,0,0,null,0,0,0,0]
[12243,0,0,0,0,null,0,0,0,0]
[12251,0,0,0,0,null,0,0,0,0]
[12254,0,0,0,0,null,0,0,0,0]
[12257,0,0,0,0,null,0,0,0,0]
[12258,0,0,0,0,null,0,0,0,0]
[12269,0,0,0,0,null,0,0,0,0]
[12280,0,0,0,0,null,0,0,0,0]
[12281,0,0,0,0,null,0,0,0,0]
[12282,0,0,0,0,null,0,0,0,0]
[12283,0,0,0,0,null,0,0,0,0]
[12285,0,0,0,0,null,0,0,0,0]
[12292,0,0,0,0,null,0,0,0,0]
[12294,0,0,0,0,null,0,0,0,0]
[12295,0,0,0,0,null,0,0,0,0]
[12305,0,0,0,0,null,0,0,0,0]
[14002,0,0,0,0,null,0,0,0,0]
[14005,0,0,0,0,null,0,0,0,0]
[14011,0,0,0,0,null,0,0,0,0]
[14320,0,0,0,0,null,0,0,0,0]
[22372,0,0,0,0,null,0,0,0,0]
[24161,0,0,0,0,null,0,0,0,0]
[24181,0,0,0,0,null,0,0,0,0]
[27101,{"$f":"IFERROR(VLOOKUP(A450,L:M,2,0),0)","v":84.6},{"$f":"IFERROR(VLOOKUP(A450,N:O,2,0),0)","v":0},{"$f":"IFERROR(VLOOKUP(A450,P:Q,2,0),0)","v":0},{"$f":"B450-C450-D450","v":84.6},null,{"$f":"IFERROR(VLOOKUP(A450,R:S,2,0),0)","v":0},{"$f":"IFERROR(VLOOKUP(A450,V:W,2,0),0)","v":0},{"$f":"IFERROR(VLOOKUP(A450,T:U,2,0),0)","v":0},{"$f":"G450-H450-I450","v":0}]
[27111,0,0,0,0,null,0,0,0,0]
[27131,47.1,0,0,47.1,null,12.9,0,0,12.9]
[27161,72.892400000000009,0,0,72.892400000000009,null,25.5,17,0,8.5]
[27171,69.599999999999994,0,0,69.599999999999994,null,11.2,0,0,11.2]
[27181,58.8,0,0,58.8,null,8.6999999999999993,0,0,8.6999999999999993]
[27211,93.4,0,0,93.4,null,0,0,0,0]
[27281,0,0,0,0,null,0,0,0,0]
[27301,0,0,0,0,null,83.1,0,0,83.1]
[27321,0,0,0,0,null,31.5,0,0,31.5]
[27341,52.4,0,0,52.4,null,66.400000000000006,0,0,66.400000000000006]
[27351,11.1,0,0,11.1,null,37.299999999999997,0,0,37.299999999999997]
[27361,0,0,0,0,null,35.9,0,0,35.9]
[27371,0,0,0,0,null,62.6,0,0,62.6]
[27381,0,0,0,0,null,10,0,0,10]
[27391,0,0,0,0,null,0,0,0,0]
[27401,0.1,0,0,0.1,null,15.3,0,0,15.3]
[27411,0,0,0,0,null,12.9,0,0,12.9]
[27421,0,0,0,0,null,0,0,0,0]
[27431,0,0,0,0,null,0,0,0,0]
[27441,0,0,0,0,null,73.3,0,0,73.3]
[27451,0,0,0,0,null,0,0,0,0]
[27461,0,0,0,0,null,48.9,0,0,48.9]
[27471,0,0,0,0,null,0,0,0,0]
[27481,47.8,0,0,47.8,null,0.1,0,0,0.1]
[27491,0,0,0,0,null,0,0,0,0]
[27501,0,0,0,0,null,14.8,0,0,14.8]
[27511,0,0,0,0,null,0,0,0,0]
[28161,0,0,0,0,null,0,0,0,0]
[28181,0,0,0,0,null,0,0,0,0]
[28371,0,0,0,0,null,0,0,0,0]
[29161,0,0,0,0,null,0,0,0,0]
[29162,0,0,0,0,null,0,0,0,0]
[29181,0,0,0,0,null,0,0,0,0]
[29182,0,0,0,0,null,0,0,0,0]
[50000,0,0,0,0,null,27.895499999999998,0,0,27.895499999999998]
[50050,0,0,0,0,null,10.5471,0,0,10.5471]
[50054,5.4753999999999996,0,0,5.4753999999999996,null,38.8369,0,0,38.8369]
[50100,148.35900000000001,0,0,148.35900000000001,null,0,0,0,0]
[50103,22.187000000000001,0,0,22.187000000000001,null,0,0,0,0]
[50150,66.552999999999997,0,0,66.552999999999997,null,0,0,0,0]
[50200,155.97909999999999,0,0,155.97909999999999,null,11.434200000000001,0,0,11.434200000000001]
[50250,136.3271,0,0,136.3271,null,10.0542,0,0,10.0542]
[50253,0,0,0,0,null,0,0,0,0]
[50300,35.509799999999998,0,0,35.509799999999998,null,0,0,0,0]
[50350,0,0,0,0,null,31.641200000000001,0,0,31.641200000000001]
[50354,0,0,0,0,null,0,0,0,0]
[50404,0,0,0,0,null,0,0,0,0]
[50454,0,0,0,0,null,0,0,0,0]
[50499,0,0,0,0,null,0,0,0,0]
[50504,0,0,0,0,null,0,0,0,0]
[50554,0,0,0,0,null,0,0,0,0]
[50604,0,0,0,0,null,0,0,0,0]
[50650,2.6802999999999999,0,0,2.6802999999999999,null,14.391299999999999,0,0,14.391299999999999]
[50700,0.18240000000000001,0,0,0.18240000000000001,null,1.8728,0,0,1.8728]
[50750,0,0,0,0,null,11.335599999999999,0,0,11.335599999999999]
[50800,6.0007999999999999,0,0,6.0007999999999999,null,3.7456999999999998,0,0,3.7456999999999998]
[50900,1.4998,0,0,1.4998,null,0,0,0,0]
[50950,1.0004,0,0,1.0004,null,6.7027999999999999,0,0,6.7027999999999999]
[51150,139.91,0,0,139.91,null,0,0,0,0]
[51200,0,0,0,0,null,0,0,0,0]
[51250,0,0,0,0,null,0,0,0,0]
[51300,1.7891999999999999,0,0,1.7891999999999999,null,0,0,0,0]
[51450,0,0,0,0,null,16.559899999999999,0,0,16.559899999999999]
[53000,{"$f":"IFERROR(VLOOKUP(A514,L:M,2,0),0)","v":0},{"$f":"IFERROR(VLOOKUP(A514,N:O,2,0),0)","v":0},{"$f":"IFERROR(VLOOKUP(A514,P:Q,2,0),0)","v":0},{"$f":"B514-C514-D514","v":0},null,{"$f":"IFERROR(VLOOKUP(A514,R:S,2,0),0)","v":104.5835},{"$f":"IFERROR(VLOOKUP(A514,V:W,2,0),0)","v":0},{"$f":"IFERROR(VLOOKUP(A514,T:U,2,0),0)","v":0},{"$f":"G514-H514-I514","v":104.5835}]
[53004,0,0,0,0,null,0,0,0,0]
[53050,2.9996999999999998,0,0,2.9996999999999998,null,30.162600000000001,0,0,30.162600000000001]
[53100,0,0,0,0,null,0,0,0,0]
[53150,0,0,0,0,null,23.558399999999999,0,0,23.558399999999999]
[53154,0,0,0,0,null,0,0,0,0]
[53200,0,0,0,0,null,0,0,0,0]
[53204,9.3468999999999998,0,0,9.3468999999999998,null,11.729900000000001,0,0,11.729900000000001]
[53254,0.28999999999999998,0,0,0.28999999999999998,null,27.304099999999998,0,0,27.304099999999998]
[53304,1.2501,0,0,1.2501,null,30.458400000000001,0,0,30.458400000000001]
[53354,3.1166,0,0,3.1166,null,26.417000000000002,0,0,26.417000000000002]
[53404,0,0,0,0,null,56.481000000000002,0,0,56.481000000000002]
[53454,0,0,0,0,null,59.635300000000001,0,0,59.635300000000001]
[53550,0,0,0,0,null,22.868400000000001,0,0,22.868400000000001]
[53604,0,0,0,0,null,62.986699999999999,0,0,62.986699999999999]
[53654,0,0,0,0,null,49.088200000000001,0,0,49.088200000000001]
[53704,0,0,0,0,null,38.935400000000001,0,0,38.935400000000001]
[53754,5.6173000000000002,0,0,5.6173000000000002,null,63.9724,0,0,63.9724]
[53756,0,0,0,0,null,0,0,0,0]
[53850,0,0,0,0,null,0,0,0,0]
[53854,8,0,0,8,null,8.2798999999999996,0,0,8.2798999999999996]
[53900,0,0,0,0,null,8.5756999999999994,0,0,8.5756999999999994]
[54000,0,0,0,0,null,12.617100000000001,0,0,12.617100000000001]
[54050,0,0,0,0,null,23.657,0,0,23.657]
[54104,2.3001999999999998,0,0,2.3001999999999998,null,24.2484,0,0,24.2484]
[54154,0,0,0,0,null,0,0,0,0]
[54200,0,0,0,0,null,6.7027999999999999,0,0,6.7027999999999999]
[54250,137.916,0,0,137.916,null,0,0,0,0]
[54500,11.86,0,0,11.86,null,0,0,0,0]
[54750,0,0,0,0,null,24.5441,0,0,24.5441]
[56000,0,0,0,0,null,23.755500000000001,0,0,23.755500000000001]
[56050,0,0,0,0,null,16.461300000000001,0,0,16.461300000000001]
[56100,0,0,0,0,null,4.1399999999999997,0,0,4.1399999999999997]
[58004,0,0,0,0,null,4.9284999999999997,0,0,4.9284999999999997]
[58054,3.9662000000000002,0,0,3.9662000000000002,null,4.9284999999999997,0,0,4.9284999999999997]
[58104,44.494,0,0,44.494,null,1.9714,0,0,1.9714]
[58150,0,0,0,0,null,14.785600000000001,0,0,14.785600000000001]
[58200,3.4695999999999998,0,0,3.4695999999999998,null,25.529800000000002,0,0,25.529800000000002]
[58300,0,0,0,0,null,0,0,0,0]
[58304,0,0,0,0,null,20.009899999999998,0,0,20.009899999999998]
[58350,0,0,0,0,null,4.2385000000000002,0,0,4.2385000000000002]
[58450,15,0,0,15,null,0,0,0,0]
[58500,66.456999999999994,0,0,66.456999999999994,null,0,0,0,0]
[58600,0,0,0,0,null,0,0,0,0]

{"sheet":"oor","index":3,"n_rows":22,"n_cols":13,"rows_kept":22,"cut":false,"hidden":false,"merged":[]}
["N°","Nodo Retiro","Generador","Precio bloque 1","MW Ofertados Bloque 1","Precio Ofertado Bloque 1","MW Ofertados Bloque 2","Precio Ofertado Bloque 2","MW Ofertados Bloque 3","Precio Ofertado Bloque 3","MW Ofertados Bloque 4","Precio Ofertado Bloque 4","MW Ofertados Bloque 5"]
[1,1124,1,41.72,38.32,0,0,0,0,0,0,0,0]
[2,28161,1,35.15,30,34.15,15,0,0,0,0,0,0]
[3,28161,1,32.81,5,0,0,0,0,0,0,0,0]
[4,28181,1,32.81,5,0,0,0,0,0,0,0,0]
[5,27211,1,25,10,20,5,10,5,0,0,0,0]
[6,28181,1,1,1.1399999999999999,0,0,0,0,0,0,0,0]
[7,27161,1,36.28,25,26.28,10,0,0,0,0,0,0]
[8,27131,1,35.11,5,33.11,5,0,0,0,0,0,0]
[9,27211,1,35.07,20,34,15,0,0,0,0,0,0]
[10,27211,1,33.86,7.5,32.94,7.5,1,5,0,0,0,0]
[11,27211,1,34.700000000000003,15,34.630000000000003,5,0,0,0,0,0,0]
[12,28161,1,34.700000000000003,15,34.630000000000003,5,0,0,0,0,0,0]
[13,27131,1,34.200000000000003,20,33.200000000000003,10,32.200000000000003,10,0,0,0,0]
[14,28161,1,35,10,0,0,0,0,0,0,0,0]
[15,3034,1,25,30,0,0,0,0,0,0,0,0]
[16,4403,1,46,5,0,0,0,0,0,0,0,0]
[17,4403,1,46,5,0,0,0,0,0,0,0,0]
[18,4403,1,45,2.8,0,0,0,0,0,0,0,0]
[19,4403,1,45,8.5,0,0,0,0,0,0,0,0]
[20,4402,1,41,0.8,0,0,0,0,0,0,0,0]
[21,6096,1,37.049999999999997,240,0,0,0,0,0,0,0,0]

{"sheet":"ooi","index":4,"n_rows":68,"n_cols":13,"rows_kept":68,"cut":false,"hidden":false,"merged":[]}
["N°","Nodo Inyeccion","Generador","Precio bloque 1","MW Ofertados Bloque 1","Precio Ofertado Bloque 1","MW Ofertados Bloque 2","Precio Ofertado Bloque 2","MW Ofertados Bloque 3","Precio Ofertado Bloque 3","MW Ofertados Bloque 4","Precio Ofertado Bloque 4","MW Ofertados Bloque 5"]
[1,1126,1,72.53,0.53800000000000003,0,0,0,0,0,0,0,0]
[2,1710,1,72.53,4.5369999999999999,0,0,0,0,0,0,0,0]
[3,1710,1,69,1.33,0,0,0,0,0,0,0,0]
[4,1710,1,58,2.9049999999999998,0,0,0,0,0,0,0,0]
[5,1710,1,50,1.2,0,0,0,0,0,0,0,0]
[6,1710,1,55,1.1000000000000001,0,0,0,0,0,0,0,0]
[7,1126,1,67.06,0.93500000000000005,0,0,0,0,0,0,0,0]
[8,1710,1,56,15.26,0,0,0,0,0,0,0,0]
[10,1124,1,92,28.155000000000001,0,0,0,0,0,0,0,0]
[11,1124,1,259,23.47,0,0,0,0,0,0,0,0]
[12,1126,1,198,16.568000000000001,0,0,0,0,0,0,0,0]
[13,1124,1,167,1.2470000000000001,0,0,0,0,0,0,0,0]
[14,1124,1,340.51,37.454999999999998,0,0,0,0,0,0,0,0]
[15,1124,1,150,0.83899999999999997,0,0,0,0,0,0,0,0]
[16,1124,1,209.08,22.388999999999999,0,0,0,0,0,0,0,0]
[17,1124,1,130,93.84,0,0,0,0,0,0,0,0]
[18,1710,1,69,1.32,0,0,0,0,0,0,0,0]
[19,27301,1,51,10,56,5,61,10,0,0,0,0]
[20,28181,1,58.85,5,0,0,0,0,0,0,0,0]
[21,28161,1,53.03,3,0,0,0,0,0,0,0,0]
[22,28181,1,53.03,10,0,0,0,0,0,0,0,0]
[23,27161,1,53.88,5,58.88,5,0,0,0,0,0,0]
[24,27461,1,50.67,15,51.5,5,52,5,0,0,0,0]
[25,27461,1,51.25,7.5,53.69,7.5,0,0,0,0,0,0]
[26,27131,1,50.81,17,52.81,5,0,0,0,0,0,0]
[27,28181,1,50.81,17,52.81,5,0,0,0,0,0,0]
[28,27461,1,52.14,15,54.14,15,57.14,10,58.14,20,59.14,10]
[29,27301,1,52,15,54,10,0,0,0,0,0,0]
[30,4402,1,315,10,0,0,0,0,0,0,0,0]
[31,50350,1,196,9,0,0,0,0,0,0,0,0]
[32,50900,1,190,106,0,0,0,0,0,0,0,0]
[33,58200,1,208,13,0,0,0,0,0,0,0,0]
[34,6018,1,354.87,14.345000000000001,0,0,0,0,0,0,0,0]
[35,6003,1,63.12,13.951000000000001,0,0,0,0,0,0,0,0]
[36,6059,1,135.59,17.48,0,0,0,0,0,0,0,0]
[37,6059,1,84.21,13.68,0,0,0,0,0,0,0,0]
[38,6100,1,44.93,41.268000000000001,0,0,0,0,0,0,0,0]
[39,6171,1,77.62,10.167999999999999,0,0,0,0,0,0,0,0]
[40,6173,1,84.16,10.635999999999999,0,0,0,0,0,0,0,0]
[41,6003,1,63.12,13.951000000000001,0,0,0,0,0,0,0,0]
[42,6059,1,84.21,13.68,0,0,0,0,0,0,0,0]
[43,6059,1,135.59,17.48,0,0,0,0,0,0,0,0]
[44,6100,1,44.93,41.268000000000001,0,0,0,0,0,0,0,0]
[45,6171,1,77.62,10.167999999999999,0,0,0,0,0,0,0,0]
[46,6173,1,84.16,10.635999999999999,0,0,0,0,0,0,0,0]
[47,6059,1,258.23,31.198,0,0,0,0,0,0,0,0]
[48,6059,1,270.25,26.619,0,0,0,0,0,0,0,0]
[49,6003,1,63.12,13.951000000000001,0,0,0,0,0,0,0,0]
[50,6059,1,84.21,13.68,0,0,0,0,0,0,0,0]
[51,6059,1,135.59,17.48,0,0,0,0,0,0,0,0]
[52,6100,1,44.93,41.268000000000001,0,0,0,0,0,0,0,0]
[53,6171,1,77.62,10.167999999999999,0,0,0,0,0,0,0,0]
[54,6173,1,84.16,10.635999999999999,0,0,0,0,0,0,0,0]
[55,6290,1,245.29,46.482999999999997,0,0,0,0,0,0,0,0]
[56,6290,1,249.15,46.113,0,0,0,0,0,0,0,0]
[57,6003,1,63.12,13.951000000000001,0,0,0,0,0,0,0,0]
[58,6059,1,84.21,13.68,0,0,0,0,0,0,0,0]
[59,6059,1,135.59,17.48,0,0,0,0,0,0,0,0]
[60,6100,1,44.93,43.496000000000002,0,0,0,0,0,0,0,0]
[61,6171,1,77.62,10.167999999999999,0,0,0,0,0,0,0,0]
[62,6173,1,84.16,10.635999999999999,0,0,0,0,0,0,0,0]
[63,6003,1,63.12,13.951000000000001,0,0,0,0,0,0,0,0]
[64,6059,1,84.21,13.68,0,0,0,0,0,0,0,0]
[65,6059,1,135.59,17.48,0,0,0,0,0,0,0,0]
[66,6100,1,44.93,43.496000000000002,0,0,0,0,0,0,0,0]
[67,6171,1,77.62,10.167999999999999,0,0,0,0,0,0,0,0]
[68,6173,1,84.16,10.635999999999999,0,0,0,0,0,0,0,0]

{"sheet":"cf","index":5,"n_rows":6,"n_cols":16,"rows_kept":6,"cut":false,"hidden":false,"merged":[]}
["N°","Nodo Inyeccion","Generador","Nodo Retiro","MW Energía Declarada","MW Energía Requerida","Precio Ofertado Bloque 1","MW Ofertados Bloque 1","Precio Ofertado Bloque 2","MW Ofertados Bloque 2","Precio Ofertado Bloque 3","MW Ofertados Bloque 3","Precio Ofertado Bloque 4","MW Ofertados Bloque 4","Precio Ofertado Bloque 5","MW Ofertados Bloque 5"]
[1,1710,"3_3183_005",3183,5.91,5.91,36,5.91,0,0,0,0,0,0,0,0]
[2,1124,"4_4403_119",4403,35,35,41.5,35,0,0,0,0,0,0,0,0]
[3,6005,"4_4750_005",4750,12,12,0,12,0,0,0,0,0,0,0,0]
[4,6008,"4_4750_136",4750,12,25,38,25,0,0,0,0,0,0,0,0]
[5,6008,"4_4750_129",4750,25,12,38,12,0,0,0,0,0,0,0,0]

{"sheet":"cnfff","index":6,"n_rows":8,"n_cols":36,"rows_kept":8,"cut":false,"hidden":false,"merged":[]}
["N°","nodo_i","Generador","nodo_r","Energia declarada","Precio_i bloque 1","Magnitud_i bloque 1","Precio_i bloque 2","Magnitud_i bloque 2","Precio_i bloque 3","Magnitud_i bloque 3","Precio_i bloque 4","Magnitud_i bloque 4","Precio_i bloque 5","Magnitud_i bloque 5","Precio_r bloque 1","Magnitud_r bloque 1","Precio_i bloque r","Magnitud_r bloque 2","Precio_r bloque 3","Magnitud_r bloque 3","Precio_r bloque 4","Magnitud_r bloque 4","Precio_r bloque 5","Magnitud_r bloque 5","k","Precio_max_cvt bloque 1","Magnitud_max_cvt bloque 1","Precio_max_cvt bloque 2","Magnitud_max_cvt bloque 2","Precio_max_cvt bloque 3","Magnitud_max_cvt bloque 3","Precio_max_cvt bloque 4","Magnitud_max_cvt bloque 4","Precio_max_cvt bloque 5","Magnitud_max_cvt bloque 5"]
[1,1710,"2_27161_270",27161,17,122.39,17,0,0,0,0,0,0,0,0,15.74,17,0,0,0,0,0,0,0,0,0,0.1,17,0,0,0,0,0,0,0,0]
[2,27301,"1_1124_1596",1124,15,0,0,0,0,0,0,0,0,0,0,60,15,0,0,0,0,0,0,0,0,0,0.1,15,0,0,0,0,0,0,0,0]
[3,27301,"1_1126_800",1126,10,43,10,0,0,0,0,0,0,0,0,65,10,0,0,0,0,0,0,0,0,0,0.01,10,0,0,0,0,0,0,0,0]
[4,6018,"2_27461_680",27461,3.5990000000000002,41.5,3.5990000000000002,0,0,0,0,0,0,0,0,0,0,0,0,0,0,0,0,0,0,0,0.01,3.5990000000000002,0,0,0,0,0,0,0,0]
[5,6100,"2_27461_680",27461,1.401,41.5,1.401,0,0,0,0,0,0,0,0,0,0,0,0,0,0,0,0,0,0,0,0.01,1.401,0,0,0,0,0,0,0,0]
[6,6018,"2_27461_681",27461,4.7510000000000003,41.5,4.7510000000000003,0,0,0,0,0,0,0,0,0,0,0,0,0,0,0,0,0,0,0,0.01,4.7510000000000003,0,0,0,0,0,0,0,0]
[7,6100,"2_27461_681",27461,1.849,41.5,1.849,0,0,0,0,0,0,0,0,0,0,0,0,0,0,0,0,0,0,0,0.01,1.849,0,0,0,0,0,0,0,0]