{"text_format":"2","workbook":"xlsx","n_sheets":7,"sheets":["rtr","g_m","Hoja4","oor","ooi","cf","cnfff"],"not_rendered":{"charts":0,"images":0,"macros":0,"external_links":0,"defined_names":5,"comments":0,"pivot_tables":0},"unopened":[],"bounds":{"document_bytes":16777216,"sheet_cells":100000,"run_cost":"one","rows_first":2000,"rows_last":500,"rows_between":2000,"halvings":0,"cell_chars":16384,"cell_head_chars":4096},"cells_cut":0,"cells_raw":0,"read":"whole","date_system":"1900"}

{"sheet":"rtr","index":0,"n_rows":834,"n_cols":7,"rows_kept":834,"cut":false,"hidden":false,"merged":[]}
["BUS_I","BUS_J","ID_CKT","X","R","CTOIJ","CTOJI"]
[4404,4800,"1",7.8299999999999995E-2,9.7999999999999997E-3,343,343]
[4330,4827,"1",2.1999999999999999E-2,5.7000000000000002E-3,142.5,142.5]
[4173,4800,"1",9.1800000000000007E-2,0,16,16]
[4800,4827,"1",5.6500000000000002E-2,0,114,114]
[4827,4173,"1",6.8699999999999997E-2,0,16,16]
[1101,1124,"2",2.6727999999999998E-2,4.1320000000000003E-3,396.4,396.4]
[4800,4832,"1",5.0000000000000001E-4,1E-4,343,343]
[4750,4832,"1",1.0999999999999999E-2,1.4E-3,343,343]
[4410,4800,"1",1.4E-3,2.0000000000000001E-4,98,98]
[4404,4803,"1",7.3999999999999996E-2,1.14E-2,240,240]
[1133,1444,"1",5.2975000000000001E-2,9.1739999999999999E-3,262.89999999999998,262.89999999999998]
[1102,1105,"1",4.0759999999999998E-2,8.7799999999999996E-3,294.5,294.5]
[1102,1106,"1",2.7999999999999998E-4,5.0000000000000002E-5,491.6,491.6]
[1102,1106,"2",3.6999999999999999E-4,1E-4,482.8,482.8]
[1102,1111,"1",1.83E-3,5.1999999999999995E-4,245.8,245.8]
[1103,1141,"1",5.5199999999999997E-3,1.07E-3,558.5,558.5]
[1103,1141,"2",5.5199999999999997E-3,1.07E-3,558.5,558.5]
[1106,1109,"1",3.0269999999999998E-2,5.8199999999999997E-3,491.6,491.6]
[1106,1132,"1",1.201E-2,2.2300000000000002E-3,491.6,491.6]
[1107,1108,"1",1.247E-2,2.4099999999999998E-3,558.5,558.5]
[1107,1109,"1",8.4899999999999993E-3,1.64E-3,558.5,558.5]
[1108,1444,"1",5.1139999999999998E-2,9.92E-3,558.5,558.5]
[1108,1444,"2",5.1139999999999998E-2,9.92E-3,558.5,558.5]
[1110,1119,"1",3.773E-2,4.7499999999999999E-3,424,424]
[1113,1115,"1",3.3090000000000001E-2,9.2399999999999999E-3,147.5,147.5]
[1114,1115,"2",8.1339999999999996E-2,2.3199999999999998E-2,167.6,167.6]
[1114,1122,"1",5.475E-2,1.562E-2,167.6,167.6]
[1115,1122,"1",2.6620000000000001E-2,7.6E-3,167.6,167.6]
[1120,1121,"1",2.802E-2,6.0200000000000002E-3,245.8,245.8]
[1126,1129,"2",1.4400000000000001E-3,2.7999999999999998E-4,558.5,558.5]
[1132,1219,"1",2.332E-2,3.5799999999999998E-3,365.54,365.54]
[1141,1444,"1",2.9950000000000001E-2,5.8199999999999997E-3,558.5,558.5]
[1141,1444,"2",2.9950000000000001E-2,5.8199999999999997E-3,558.5,558.5]
[1141,1845,"1",2.3439999999999999E-2,3.9199999999999999E-3,514.70000000000005,514.70000000000005]
[1141,1845,"2",2.3439999999999999E-2,3.9199999999999999E-3,514.70000000000005,514.70000000000005]
[1151,1240,"1",0.13503999999999999,3.8960000000000002E-2,73.7,73.7]
[1151,12177,"1",7.2940000000000005E-2,1.7690000000000001E-2,94.4,94.4]
[1151,12204,"1",1.7409999999999998E-2,4.4099999999999999E-3,94.4,94.4]
[1151,12205,"1",1.643E-2,4.1700000000000001E-3,94.41,94.41]
[1151,12241,"1",0.14893999999999999,4.2970000000000001E-2,73.7,73.7]
[1153,1408,"1",0.28094999999999998,8.1049999999999997E-2,83.8,83.8]
[1154,1204,"1",6.8930000000000005E-2,2.9569999999999999E-2,83.8,83.8]
[1154,1204,"2",6.6930000000000003E-2,2.0889999999999999E-2,83.8,83.8]
[1154,1204,"3",6.6930000000000003E-2,2.0889999999999999E-2,83.8,83.8]
[1154,12080,"1",1.6500000000000001E-2,5.1500000000000001E-3,83.8,83.8]
[1154,1159,"1",1.6389999999999998E-2,5.1200000000000004E-3,83.8,83.8]
[1154,1163,"1",6.3299999999999997E-3,1.5399999999999999E-3,94.41,94.41]
[1154,1425,"1",0.28261999999999998,0.11226999999999999,67.2,67.2]
[1159,1331,"1",0.12021,3.7519999999999998E-2,83.8,83.8]
[4122,4403,"1",9.1800000000000007E-2,0,16,16]
[4316,4122,"1",6.8699999999999997E-2,0,16,16]
[4403,4316,"1",5.6500000000000002E-2,0,114,114]
[6059,6684,"51",2.0902E-2,4.4970000000000001E-3,156,156]
[4124,4403,"2",9.1800000000000007E-2,0,16,16]
[4316,4124,"2",6.8699999999999997E-2,0,16,16]
[4403,4316,"2",5.6500000000000002E-2,0,114,114]
[3211,29181,"1",1.7420000000000001E-2,2.751E-3,317.3,317.3]
[6003,6470,"2B",8.0719999999999993E-3,2.676E-3,225,225]
[1101,1908,"1",1.4645E-2,1.977E-3,453.7,453.7]
[3211,3592,"1",5.8799999999999998E-4,9.2999999999999997E-5,317.3,317.3]
[3301,3592,"1",2.0212000000000001E-2,3.1879999999999999E-3,317.3,317.3]
[6008,6520,"4A",6.4797999999999994E-2,7.058E-3,275,275]
[6182,6520,"4B",3.7092E-2,4.0400000000000002E-3,275,275]
[6008,6520,"5A",6.4797999999999994E-2,7.058E-3,275,275]
[6182,6520,"5B",3.7092E-2,4.0400000000000002E-3,275,275]
[1732,1710,"1",6.8025000000000002E-2,1.1781E-2,438.2,438.2]
[1407,1736,"1",6.6011E-2,1.9042E-2,80.099999999999994,80.099999999999994]
[1730,1444,"1",7.9898999999999998E-2,1.3837E-2,438.2,438.2]
[1427,1735,"1",2.0448999999999998E-2,5.8989999999999997E-3,80.099999999999994,80.099999999999994]
[1526,1732,"1",0.45479999999999998,0,30.6,30.6]
[1732,1736,"1",0.247,0,90,90]
[1736,1526,"1",0.15840000000000001,0,30.6,30.6]
[1527,1730,"1",0.45800000000000002,0,30.6,30.6]
[1730,1735,"1",0.24859999999999999,0,90,90]
[1735,1527,"1",0.1598,0,30.6,30.6]
[58150,58200,"1",2.8657999999999999E-2,4.0949999999999997E-3,478,478]
[1122,1174,"1",2.0740999999999999E-2,5.7029999999999997E-3,117,117]
[1131,1174,"1",1.3952000000000001E-2,3.833E-3,117,117]
[1427,14002,"1",0.33532499999999998,0.106882,58.6,58.6]
[14002,1718,"1",0.17293800000000001,5.5122999999999998E-2,58.6,58.6]
[27371,27501,"1",4.8920999999999999E-2,8.8310000000000003E-3,260,260]
[27381,27501,"1",3.79E-4,6.7999999999999999E-5,260,260]
[58450,58500,"1",1.346E-2,1.41E-3,562,562]
[6173,6604,"57",7.2400000000000003E-4,1.83E-4,93,93]
[50800,51300,"1",1.2239999999999999E-2,1.531E-3,508,508]
[51300,53200,"1",3.2190000000000003E-2,5.0990000000000002E-3,464,464]
[1306,1862,"1",0.186783,5.9219000000000001E-2,73.7,73.7]
[1302,1862,"1",0.18090999999999999,5.7356999999999998E-2,73.7,73.7]
[50900,54750,"1",5.7362999999999997E-2,1.0629E-2,389,389]
[54750,53000,"1",1.3601E-2,2.4719999999999998E-3,389,389]
[1323,1863,"1",0.23035800000000001,7.3010000000000005E-2,73.7,73.7]
[1863,1306,"1",0.379413,0.120252,73.7,73.7]
[1429,14011,"1",0.43329600000000001,0.13720499999999999,58.6,58.6]
[14011,1702,"1",0.19859399999999999,6.2884999999999996E-2,58.6,58.6]
[3040,3213,"1",2.954E-2,7.2000000000000005E-4,151.80000000000001,151.80000000000001]
[3213,3408,"1",4.5710000000000001E-2,1.91E-3,151.80000000000001,151.80000000000001]
[3116,3424,"1",0.32884999999999998,0.14405000000000001,47.9,47.9]
[1159,1331,"2",0.12021,3.7519999999999998E-2,83.8,83.8]
[1163,12243,"1",3.2140000000000002E-2,1.0500000000000001E-2,62.82,62.82]
[1163,12269,"1",7.4799999999999997E-3,2.4399999999999999E-3,83.8,83.8]
[1204,12080,"1",6.2899999999999998E-2,2.281E-2,74.900000000000006,74.900000000000006]
[1204,12089,"1",2.6239999999999999E-2,7.9000000000000008E-3,83.8,83.8]
[1215,12007,"1",5.6469999999999999E-2,1.857E-2,94.4,94.4]
[1215,12094,"1",5.3800000000000001E-2,2.8539999999999999E-2,58,58]
[1215,12280,"1",2.6089999999999999E-2,9.1699999999999993E-3,74.900000000000006,74.900000000000006]
[1216,12183,"1",3.82E-3,1.4E-3,74.900000000000006,74.900000000000006]
[1220,1241,"1",9.5149999999999998E-2,5.1090000000000003E-2,51.2,51.2]
[1240,12219,"1",0.10922,3.1519999999999999E-2,73.7,73.7]
[1241,12219,"1",2.5600000000000002E-3,8.3000000000000001E-4,73.7,73.7]
[1241,12220,"1",2.82E-3,9.2000000000000003E-4,73,73]
[1249,12049,"1",0.16864000000000001,5.3350000000000002E-2,83.8,83.8]
[1301,1331,"1",0.15587999999999999,4.4970000000000003E-2,83.8,83.8]
[1301,1810,"1",0.18268999999999999,5.271E-2,83.8,83.8]
[1302,1310,"1",0.30868000000000001,0.24593000000000001,35.4,35.4]
[1302,1310,"2",0.24307999999999999,7.707E-2,73.7,73.7]
[1303,1816,"1",0.23816999999999999,6.8669999999999995E-2,73.7,73.7]
[1303,1833,"1",0.27781,8.0089999999999995E-2,73.7,73.7]
[1303,12220,"1",0.25217000000000001,7.2749999999999995E-2,73.7,73.7]
[1304,1321,"1",0.16163,4.6629999999999998E-2,83.8,83.8]
[1304,1329,"1",2.383E-2,6.8799999999999998E-3,83.8,83.8]
[1304,1372,"1",0.32262999999999997,9.3060000000000004E-2,83.8,83.8]
[1305,1325,"1",0.39602999999999999,0.11422,83.8,83.8]
[1305,1327,"1",0.46148,0.13308,83.8,83.8]
[1306,1338,"1",3.4750000000000003E-2,1.0030000000000001E-2,73.7,73.7]
[1306,1374,"1",7.4270000000000003E-2,2.1430000000000001E-2,73.7,73.7]
[1306,1828,"1",4.0239999999999998E-2,1.29E-2,73.7,73.7]
[1308,1310,"1",0.44885999999999998,0.35748999999999997,35.4,35.4]
[1308,1312,"1",0.19558,0.15581999999999999,35.4,35.4]
[1309,1336,"1",6.7510000000000001E-2,1.9480000000000001E-2,73.7,73.7]
[1309,1835,"1",0.1883,5.4449999999999998E-2,73.7,73.7]
[1314,1339,"1",4.1880000000000001E-2,1.538E-2,70.5,70.5]
[1314,1374,"1",0.13880000000000001,4.0050000000000002E-2,73.7,73.7]
[1314,1813,"1",1.3899999999999999E-2,4.0099999999999997E-3,83.8,83.8]
[1315,1318,"1",0.28393000000000002,8.1909999999999997E-2,83.8,83.8]
[1315,1810,"1",0.32558999999999999,9.3920000000000003E-2,83.8,83.8]
[1315,1833,"1",0.28177000000000002,8.1229999999999997E-2,73.7,73.7]
[1318,1329,"1",0.14198,4.0960000000000003E-2,83.8,83.8]
[1321,1322,"1",5.9470000000000002E-2,1.7160000000000002E-2,83.8,83.8]
[1322,1813,"2",5.987E-2,1.7270000000000001E-2,83.8,83.8]
[1324,1372,"1",0.23430999999999999,6.7599999999999993E-2,83.8,83.8]
[1327,1388,"1",0.44714999999999999,0.14330000000000001,83.8,83.8]
[1336,1337,"1",4.2930000000000003E-2,1.376E-2,73.7,73.7]
[1336,1338,"1",8.7370000000000003E-2,2.521E-2,73.7,73.7]
[1403,1416,"1",0.25117,7.2459999999999997E-2,83.8,83.8]
[1406,1411,"1",0.72787999999999997,0.57904999999999995,35.4,35.4]
[1406,1439,"1",0.27201999999999998,7.8469999999999998E-2,83.8,83.8]
[50050,51450,"10",0.132077,1.7436E-2,345,345]
[51450,54000,"10",3.6027999999999998E-2,4.7840000000000001E-3,345,345]
[1846,1308,"1",0.162275,5.1734000000000002E-2,58.6,58.6]
[1846,1372,"1",0.21940599999999999,6.9947999999999996E-2,58.6,58.6]
[6011,6182,"6C",8.0750000000000002E-2,1.5679999999999999E-2,280,280]
[6008,6550,"6A",9.8234000000000002E-2,1.7336000000000001E-2,247,247]
[6550,6182,"6B",7.8879999999999992E-3,1.392E-3,247,247]
[1306,1869,"1",0.11716,3.3803E-2,66.7,66.7]
[1869,1857,"1",4.1701000000000002E-2,1.2031E-2,66.7,66.7]
[1119,1841,"1",3.2919999999999998E-2,3.9699999999999996E-3,438.2,438.2]
[1841,1832,"1",8.8059999999999999E-2,1.061E-2,438.2,438.2]
[1842,1821,"1",3.6388999999999998E-2,1.0152E-2,147.5,147.5]
[1822,1842,"1",6.5651000000000001E-2,1.8315000000000001E-2,147.5,147.5]
[1528,1841,"1",0.3518,0,51,51]
[1841,1842,"1",0.12379999999999999,0,150,150]
[1842,1528,"1",0.2087,0,51,51]
[12305,12285,"1",0.199853,5.2215999999999999E-2,94.4,94.4]
[12305,12177,"1",7.7459E-2,2.0143999999999999E-2,94.4,94.4]
[1223,1166,"1",0.103077,0,78,78]
[1140,1166,"1",8.1060000000000004E-3,1.4040000000000001E-3,438.2,438.2]
[6003,6713,"2A",3.1392000000000003E-2,3.5200000000000001E-3,275,275]
[6713,6460,"2A",8.9690000000000006E-2,1.005E-2,275,275]
[4419,4401,"1",4.3499999999999997E-3,6.2E-4,414,414]
[4402,4419,"1",4.2040000000000001E-2,7.1999999999999998E-3,225,225]
[6008,6182,"51",9.8969000000000001E-2,1.1240999999999999E-2,500,500]
[6008,6182,"52",9.8969000000000001E-2,1.1240999999999999E-2,500,500]
[6100,6243,"2A",5.1119999999999999E-2,1.0710000000000001E-2,225,225]
[6243,6470,"2A",1.256E-3,2.6200000000000003E-4,225,225]
[1164,1140,"1",1.4001E-2,1.758E-3,370.6,370.6]
[1164,1117,"1",3.2940000000000001E-3,4.1800000000000002E-4,370.6,370.6]
[14005,1447,"1",7.4212E-2,2.1412E-2,83.8,83.8]
[14005,1449,"1",0.12223199999999999,3.5265999999999999E-2,83.8,83.8]
[4342,4386,"1",6.0839999999999998E-2,1.3610000000000001E-2,133.9,133.9]
[1840,1845,"1",3.1267000000000003E-2,5.0590000000000001E-3,482,482]
[58150,58500,"1",4.7499999999999999E-3,5.2099999999999998E-4,573,573]
[6005,6001,"47",3.354E-2,4.0899999999999999E-3,500,500]
[6005,6001,"48",3.354E-2,4.0899999999999999E-3,500,500]
[4402,4415,"1",1.436E-3,2.22E-4,60,60]
[4319,4361,"1",1.9851000000000001E-2,4.235E-3,133.9,133.9]
[4336,4361,"1",2.9038999999999999E-2,6.195E-3,133.9,133.9]
[6005,6008,"49",0.13752,1.6639999999999999E-2,500,500]
[6005,6008,"50",0.13752,1.6639999999999999E-2,500,500]
[6008,6753,"41",8.7307999999999997E-2,1.7215999999999999E-2,382.4,382.4]
[6008,6753,"42",8.7639999999999996E-2,1.8758E-2,382.4,382.4]
[6753,6755,"43",2.2043E-2,4.4479999999999997E-3,382.4,382.4]
[6753,6755,"44",2.2008E-2,4.5729999999999998E-3,382.4,382.4]
[4331,4354,"1",7.0800000000000002E-2,1.5310000000000001E-2,133.9,133.9]
[4336,4354,"1",0.18245,3.9449999999999999E-2,133.9,133.9]
[1407,1424,"1",0.41782000000000002,0.12049,73.7,73.7]
[1407,1431,"1",0.32525999999999999,0.10310999999999999,73.7,73.7]
[1407,1432,"1",0.77629000000000004,0.22359999999999999,73.7,73.7]
[1408,1414,"1",9.5310000000000006E-2,2.75E-2,83.8,83.8]
[1408,1667,"1",2.5000000000000001E-3,8.0000000000000004E-4,83.8,83.8]
[1409,1432,"1",0.25613000000000002,7.3889999999999997E-2,73.7,73.7]
[1409,1435,"1",0.10206,2.945E-2,73.7,73.7]
[1411,1428,"1",0.26508999999999999,0.2112,35.4,35.4]
[1411,1762,"1",0.161,4.4400000000000002E-2,73.599999999999994,73.599999999999994]
[1414,1415,"1",0.26606000000000002,7.6759999999999995E-2,83.8,83.8]
[1414,1433,"1",0.17848,5.1499999999999997E-2,83.8,83.8]
[1415,1449,"1",9.9290000000000003E-2,2.8649999999999998E-2,83.8,83.8]
[1416,1447,"1",7.5459999999999999E-2,2.1770000000000001E-2,83.8,83.8]
[1416,1447,"2",7.9589999999999994E-2,2.5510000000000001E-2,83.8,83.8]
[1416,1758,"1",0.20726,5.9700000000000003E-2,83.8,83.8]
[1417,1718,"1",3.7479999999999999E-2,1.0800000000000001E-2,83.8,83.8]
[1418,1433,"1",9.9529999999999993E-2,2.8719999999999999E-2,73.7,73.7]
[1418,1713,"1",0.21415000000000001,6.1789999999999998E-2,73.7,73.7]
[1422,1434,"1",9.0079999999999993E-2,2.597E-2,147.5,147.5]
[1422,1445,"1",0.11165,3.2190000000000003E-2,147.5,147.5]
[1425,1439,"1",8.1600000000000006E-3,3.2399999999999998E-3,67.2,67.2]
[1427,1431,"1",0.37672,0.11940000000000001,73.7,73.7]
[1429,1719,"1",0.53651499999999996,0.171012,58.3,58.3]
[1431,1442,"1",0.79920000000000002,0.25284000000000001,73.7,73.7]
[1435,1491,"1",2.9760000000000002E-2,8.5900000000000004E-3,73.7,73.7]
[1442,1495,"1",0.82293000000000005,0.26229999999999998,73.7,73.7]
[1445,1493,"1",3.499E-2,1.009E-2,147.5,147.5]
[1490,1492,"1",6.45E-3,1.8600000000000001E-3,73.7,73.7]
[1490,1714,"1",0.12834000000000001,3.703E-2,83.8,83.8]
[1491,1492,"1",6.45E-3,1.8600000000000001E-3,73.7,73.7]
[1493,1497,"1",6.4939999999999998E-2,1.8689999999999998E-2,147.5,147.5]
[1497,1498,"1",5.1310000000000001E-2,1.477E-2,147.5,147.5]
[1498,1499,"1",2.751E-2,7.92E-3,147.5,147.5]
[1710,3190,"1",0.11469,1.7739999999999999E-2,374,374]
[1713,1715,"1",9.2099999999999994E-3,2.66E-3,83.8,83.8]
[1714,1715,"2",9.2099999999999994E-3,2.66E-3,83.8,83.8]
[1718,1758,"1",0.51080999999999999,0.14713999999999999,83.8,83.8]
[1816,1835,"1",6.1289999999999997E-2,1.7659999999999999E-2,73.7,73.7]
[1820,1821,"1",4.9570000000000003E-2,1.427E-2,147.5,147.5]
[1823,1845,"1",1.6299999999999999E-3,2.7E-4,257.39999999999998,257.39999999999998]
[1823,1845,"2",1.6299999999999999E-3,2.7E-4,257.39999999999998,257.39999999999998]
[3029,3098,"1",2.1129999999999999E-2,5.3299999999999997E-3,136.62,136.62]
[3029,3103,"1",0.14086000000000001,3.6220000000000002E-2,136.62,136.62]
[3030,3101,"1",4.2209999999999998E-2,1.085E-2,147,147]
[3031,3085,"1",1.3780000000000001E-2,3.2799999999999999E-3,136.62,136.62]
[3031,3120,"1",1.592E-2,3.8600000000000001E-3,136.62,136.62]
[3032,3095,"2",3.6740000000000002E-2,7.0699999999999999E-3,405.1,405.1]
[3032,3300,"1",2.2530000000000001E-2,3.8500000000000001E-3,374,374]
[3032,3429,"1",0.107803,1.9701E-2,405.1,405.1]
[3033,3429,"1",2.7779999999999999E-2,5.0769999999999999E-3,405.1,405.1]
[3033,3429,"2",2.7779999999999999E-2,5.0769999999999999E-3,405.1,405.1]
[3033,3544,"1",1.9109999999999999E-2,2.8900000000000002E-3,317.33999999999997,317.33999999999997]
[3034,3080,"1",1.2E-4,2.0000000000000002E-5,317.3,317.3]
[3034,3301,"1",2.4399999999999999E-3,4.0000000000000002E-4,455.31,455.31]
[3034,3544,"1",3.3360000000000001E-2,5.0499999999999998E-3,317.33999999999997,317.33999999999997]
[3036,3093,"1",7.1190000000000003E-2,1.6219999999999998E-2,68.31,68.31]
[3037,3045,"1",1.8530000000000001E-2,4.8799999999999998E-3,136.62,136.62]
[3037,3052,"1",2.5559999999999999E-2,6.2199999999999998E-3,136.62,136.62]
[3037,3203,"1",3.9539999999999999E-2,1.042E-2,136.62,136.62]
[3038,3064,"1",5.74E-2,1.4590000000000001E-2,136.62,136.62]
[3038,3098,"1",0.12049,3.0870000000000002E-2,136.62,136.62]
[3038,3108,"1",3.5430000000000003E-2,8.9599999999999992E-3,155,155]
[3038,3160,"1",5.8139999999999997E-2,1.4250000000000001E-2,153,153]
[3040,3122,"1",8.4209999999999993E-2,1.9179999999999999E-2,136.62,136.62]
[3040,3408,"1",1.2880000000000001E-2,2.9299999999999999E-3,136.62,136.62]
[3045,3078,"1",1.2070000000000001E-2,3.1800000000000001E-3,136.62,136.62]
[3049,3082,"1",9.8839999999999997E-2,2.2509999999999999E-2,136.62,136.62]
[3049,3204,"1",1.449E-3,3.4699999999999998E-4,273.89999999999998,273.89999999999998]
[3052,3160,"1",2.0670000000000001E-2,5.0600000000000003E-3,136.62,136.62]
[3052,3203,"1",2.8309999999999998E-2,7.4599999999999996E-3,136.62,136.62]
[3055,3118,"1",0.23094999999999999,5.935E-2,136.62,136.62]
[3059,3122,"1",5.5000000000000003E-4,1.4999999999999999E-4,136.62,136.62]
[3060,3091,"1",2.9389999999999999E-2,7.5500000000000003E-3,136.62,136.62]
[3060,3427,"1",0.12017899999999999,2.8891E-2,136.6,136.6]
[3064,3118,"1",8.4709999999999994E-2,2.1780000000000001E-2,136.62,136.62]
[3075,3100,"1",5.0430000000000003E-2,2.266E-2,47.34,47.34]
[3075,3113,"1",7.0290000000000005E-2,2.9250000000000002E-2,47.34,47.34]
[3077,3100,"1",3.637E-2,1.873E-2,47.34,47.34]
[3077,3110,"1",8.2900000000000005E-3,2.5300000000000001E-3,68.31,68.31]
[3078,3203,"1",3.3509999999999998E-2,8.8299999999999993E-3,136.62,136.62]
[3078,3203,"2",2.632E-2,6.94E-3,136.62,136.62]
[3082,3122,"1",2.214E-2,5.0400000000000002E-3,136.62,136.62]
[3091,3103,"1",5.7160000000000002E-2,1.47E-2,136.62,136.62]
[3093,3424,"1",0.15493999999999999,6.9610000000000005E-2,47.3,47.3]
[3098,3180,"1",4.0739999999999998E-2,1.035E-2,136.62,136.62]
[3101,3427,"1",5.8810000000000001E-2,1.4138E-2,136.6,136.6]
[3108,3203,"1",1.0619999999999999E-2,2.8E-3,136.62,136.62]
[3110,3113,"1",3.1870000000000002E-2,8.7100000000000007E-3,68.31,68.31]
[3123,3180,"1",5.5399999999999998E-2,1.4239999999999999E-2,136.62,136.62]
[3123,3203,"1",2.1499999999999998E-2,5.6699999999999997E-3,136.62,136.62]
[3155,3301,"1",5.704E-2,8.9200000000000008E-3,455.31,455.31]
[3155,3301,"2",5.704E-2,8.9200000000000008E-3,455.31,455.31]
[3155,3429,"1",2.3018E-2,3.6080000000000001E-3,455.3,455.3]
[3155,3429,"2",2.3018E-2,3.6080000000000001E-3,455.3,455.3]
[3183,3300,"1",8.133E-2,1.2579999999999999E-2,374,374]
[3203,3204,"2",5.3616999999999998E-2,8.9840000000000007E-3,270,270]
[3300,3429,"1",0.108406,1.9022000000000001E-2,374,374]
[3301,29182,"2",4.9279999999999997E-2,7.62E-3,374,374]
[3301,3355,"1",4.0000000000000003E-5,1.0000000000000001E-5,317.3,317.3]
[3301,3355,"2",4.0000000000000003E-5,1.0000000000000001E-5,317.3,317.3]
[3301,4411,"1",6.0499999999999998E-2,9.3600000000000003E-3,374,374]
[3310,4407,"1",2.0660000000000001E-2,3.1900000000000001E-3,317.3,317.3]
[4300,4315,"1",1.044E-2,2.15E-3,200,200]
[4300,4317,"1",1.6760000000000001E-2,3.6800000000000001E-3,133.9,133.9]
[4302,4323,"1",1.486E-2,3.31E-3,133.9,133.9]
[4302,4343,"1",8.5599999999999999E-3,2.33E-3,133.9,133.9]
[4305,4315,"1",1.5740000000000001E-2,3.5100000000000001E-3,133.9,133.9]
[4305,4325,"1",9.4299999999999991E-3,2.0999999999999999E-3,133.9,133.9]
[4306,4319,"1",8.2100000000000003E-3,1.7899999999999999E-3,80,80]
[4307,4319,"1",2.3900000000000001E-2,5.5999999999999999E-3,142.5,142.5]
[4307,4322,"1",4.8800000000000003E-2,1.67E-2,142.5,142.5]
[4312,4316,"1",8.8450000000000001E-2,1.9120000000000002E-2,100,100]
[4312,4345,"1",1.346E-2,2.8500000000000001E-3,134,134]
[4315,4342,"1",7.3090000000000002E-2,1.5520000000000001E-2,80,80]
[4316,4341,"1",5.5039999999999999E-2,1.226E-2,133.9,133.9]
[4316,4346,"1",5.2569999999999999E-2,1.226E-2,134,134]
[4317,4338,"1",9.4199999999999996E-3,2.0600000000000002E-3,133.9,133.9]
[4322,4330,"1",0.1072,3.6600000000000001E-2,142.5,142.5]
[4323,4336,"1",3.2070000000000001E-2,6.9899999999999997E-3,150,150]
[4323,4338,"1",1.2699999999999999E-2,2.82E-3,133.9,133.9]
[4325,4340,"1",3.6339999999999997E-2,8.9899999999999997E-3,133.9,133.9]
[4326,4345,"1",5.8599999999999999E-2,1.242E-2,100,100]
[4327,4329,"1",8.8980000000000004E-2,1.9230000000000001E-2,133.9,133.9]
[4328,4342,"1",7.9469999999999999E-2,1.6879999999999999E-2,80,80]
[4329,4331,"1",7.6649999999999996E-2,1.653E-2,133.9,133.9]
[4340,4343,"1",1.542E-2,3.81E-3,133.9,133.9]
[4345,4346,"1",2.9559999999999999E-2,6.8900000000000003E-3,134,134]
[4400,4405,"1",1.9499999999999999E-3,2.9999999999999997E-4,70,70]
[4401,4406,"1",2.8799999999999999E-2,4.4999999999999997E-3,225.4,225.4]
[4402,4404,"1",7.1760000000000004E-2,1.119E-2,300,300]
[4402,4405,"1",4.4200000000000003E-3,6.8999999999999997E-4,225.4,225.4]
[4402,4405,"2",4.4200000000000003E-3,6.8999999999999997E-4,225.4,225.4]
[4402,4406,"1",5.4489999999999997E-2,9.9799999999999993E-3,367,367]
[4402,4411,"1",0.10664999999999999,1.6490000000000001E-2,367,367]
[4403,4407,"1",6.6909999999999997E-2,1.034E-2,225.4,225.4]
[4404,4406,"1",1.4449999999999999E-2,2.2599999999999999E-3,225.4,225.4]
[4406,4412,"1",0.1157,1.789E-2,367,367]
[4408,50000,"1",6.2100000000000002E-2,9.5300000000000003E-3,230,230]
[4412,50050,"1",0.11835,1.83E-2,338,338]
[4750,4803,"1",3.5999999999999999E-3,5.9999999999999995E-4,240,240]
[6000,56050,"1",3.3529999999999997E-2,5.7200000000000003E-3,300,300]
[6000,6014,"1",9.4999999999999998E-3,1.6900000000000001E-3,193,193]
[6001,6003,"1C",1.17E-2,2.3999999999999998E-3,335,335]
[6001,6005,"4A",3.5000000000000003E-2,6.7999999999999996E-3,247,247]
[6002,6018,"12",2.5999999999999999E-3,5.9999999999999995E-4,120,120]
[6002,6018,"37",1.73E-3,3.6999999999999999E-4,142,142]
[6002,6024,"3A",8.4370000000000001E-2,1.553E-2,168,168]
[6002,6036,"7",4.8599999999999997E-3,1.1789999999999999E-3,120,120]
[6002,6170,"4A",0.11887,2.188E-2,120,120]
[6003,6171,"1B",1.7309999999999999E-2,3.63E-3,202,202]
[6005,6105,"11",3.8000000000000002E-4,4.0000000000000003E-5,193,193]
[6005,6240,"4B",7.2330000000000005E-2,1.404E-2,247,247]
[6008,6182,"5A",0.101482,1.7909000000000001E-2,247,247]
[6008,6240,"4C",5.237E-2,1.0160000000000001E-2,350,350]
[6011,6096,"7",3.3700000000000001E-2,6.4999999999999997E-3,193,193]
[6011,6096,"8",3.3700000000000001E-2,6.4999999999999997E-3,193,193]
[6011,6182,"5B",8.0750000000000002E-2,1.5679999999999999E-2,247,247]
[6011,6380,"9A",2.64E-2,4.7000000000000002E-3,248,248]
[6012,6087,"15",9.5299999999999996E-2,1.8200000000000001E-2,93,93]
[6012,6087,"16",9.5299999999999996E-2,1.8200000000000001E-2,150,150]
[6014,6380,"9B",2.64E-2,4.7000000000000002E-3,248,248]
[6018,6123,"5",3.5200000000000002E-2,9.1999999999999998E-3,100,100]
[6018,6173,"1A",0.16172400000000001,3.1580999999999998E-2,150,150]
[6018,6173,"2A",0.16172400000000001,3.1580999999999998E-2,150,150]
[6024,6060,"3B",0.11812,2.1739999999999999E-2,168,168]
[6059,6066,"30",3.1570000000000001E-2,7.6649999999999999E-3,120,120]
[6059,6074,"23",4.0000000000000002E-4,0,90.6,90.6]
[6059,6173,"2B",2.2409999999999999E-2,4.3660000000000001E-3,211,211]
[6059,6270,"0A",5.0000000000000001E-4,5.0000000000000001E-4,93,93]
[6059,6290,"1C",2.5300000000000001E-3,4.6999999999999999E-4,211,211]
[6060,6074,"26",4.0000000000000002E-4,0,90.6,90.6]
[6060,6170,"4B",9.2619999999999994E-2,1.7049999999999999E-2,120,120]
[6060,6270,"0B",5.0000000000000001E-4,5.0000000000000001E-4,93,93]
[6087,6088,"17",2.0400000000000001E-2,4.1999999999999997E-3,93,93]
[6087,6092,"18",7.0000000000000001E-3,1.5E-3,93,93]
[6096,6179,"18",1.4399E-2,1.6149999999999999E-3,290,290]
[6096,6263,"0A",9.0589000000000003E-2,1.5886999999999998E-2,304,304]
[6100,6171,"1A",4.367E-2,9.1500000000000001E-3,202,202]
[6170,6280,"43",7.3299999999999997E-3,1.5900000000000001E-3,159,159]
[6173,6290,"1B",2.2769999999999999E-2,4.3E-3,211,211]
[6178,6179,"19",1.8600000000000001E-3,2.2000000000000001E-4,193,193]
[6179,6182,"16",7.7799999999999994E-2,8.5000000000000006E-3,275,275]
[6179,6182,"17",7.7799999999999994E-2,8.5000000000000006E-3,275,275]
[6179,6360,"22",3.0500000000000002E-3,5.4200000000000003E-3,131,131]
[6179,6340,"29",3.9600000000000003E-2,4.4400000000000004E-3,276,276]
[6260,6263,"0B",2.239E-2,3.9269999999999999E-3,304,304]
[6260,6340,"30",7.1190000000000003E-2,1.2485E-2,304,304]
[6260,6400,"21",1.4760000000000001E-2,2.4399999999999999E-3,304,304]
[6360,6363,"23",4.0600000000000002E-3,7.2300000000000003E-3,131,131]
[6363,6366,"24",3.5500000000000002E-3,6.3299999999999997E-3,131,131]
[6400,58350,"1",4.3150000000000001E-2,7.1199999999999996E-3,333,333]
[6500,56050,"1",2.068E-2,3.2000000000000002E-3,338,338]
[12007,12195,"1",6.028E-2,2.1860000000000001E-2,83.8,83.8]
[12007,12225,"1",2.9739999999999999E-2,9.7800000000000005E-3,83.8,83.8]
[12036,12089,"1",6.6600000000000001E-3,2E-3,83.8,83.8]
[12036,12257,"1",1.387E-2,4.5100000000000001E-3,83.8,83.8]
[12047,12142,"1",7.9000000000000001E-4,1.9000000000000001E-4,94.4,94.4]
[12049,12239,"1",9.1800000000000007E-3,2.8999999999999998E-3,83.8,83.8]
[12094,12251,"1",8.8100000000000001E-3,4.8599999999999997E-3,51.2,51.2]
[12127,12129,"1",2.5600000000000001E-2,1.374E-2,58,58]
[12127,12239,"1",4.2840000000000003E-2,1.355E-2,83.8,83.8]
[12129,12154,"1",1.0659999999999999E-2,3.47E-3,83.8,83.8]
[12142,12205,"1",5.101E-2,1.2370000000000001E-2,94.41,94.41]
[12154,12257,"1",5.6600000000000001E-3,1.8400000000000001E-3,83.8,83.8]
[12183,12238,"1",1.2109999999999999E-2,4.45E-3,74.900000000000006,74.900000000000006]
[12195,12242,"1",3.7699999999999999E-3,1.3699999999999999E-3,83.8,83.8]
[12218,12234,"1",1.6549999999999999E-2,7.2500000000000004E-3,67.599999999999994,67.599999999999994]
[12218,12254,"1",1.48E-3,6.5199999999999998E-3,63.58,63.58]
[12221,12234,"1",3.48E-3,1.08E-3,84.3,84.3]
[12221,12243,"1",9.2499999999999995E-3,2.8800000000000002E-3,84.3,84.3]
[12238,12280,"1",3.0700000000000002E-2,1.1129999999999999E-2,74.900000000000006,74.900000000000006]
[12242,12269,"1",1.3440000000000001E-2,4.3899999999999998E-3,83.8,83.8]
[12257,12258,"1",4.4900000000000001E-3,5.6499999999999996E-3,24.71,24.71]
[27101,27171,"1",4.2259999999999999E-2,9.3299999999999998E-3,266,266]
[27101,27321,"1",6.6830000000000001E-2,1.3679999999999999E-2,266,266]
[27111,27351,"1",8.1000000000000003E-2,2.7380000000000002E-2,133,133]
[27131,27411,"1",7.0809999999999998E-2,2.1389999999999999E-2,133,133]
[27131,27411,"2",7.0279999999999995E-2,2.384E-2,133,133]
[27131,27441,"1",0.12758,2.674E-2,266,266]
[27161,27351,"1",0.10879999999999999,3.313E-2,133,133]
[27161,27411,"1",7.5759999999999994E-2,2.283E-2,133,133]
[27171,27321,"1",9.3049999999999994E-2,3.1690000000000003E-2,133,133]
[27171,27371,"1",7.9100000000000004E-2,1.8259999999999998E-2,266,266]
[27171,27371,"2",7.9100000000000004E-2,1.8259999999999998E-2,266,266]
[27181,27211,"1",4.5229999999999999E-2,1.4200000000000001E-2,133,133]
[27181,27321,"1",0.12214999999999999,3.7330000000000002E-2,133,133]
[27181,27341,"1",0.15384,3.9969999999999999E-2,133,133]
[27181,27431,"1",0.17971999999999999,6.241E-2,133,133]
[27181,27431,"2",0.17971999999999999,6.241E-2,133,133]
[27211,27341,"1",0.11688,4.0230000000000002E-2,133,133]
[27301,27371,"1",2.2110000000000001E-2,4.6100000000000004E-3,266,266]
[27301,27431,"1",2.6100000000000002E-2,6.0800000000000003E-3,266,266]
[27321,27431,"1",4.8579999999999998E-2,1.052E-2,266,266]
[27341,27401,"1",0.13209000000000001,3.9719999999999998E-2,133,133]
[27351,27381,"1",6.7780000000000007E-2,2.0969999999999999E-2,133,133]
[27361,27371,"1",1.511E-2,3.4399999999999999E-3,266,266]
[27361,27481,"1",6.7119999999999999E-2,1.031E-2,266,266]
[27371,27431,"1",3.5999999999999997E-2,7.5100000000000002E-3,266,266]
[27381,27411,"1",0.12099,4.0840000000000001E-2,133,133]
[27391,27401,"1",0.11362,3.4169999999999999E-2,133,133]
[27411,27441,"1",8.7069999999999995E-2,2.928E-2,133,133]
[27421,27441,"1",5.2749999999999998E-2,1.1860000000000001E-2,266,266]
[27421,27461,"1",4.1529999999999997E-2,8.9800000000000001E-3,266,266]
[27431,27451,"1",1.52E-2,5.4299999999999999E-3,133,133]
[27431,27451,"2",1.52E-2,5.4299999999999999E-3,133,133]
[27431,27461,"1",3.2710000000000003E-2,7.0699999999999999E-3,266,266]
[27441,27481,"1",7.7200000000000003E-3,1.1900000000000001E-3,266,266]
[27461,27471,"1",8.0820000000000003E-2,2.4340000000000001E-2,133,133]
[28161,28371,"1",8.9289999999999994E-2,1.116E-2,374,374]
[28161,28371,"2",8.9289999999999994E-2,1.116E-2,374,374]
[28161,29161,"1",1.6930000000000001E-2,2.1199999999999999E-3,374,374]
[28181,28371,"1",8.7150000000000005E-2,1.09E-2,374,374]
[28181,28371,"2",8.7150000000000005E-2,1.09E-2,374,374]
[28181,29181,"1",5.2720000000000003E-2,1.155E-2,533.79999999999995,533.79999999999995]
[28181,29182,"2",8.5070000000000007E-2,1.316E-2,374,374]
[50000,50050,"1",3.7999999999999999E-2,5.79E-3,518,518]
[50000,51150,"1",1.959E-2,3.5000000000000001E-3,560,560]
[50000,51200,"1",2.189E-2,3.5200000000000001E-3,173,173]
[50050,50100,"1",6.9779999999999998E-3,7.9699999999999997E-4,635,635]
[50050,50900,"1",4.0430000000000001E-2,7.0499999999999998E-3,465,465]
[50054,50454,"1",6.4670000000000005E-2,2.5999999999999999E-2,65,65]
[50054,50604,"1",0.11632000000000001,4.2639999999999997E-2,65,65]
[50100,50103,"1",2.9750000000000002E-3,5.0000000000000001E-4,48,48]
[50100,50200,"1",9.0799999999999995E-3,1.66E-3,350,350]
[50200,50250,"1",3.3505E-2,4.9370000000000004E-3,518,518]
[50200,50900,"1",5.1339999999999997E-2,9.5499999999999995E-3,390,390]
[50200,53050,"1",0.10746,2.0070000000000001E-2,389,389]
[50250,50253,"1",2.1800000000000001E-3,3.3E-4,149,149]
[50250,50300,"1",7.8100000000000001E-3,1.39E-3,390,390]
[50300,51150,"1",1.736E-2,2.8600000000000001E-3,380,380]
[50350,50900,"1",5.3400000000000001E-3,7.9000000000000001E-4,547,547]
[50350,53200,"1",2.6800000000000001E-2,4.8300000000000001E-3,480,480]
[50354,50404,"1",1.542E-2,2.3600000000000001E-3,115,115]
[50454,50499,"1",8.9899999999999997E-3,3.6099999999999999E-3,65,65]
[50454,50554,"1",8.6699999999999999E-2,3.5540000000000002E-2,65,65]
[50504,50604,"1",7.6340000000000005E-2,2.657E-2,65,65]
[50650,50750,"1",1.541E-2,2.3900000000000002E-3,400,400]
[50650,50800,"1",1.238E-2,1.8699999999999999E-3,400,400]
[50700,50750,"1",5.4099999999999999E-3,7.6000000000000004E-4,400,400]
[50700,50950,"1",5.8399999999999997E-3,8.8000000000000003E-4,400,400]
[50950,53150,"1",3.024E-2,4.4000000000000003E-3,400,400]
[51200,51250,"1",2.6159999999999999E-2,3.9899999999999996E-3,173,173]
[53000,53050,"1",5.0699999999999999E-3,9.3999999999999997E-4,389,389]
[53000,53050,"2",5.7099999999999998E-3,8.4999999999999995E-4,380,380]
[53000,53100,"1",3.4299999999999999E-3,5.5999999999999995E-4,380,380]
[53000,53100,"2",3.32E-3,5.4000000000000001E-4,380,380]
[53004,53204,"1",5.4129999999999998E-2,1.278E-2,110,110]
[53004,53304,"1",3.8390000000000001E-2,9.2700000000000005E-3,110,110]
[53004,53354,"1",8.8599999999999998E-3,2.0999999999999999E-3,190,190]
[53004,53454,"1",2.9579999999999999E-2,6.8199999999999997E-3,190,190]
[53004,53604,"1",1.8440000000000002E-2,4.3499999999999997E-3,110,110]
[53004,53654,"1",2.0639999999999999E-2,4.8770000000000003E-3,110,110]
[53050,53150,"1",1.7998E-2,2.7360000000000002E-3,380,380]
[53050,53150,"2",1.8051000000000001E-2,2.7390000000000001E-3,380,380]
[53050,53900,"1",3.0589999999999999E-2,4.6899999999999997E-3,343,343]
[53050,53900,"2",3.0557000000000001E-2,4.6860000000000001E-3,343,343]
[53154,53654,"1",1.325E-2,3.14E-3,190,190]
[53154,53654,"2",1.325E-2,3.14E-3,190,190]
[53154,53704,"1",1.7670000000000002E-2,4.1799999999999997E-3,190,190]
[53154,58004,"1",8.9539999999999995E-2,2.1180000000000001E-2,190,190]
[53204,53254,"1",4.7989999999999998E-2,1.0540000000000001E-2,146,146]
[53204,53304,"1",4.6339999999999999E-2,1.1140000000000001E-2,110,110]
[53204,54104,"1",4.4720000000000003E-2,9.9900000000000006E-3,173,173]
[53254,54104,"1",3.7789999999999997E-2,8.7600000000000004E-3,104,104]
[53354,53404,"1",4.0910000000000002E-2,9.7199999999999995E-3,190,190]
[53454,53754,"1",8.3759E-2,1.6219999999999998E-2,190,190]
[53604,53654,"1",1.6549999999999999E-2,3.0899999999999999E-3,110,110]
[53704,58004,"1",8.7080000000000005E-2,2.061E-2,190,190]
[53754,53756,"1",3.5999999999999999E-3,8.0999999999999996E-4,40,40]
[53754,53854,"1",2.0910000000000002E-2,4.9500000000000004E-3,190,190]
[53754,58104,"1",8.1479999999999997E-2,1.2840000000000001E-2,240,240]
[53850,54050,"1",1.4017999999999999E-2,2.1090000000000002E-3,345,345]
[53850,56000,"1",5.2669000000000001E-2,9.6570000000000007E-3,200,200]
[53854,58004,"1",2.75E-2,3.3999999999999998E-3,230,230]
[53900,54000,"1",3.8350000000000002E-2,6.0600000000000003E-3,343,343]
[53900,54250,"1",3.0589999999999999E-2,4.6800000000000001E-3,343,343]
[54000,54250,"1",8.8599999999999998E-3,1.3600000000000001E-3,343,343]
[54000,56100,"10",0.11821,1.8280000000000001E-2,338,338]
[54154,58004,"1",2.0369999999999999E-2,4.4999999999999997E-3,110,110]
[54500,58200,"1",1.4394000000000001E-2,1.7639999999999999E-3,451,451]
[56000,56100,"1",5.0639999999999998E-2,9.3299999999999998E-3,200,200]
[56050,56100,"1",4.5069999999999999E-2,8.26E-3,259,259]
[58004,58054,"1",2.368E-2,5.62E-3,190,190]
[58004,58104,"1",3.7769999999999998E-2,8.94E-3,190,190]
[58054,58104,"1",1.405E-2,3.3400000000000001E-3,190,190]
[58300,58350,"1",3.9460000000000002E-2,7.2300000000000003E-3,259,259]
[24161,28161,"1",0.26924999999999999,5.3699999999999998E-3,50,50]
[27161,24161,"1",0.21274999999999999,4.8599999999999997E-3,50,50]
[28161,27161,"1",4.7199999999999999E-2,1.4E-3,156.30000000000001,156.30000000000001]
[24161,28161,"2",0.26924999999999999,5.4099999999999999E-3,50,50]
[27161,24161,"2",0.21199999999999999,4.8700000000000002E-3,50,50]
[28161,27161,"2",4.7359999999999999E-2,1.4E-3,156.30000000000001,156.30000000000001]
[24181,28181,"1",0.21540000000000001,5.4099999999999999E-3,50,50]
[27181,24181,"1",0.1734,5.6699999999999997E-3,50,50]
[28181,27181,"1",3.8269999999999998E-2,9.2000000000000003E-4,156.30000000000001,156.30000000000001]
[24181,28181,"2",0.21540000000000001,5.5500000000000002E-3,50,50]
[27181,24181,"2",0.17380000000000001,5.7600000000000004E-3,50,50]
[28181,27181,"2",3.8269999999999998E-2,9.3000000000000005E-4,156.30000000000001,156.30000000000001]
[54200,53550,"1",1.3899999999999999E-2,1.7700000000000001E-3,348,348]
[53404,53854,"1",8.3339999999999997E-2,1.9743E-2,190,190]
[27281,27391,"1",2.5690000000000001E-2,6.3810000000000004E-3,133,133]
[4315,4392,"1",1.3440000000000001E-2,2.65E-3,200,200]
[4392,4919,"1",0.63729999999999998,0,25,25]
[4419,4392,"1",0.11466,0,71.3,71.3]
[4919,4419,"1",0.84599999999999997,0,25,25]
[4342,4392,"1",6.4798999999999995E-2,1.5369000000000001E-2,133.9,133.9]
[53150,53550,"1",1.9400000000000001E-2,2.457E-3,350,350]
[6008,6009,"T3",9.1399999999999995E-2,0,100,100]
[6380,6381,"T2",0.245,0,83.33,83.33]
[53550,54050,"1",1.3651999999999999E-2,1.3940000000000001E-3,382,382]
[27281,27321,"1",9.0305999999999997E-2,2.2423999999999999E-2,133,133]
[4350,4318,"1",1.49E-2,3.3E-3,133.9,133.9]
[4350,4329,"1",0.10829999999999999,2.41E-2,133.9,133.9]
[4359,4350,"1",1.2E-2,2.7000000000000001E-3,133.9,133.9]
[4341,4359,"1",9.1499999999999998E-2,2.1399999999999999E-2,133.9,133.9]
[4328,4359,"1",7.6499999999999999E-2,1.9300000000000001E-2,133.9,133.9]
[1219,1140,"1",2.5426000000000001E-2,4.4029999999999998E-3,438.2,438.2]
[6001,6002,"T5",2.9190000000000001E-2,0,350,350]
[1168,1132,"1",5.0419999999999996E-3,8.7299999999999997E-4,438.2,438.2]
[1169,1168,"1",7.1729999999999997E-3,1.242E-3,438.2,438.2]
[1165,1169,"1",5.9329999999999999E-3,1.0280000000000001E-3,438.2,438.2]
[58500,58600,"1",4.2509999999999999E-2,4.568E-3,573,573]
[58300,58600,"1",3.3600000000000001E-3,3.8400000000000001E-4,573,573]
[6015,6016,"T1",0.23,0,50,50]
[6016,6014,"T1",0.38,0,50,50]
[6014,6015,"T2",0.1226,0,50,50]
[6015,6016,"T2",0.2286,0,50,50]
[6016,6014,"T2",0.38500000000000001,0,50,50]
[6260,6261,"T1",0.125,0,50,50]
[6261,6262,"T1",0.2293,0,50,50]
[6262,6260,"T1",0.379,0,50,50]
[4315,4908,"1",0.76466999999999996,2.3130000000000001E-2,25,25]
[4401,4315,"1",0.13755999999999999,4.9100000000000003E-3,75,75]
[4908,4401,"1",1.0213300000000001,2.5329999999999998E-2,25,25]
[4315,4910,"1",0.76466999999999996,2.3130000000000001E-2,25,25]
[4401,4315,"1",0.13755999999999999,4.9100000000000003E-3,75,75]
[4910,4401,"1",1.0153300000000001,2.5329999999999998E-2,25,25]
[4319,4916,"1",0.26879999999999998,0,25,25]
[4404,4319,"1",0.14052999999999999,0,75,75]
[4916,4404,"1",0.42599999999999999,0,25,25]
[4319,4918,"2",0.26800000000000002,0,25,25]
[4404,4319,"2",0.13986999999999999,0,75,75]
[4918,4404,"2",0.4244,0,25,25]
[4319,4927,"3",0.26267000000000001,0,25,25]
[4404,4319,"3",0.13667000000000001,0,75,75]
[4927,4404,"3",0.42799999999999999,0,25,25]
[4340,4920,"1",0.54432999999999998,0,25,25]
[4406,4340,"1",0.12675,0,75,75]
[4920,4406,"1",0.70440000000000003,0,25,25]
[4340,4922,"2",0.54432999999999998,0,25,25]
[4406,4340,"2",0.12675,0,75,75]
[4922,4406,"2",0.70440000000000003,0,25,25]
[1102,1151,"1",0.1636,0,100,100]
[1128,1110,"1",9.9930000000000005E-2,0,245,245]
[1126,1434,"1",0.11700000000000001,0,100,100]
[1219,1218,"1",0.1636,0,300,300]
[1422,1411,"1",0.19400000000000001,0,30,30]
[1444,1447,"1",8.3330000000000001E-2,0,180,180]
[1106,1113,"1",0.11570999999999999,0,180,180]
[1113,1502,"1",7.0860000000000006E-2,0,60,60]
[1502,1106,"1",0.20305000000000001,0,60,60]
[1106,1151,"1",0.11899999999999999,0,120,120]
[1151,1504,"1",7.3639999999999997E-2,0,36,36]
[1504,1106,"1",0.21078,0,36,36]
[1107,1155,"1",6.1490000000000003E-2,0,234,234]
[1155,1507,"1",3.7999999999999999E-2,0,81.900000000000006,81.900000000000006]
[1507,1107,"1",0.10964,0,81.900000000000006,81.900000000000006]
[1110,1306,"1",0.11570999999999999,0,180,180]
[1306,1501,"1",7.0860000000000006E-2,0,60,60]
[1501,1110,"1",0.20305000000000001,0,60,60]
[1114,1154,"1",8.2000000000000003E-2,0,90,90]
[1154,1509,"1",5.0700000000000002E-2,0,30,30]
[1509,1114,"1",0.1452,0,30,30]
[1119,1820,"1",6.361E-2,0,150,150]
[1519,1119,"1",0.1958,0,50,50]
[1820,1519,"1",0.28162999999999999,0,50,50]
[1119,1304,"1",0.12330000000000001,0,180,180]
[1304,1506,"1",7.2669999999999998E-2,0,60,60]
[1506,1119,"1",0.20799999999999999,0,60,60]
[1409,1521,"1",0.22286,0,42,42]
[1499,1409,"1",0.11425,0,150,150]
[1521,1499,"1",6.1190000000000001E-2,0,42,42]
[1409,1516,"1",7.2669999999999998E-2,0,55,55]
[1516,1710,"1",0.20305000000000001,0,55,55]
[1710,1409,"1",0.11743000000000001,0,165,165]
[1305,1520,"1",0.17455999999999999,0,30,30]
[1520,1822,"1",0.32467000000000001,0,30,30]
[1822,1305,"1",0.12772,0,90,90]
[3030,3033,"1",0.13100000000000001,0,120,120]
[3113,3030,"1",0.20666999999999999,0,53,53]
[3113,3030,"2",0.20832999999999999,0,60,60]
[3036,3037,"1",0.20666999999999999,0,60,60]
[3095,3038,"1",8.8889999999999997E-2,0,160,160]
[3095,3038,"2",8.7779999999999997E-2,0,165,165]
[3100,3101,"1",0.22,0,55,55]
[3122,3116,"1",0.22420000000000001,0,50,50]
[3120,3155,"1",0.15332999999999999,0,84,84]
[3030,3131,"1",0.18667,9.1699999999999993E-3,30,30]
[3033,3030,"1",0.13,4.8999999999999998E-3,100,100]
[3131,3033,"1",0.32667000000000002,6.5500000000000003E-3,30,30]
[3030,3132,"1",0.185,9.1699999999999993E-3,30,30]
[3033,3030,"1",0.13167000000000001,4.8999999999999998E-3,100,100]
[3132,3033,"1",0.32667000000000002,6.5500000000000003E-3,30,30]
[3427,3428,"1",0.57148900000000002,0,150,150]
[3428,3429,"1",0.341422,0,150,150]
[3429,3427,"1",8.5366999999999998E-2,0,150,150]
[1102,1109,"1",3.0640000000000001E-2,5.8900000000000003E-3,491.6,491.6]
[1106,1120,"1",3.0400000000000002E-3,5.5999999999999995E-4,491.6,491.6]
[1110,1145,"1",1.9220000000000001E-2,3.5699999999999998E-3,491.6,491.6]
[1128,14320,"1",1.7389999999999999E-2,1.2099999999999999E-3,1517,1517]
[1132,1145,"1",3.875E-2,7.1999999999999998E-3,491.6,491.6]
[1217,12283,"1",7.9850000000000004E-2,4.3990000000000001E-2,51.2,51.2]
[12204,12282,"1",5.9470000000000002E-2,1.443E-2,94.41,94.41]
[3183,3190,"1",4.9079999999999999E-2,7.5900000000000004E-3,374,374]
[6014,6330,"27",2.249E-2,4.0000000000000001E-3,193,193]
[6059,6060,"1",8.0000000000000004E-4,1.0000000000000001E-5,115,115]
[4402,4403,"1",3.0439999999999998E-2,5.8700000000000002E-3,225.4,225.4]
[28161,29162,"2",8.8500000000000002E-3,1.67E-3,491.6,491.6]
[6005,6006,"T3",0.16420000000000001,0,50,50]
[6006,6007,"T3",5.2200000000000003E-2,0,50,50]
[6007,6005,"T3",8.6999999999999994E-2,0,100,100]
[53150,54200,"1",5.1700000000000001E-3,6.6E-4,345,345]
[1206,12178,"1",3.0970000000000001E-2,1.7059999999999999E-2,51.2,51.2]
[1207,12178,"1",2.7459999999999998E-2,8.6800000000000002E-3,94.4,94.4]
[12047,12178,"1",1.5270000000000001E-2,3.7000000000000002E-3,94.4,94.4]
[1113,1755,"1",4.7030000000000002E-2,1.355E-2,147.5,147.5]
[1423,1755,"1",0.10451000000000001,3.0120000000000001E-2,147.5,147.5]
[4750,4408,"1",1.8550000000000001E-2,2.8500000000000001E-3,225.4,225.4]
[6331,6332,"44",9.5299999999999996E-2,1.8200000000000001E-2,93,93]
[53200,53050,"1",1.4905E-2,2.4099999999999998E-3,480,480]
[53854,53850,"2",0.1535,0,110,110]
[53854,53850,"1",0.1515,0,110,110]
[1126,29162,"1",1.7829999999999999E-2,3.3400000000000001E-3,491.6,491.6]
[58300,58304,"1",9.4600000000000004E-2,0,110,110]
[58304,58300,"2",0.1535,0,110,110]
[53154,53150,"1",6.0199999999999997E-2,0,110,110]
[53154,53150,"2",7.17E-2,0,100,100]
[53154,53150,"3",5.8599999999999999E-2,0,110,110]
[50050,50054,"1",6.0199999999999997E-2,0,110,110]
[50350,50354,"1",0.06,0,110,110]
[53004,53000,"1",6.3600000000000004E-2,0,110,110]
[53004,53000,"2",7.1999999999999995E-2,0,100,100]
[53004,53000,"3",7.1999999999999995E-2,0,100,100]
[53004,53000,"4",7.2700000000000001E-2,0,100,100]
[6003,6460,"3A",0.121085,1.3568999999999999E-2,275,275]
[6008,6460,"2B",5.382E-2,6.0299999999999998E-3,275,275]
[6008,6460,"3B",5.382E-2,6.0299999999999998E-3,275,275]
[1108,1153,"2",8.3330000000000001E-2,0,150,150]
[1153,1503,"2",4.8599999999999997E-2,0,60,60]
[1503,1108,"2",0.1474,0,60,60]
[1108,1153,"3",8.3330000000000001E-2,0,150,150]
[1153,1505,"3",4.8599999999999997E-2,0,60,60]
[1505,1108,"3",0.1474,0,60,60]
[1114,1154,"2",8.2000000000000003E-2,0,75,75]
[1154,1511,"2",5.0700000000000002E-2,0,30,30]
[1511,1114,"2",0.1452,0,30,30]
[1108,1153,"4",8.3330000000000001E-2,0,150,150]
[1153,1518,"4",4.8599999999999997E-2,0,60,60]
[1518,1108,"4",0.1474,0,60,60]
[1109,1154,"4",0.15429000000000001,0,120,120]
[1109,1154,"5",6.1490000000000003E-2,0,195,195]
[1107,1155,"2",6.1490000000000003E-2,0,195,195]
[1155,1522,"2",3.7999999999999999E-2,0,195,195]
[1522,1107,"2",0.10964,0,195,195]
[1109,1154,"3",8.3330000000000001E-2,0,150,150]
[1154,1513,"3",4.8000000000000001E-2,0,60,60]
[1513,1109,"3",0.154,0,60,60]
[1403,1764,"1",0.20238,5.8340000000000003E-2,66.7,66.7]
[1764,1429,"1",0.39483000000000001,0.11382,66.7,66.7]
[1107,1108,"2",1.247E-2,2.4099999999999998E-3,558.5,558.5]
[1107,1109,"2",8.4899999999999993E-3,1.64E-3,558.5,558.5]
[6440,6441,"33",1.5723000000000001E-2,3.2439999999999999E-3,374,374]
[6440,6442,"34",1.0962E-2,2.2620000000000001E-3,374,374]
[6182,6440,"5A",0.130216,1.6972999999999999E-2,374,374]
[6440,6500,"5B",7.3359999999999996E-3,9.5600000000000004E-4,374,374]
[50200,50150,"1",4.2329999999999998E-3,5.22E-4,400,400]
[50150,50800,"1",4.1028000000000002E-2,5.0759999999999998E-3,400,400]
[6440,6443,"35",6.3899999999999998E-3,8.2200000000000003E-4,374,374]
[3032,3550,"1",6.4900000000000001E-3,1.209E-3,405.1,405.1]
[3095,3550,"1",3.5555999999999997E-2,6.6940000000000003E-3,405.1,405.1]
[3037,3179,"1",2.2908999999999999E-2,5.1830000000000001E-3,160,160]
[3049,3179,"1",1.0534999999999999E-2,2.3839999999999998E-3,170,170]
[1124,29161,"1",8.2669999999999993E-2,1.2789999999999999E-2,374,374]
[1124,1129,"1",3.8519999999999999E-2,7.1900000000000002E-3,390.4,390.4]
[1101,1124,"1",2.6519999999999998E-2,4.1000000000000003E-3,374,374]
[1108,1771,"1",5.2170000000000001E-2,8.0700000000000008E-3,374,374]
[1710,1771,"1",5.493E-2,8.5000000000000006E-3,374,374]
[1433,1772,"1",3.6483000000000002E-2,6.3449999999999999E-3,80.099999999999994,80.099999999999994]
[1524,1771,"1",0.149563,0,30.6,30.6]
[1771,1772,"1",0.149399,0,90,90]
[1772,1524,"1",0.149474,0,30.6,30.6]
[58150,58300,"1",3.5550999999999999E-2,3.8430000000000001E-3,518,518]
[1102,1140,"1",7.4200000000000004E-3,1.14E-3,370.6,370.6]
[1101,1140,"1",5.6100000000000004E-3,2.8300000000000001E-3,390.4,390.4]
[1120,1140,"1",4.4000000000000002E-4,2.2000000000000001E-4,390.4,390.4]
[53200,53204,"1",0.16439999999999999,0,110,110]
[53200,53204,"2",0.16439999999999999,0,110,110]
[1141,1771,"1",6.9556999999999994E-2,0.12046,438.2,438.2]
[58300,58304,"1",9.4600000000000004E-2,0,110,110]
[53854,53850,"2",6.5500000000000003E-2,0,110,110]
[53854,53850,"1",0.1515,0,110,110]
[58304,58300,"2",0.1535,0,110,110]
[53004,53000,"1",6.5799999999999997E-2,0,110,110]
[53004,53000,"2",7.1999999999999995E-2,0,100,100]
[53004,53000,"3",7.1999999999999995E-2,0,100,100]
[53004,53000,"4",7.2700000000000001E-2,0,100,100]
[50050,50054,"1",6.0199999999999997E-2,0,110,110]
[50350,50354,"1",0.06,0,110,110]
[53154,53150,"1",6.0199999999999997E-2,0,110,110]
[53154,53150,"2",7.17E-2,0,100,100]
[53154,53150,"3",5.8599999999999999E-2,0,110,110]
[4317,4357,"1",5.0522999999999998E-2,1.1006E-2,133.9,133.9]
[4327,4357,"1",6.9747000000000003E-2,1.5193999999999999E-2,133.9,133.9]
[4404,4420,"1",9.6287999999999999E-2,1.7635000000000001E-2,367,367]
[4357,4362,"2",0.26267000000000001,0,25,25]
[4362,4420,"2",0.42799999999999999,0,25,25]
[4420,4357,"2",0.13667000000000001,0,71.3,71.3]
[4357,4358,"1",0.26267000000000001,0,25,25]
[4358,4420,"1",0.42799999999999999,0,25,25]
[4420,4357,"1",0.13667000000000001,0,71.3,71.3]
[6014,6510,"8A",1.7250000000000001E-2,3.5400000000000002E-3,193,193]
[6330,6510,"8B",5.9800000000000001E-3,1.23E-3,193,193]
[6510,6511,"36",4.2999999999999999E-4,8.0000000000000007E-5,193,193]
[6511,6513,"37",2.1800000000000001E-3,4.0999999999999999E-4,193,193]
[6261,6490,"50",3.6769999999999997E-2,1.0397E-2,40,40]
[6005,6240,"3B",7.2330000000000005E-2,1.404E-2,247,247]
[6008,6240,"3C",5.237E-2,1.0160000000000001E-2,320,320]
[12030,12282,"1",5.3480000000000003E-3,1.2979999999999999E-3,94.4,94.4]
[12030,12177,"1",3.6729999999999999E-2,8.9099999999999995E-3,94.4,94.4]
[12029,12282,"1",5.4799999999999996E-3,1.33E-3,94.4,94.4]
[12281,12136,"1",9.7119999999999998E-2,2.3560000000000001E-2,94.4,94.4]
[12283,12292,"1",1E-4,1E-4,170,170]
[12031,12136,"1",0.1351,7.2520000000000001E-2,79.400000000000006,79.400000000000006]
[12029,12031,"1",2.7999999999999998E-4,1.4999999999999999E-4,79.400000000000006,79.400000000000006]
[12292,12295,"1",5.0810000000000001E-2,1.2326999999999999E-2,79.400000000000006,79.400000000000006]
[12295,12144,"1",9.8055000000000003E-2,2.3788E-2,79.400000000000006,79.400000000000006]
[12108,12144,"1",3.8000000000000002E-4,2.0000000000000001E-4,41,41]
[1251,12292,"1",4.9027000000000001E-2,1.1894E-2,79.400000000000006,79.400000000000006]
[12292,12294,"1",5.0810000000000001E-2,1.2326999999999999E-2,79.400000000000006,79.400000000000006]
[12136,12294,"1",9.8055000000000003E-2,2.3788E-2,79.400000000000006,79.400000000000006]
[27341,27511,"1",3.8719000000000003E-2,7.1539999999999998E-3,260,260]
[27491,27511,"1",8.5142999999999996E-2,1.5730999999999998E-2,260,260]
[53850,58450,"1",2.401E-2,2.5579999999999999E-3,518,518]
[3408,3219,"1",2.954E-2,6.6800000000000002E-3,151.80000000000001,151.80000000000001]
[3037,3219,"1",4.5710000000000001E-2,1.034E-2,151.80000000000001,151.80000000000001]
[3310,3553,"1",1.6036000000000002E-2,2.444E-3,317.3,317.3]
[3034,3553,"1",1.7325E-2,2.6410000000000001E-3,317.3,317.3]
[1107,1170,"1",0.12286,2.2399999999999998E-3,390.4,390.4]
[1170,1124,"1",7.7999999999999996E-3,1.42E-3,390.4,390.4]
[1423,1795,"1",3.7200000000000002E-3,1.07E-3,117.1,117.1]
[1434,1795,"1",0.12654000000000001,3.6479999999999999E-2,117.1,117.1]
[50950,54500,"1",5.178E-2,5.5370000000000003E-3,518,518]
[22372,28371,"1",0.26924999999999999,5.3699999999999998E-3,50,50]
[27371,22372,"1",0.21274999999999999,4.8599999999999997E-3,50,50]
[28371,27371,"1",4.7199999999999999E-2,1.4E-3,156.30000000000001,156.30000000000001]
[22372,28371,"2",0.26924999999999999,5.3699999999999998E-3,50,50]
[27371,22372,"2",0.21274999999999999,4.8599999999999997E-3,50,50]
[28371,27371,"2",4.7199999999999999E-2,1.4E-3,156.30000000000001,156.30000000000001]
[6087,6300,"T1",0.24,0,62.5,62.5]
[6240,6241,"T1",0.245,0,50,50]
[6330,6331,"T1",0.13500000000000001,0,60,60]
[6380,6381,"T1",0.245,0,83.33,83.33]
[6001,6002,"T1",5.1400000000000001E-2,0,210,210]
[6002,6082,"T1",0.44950000000000001,0,30,30]
[6082,6001,"T1",0.52569999999999995,0,30,30]
[6001,6002,"T2",5.1400000000000001E-2,0,220,220]
[6002,6083,"T2",0.44950000000000001,0,40,40]
[6083,6001,"T2",0.52569999999999995,0,40,40]
[6001,6002,"T3",2.5700000000000001E-2,0,375,375]
[6002,6084,"T3",0.22470000000000001,0,75,75]
[6084,6001,"T3",0.26279999999999998,0,75,75]
[6003,6004,"T1",5.1400000000000001E-2,0,175,175]
[6004,6085,"T1",0.44950000000000001,0,30,30]
[6085,6003,"T1",0.52569999999999995,0,30,30]
[6003,6004,"T2",5.1400000000000001E-2,0,175,175]
[6004,6086,"T2",0.44950000000000001,0,30,30]
[6086,6003,"T2",0.52569999999999995,0,30,30]
[6005,6006,"T1",0.12,0,50,50]
[6006,6007,"T1",0.23,0,50,50]
[6007,6005,"T1",0.38,0,50,50]
[6005,6006,"T2",0.12,0,50,50]
[6006,6007,"T2",0.23,0,50,50]
[6007,6005,"T2",0.38,0,50,50]
[6008,6009,"T1",0.13139999999999999,0,60,60]
[6009,6010,"T1",0.32619999999999999,0,30,30]
[6010,6008,"T1",0.48809999999999998,0,30,30]
[6008,6009,"T2",0.13139999999999999,0,60,60]
[6009,6010,"T2",0.32619999999999999,0,30,30]
[6010,6008,"T2",0.48809999999999998,0,30,30]
[6011,6012,"T1",0.13139999999999999,0,60,60]
[6012,6013,"T1",0.32619999999999999,0,50,50]
[6013,6011,"T1",0.48809999999999998,0,50,50]
[6011,6012,"T2",0.13139999999999999,0,60,60]
[6012,6013,"T2",0.32619999999999999,0,50,50]
[6013,6011,"T2",0.48809999999999998,0,50,50]
[6011,6012,"T3",0.1341,0,60,60]
[6012,6013,"T3",0.3347,0,50,50]
[6013,6011,"T3",0.51049999999999995,0,50,50]
[6014,6015,"T1",0.12,0,50,50]

{"sheet":"g_m","index":1,"n_rows":557,"n_cols":3,"rows_kept":557,"cut":false,"hidden":false,"merged":[]}
["Nodo","Generacion","Demanda"]
[1101,{"$f":"IFERROR(VLOOKUP(A2,Hoja4!$A$2:$B$163,2,0),0)","v":256.24789999999996},{"$f":"IFERROR(VLOOKUP(A2,Hoja4!$D$2:$E$166,2,0),0)","v":0}]
[1102,{"$f":"IFERROR(VLOOKUP(A3,Hoja4!$A$2:$B$163,2,0),0)","v":20.49},{"$f":"IFERROR(VLOOKUP(A3,Hoja4!$D$2:$E$166,2,0),0)","v":36.238}]
[1103,{"$f":"IFERROR(VLOOKUP(A4,Hoja4!$A$2:$B$163,2,0),0)","v":0},{"$f":"IFERROR(VLOOKUP(A4,Hoja4!$D$2:$E$166,2,0),0)","v":0}]
[1105,{"$f":"IFERROR(VLOOKUP(A5,Hoja4!$A$2:$B$163,2,0),0)","v":0},{"$f":"IFERROR(VLOOKUP(A5,Hoja4!$D$2:$E$166,2,0),0)","v":0}]
[1106,{"$f":"IFERROR(VLOOKUP(A6,Hoja4!$A$2:$B$163,2,0),0)","v":0},{"$f":"IFERROR(VLOOKUP(A6,Hoja4!$D$2:$E$166,2,0),0)","v":36.290999999999997}]
[1107,{"$f":"IFERROR(VLOOKUP(A7,Hoja4!$A$2:$B$163,2,0),0)","v":0},{"$f":"IFERROR(VLOOKUP(A7,Hoja4!$D$2:$E$166,2,0),0)","v":143.10499999999999}]
[1108,{"$f":"IFERROR(VLOOKUP(A8,Hoja4!$A$2:$B$163,2,0),0)","v":0},{"$f":"IFERROR(VLOOKUP(A8,Hoja4!$D$2:$E$166,2,0),0)","v":155.583}]
[1109,{"$f":"IFERROR(VLOOKUP(A9,Hoja4!$A$2:$B$163,2,0),0)","v":0},{"$f":"IFERROR(VLOOKUP(A9,Hoja4!$D$2:$E$166,2,0),0)","v":207.28100000000001}]
[1110,{"$f":"IFERROR(VLOOKUP(A10,Hoja4!$A$2:$B$163,2,0),0)","v":0},{"$f":"IFERROR(VLOOKUP(A10,Hoja4!$D$2:$E$166,2,0),0)","v":0}]
[1111,{"$f":"IFERROR(VLOOKUP(A11,Hoja4!$A$2:$B$163,2,0),0)","v":0},{"$f":"IFERROR(VLOOKUP(A11,Hoja4!$D$2:$E$166,2,0),0)","v":0}]
[1113,{"$f":"IFERROR(VLOOKUP(A12,Hoja4!$A$2:$B$163,2,0),0)","v":0},{"$f":"IFERROR(VLOOKUP(A12,Hoja4!$D$2:$E$166,2,0),0)","v":0}]
[1114,{"$f":"IFERROR(VLOOKUP(A13,Hoja4!$A$2:$B$163,2,0),0)","v":0},{"$f":"IFERROR(VLOOKUP(A13,Hoja4!$D$2:$E$166,2,0),0)","v":0}]
[1115,{"$f":"IFERROR(VLOOKUP(A14,Hoja4!$A$2:$B$163,2,0),0)","v":0},{"$f":"IFERROR(VLOOKUP(A14,Hoja4!$D$2:$E$166,2,0),0)","v":0}]
[1117,{"$f":"IFERROR(VLOOKUP(A15,Hoja4!$A$2:$B$163,2,0),0)","v":0},{"$f":"IFERROR(VLOOKUP(A15,Hoja4!$D$2:$E$166,2,0),0)","v":0}]
[1119,{"$f":"IFERROR(VLOOKUP(A16,Hoja4!$A$2:$B$163,2,0),0)","v":0},{"$f":"IFERROR(VLOOKUP(A16,Hoja4!$D$2:$E$166,2,0),0)","v":0}]
[1120,{"$f":"IFERROR(VLOOKUP(A17,Hoja4!$A$2:$B$163,2,0),0)","v":17.417999999999999},{"$f":"IFERROR(VLOOKUP(A17,Hoja4!$D$2:$E$166,2,0),0)","v":0}]
[1121,{"$f":"IFERROR(VLOOKUP(A18,Hoja4!$A$2:$B$163,2,0),0)","v":0},{"$f":"IFERROR(VLOOKUP(A18,Hoja4!$D$2:$E$166,2,0),0)","v":0}]
[1122,{"$f":"IFERROR(VLOOKUP(A19,Hoja4!$A$2:$B$163,2,0),0)","v":0},{"$f":"IFERROR(VLOOKUP(A19,Hoja4!$D$2:$E$166,2,0),0)","v":0}]
[1124,{"$f":"IFERROR(VLOOKUP(A20,Hoja4!$A$2:$B$163,2,0),0)","v":0},{"$f":"IFERROR(VLOOKUP(A20,Hoja4!$D$2:$E$166,2,0),0)","v":35.914000000000001}]
[1126,{"$f":"IFERROR(VLOOKUP(A21,Hoja4!$A$2:$B$163,2,0),0)","v":0},{"$f":"IFERROR(VLOOKUP(A21,Hoja4!$D$2:$E$166,2,0),0)","v":50.213000000000001}]
[1128,{"$f":"IFERROR(VLOOKUP(A22,Hoja4!$A$2:$B$163,2,0),0)","v":0},{"$f":"IFERROR(VLOOKUP(A22,Hoja4!$D$2:$E$166,2,0),0)","v":0}]
[1129,{"$f":"IFERROR(VLOOKUP(A23,Hoja4!$A$2:$B$163,2,0),0)","v":0},{"$f":"IFERROR(VLOOKUP(A23,Hoja4!$D$2:$E$166,2,0),0)","v":0}]
[1131,{"$f":"IFERROR(VLOOKUP(A24,Hoja4!$A$2:$B$163,2,0),0)","v":0},{"$f":"IFERROR(VLOOKUP(A24,Hoja4!$D$2:$E$166,2,0),0)","v":0}]
[1132,{"$f":"IFERROR(VLOOKUP(A25,Hoja4!$A$2:$B$163,2,0),0)","v":0},{"$f":"IFERROR(VLOOKUP(A25,Hoja4!$D$2:$E$166,2,0),0)","v":0}]
[1133,{"$f":"IFERROR(VLOOKUP(A26,Hoja4!$A$2:$B$163,2,0),0)","v":0},{"$f":"IFERROR(VLOOKUP(A26,Hoja4!$D$2:$E$166,2,0),0)","v":19.166}]
[1140,{"$f":"IFERROR(VLOOKUP(A27,Hoja4!$A$2:$B$163,2,0),0)","v":127.8661},{"$f":"IFERROR(VLOOKUP(A27,Hoja4!$D$2:$E$166,2,0),0)","v":35.988}]
[1141,{"$f":"IFERROR(VLOOKUP(A28,Hoja4!$A$2:$B$163,2,0),0)","v":228.58},{"$f":"IFERROR(VLOOKUP(A28,Hoja4!$D$2:$E$166,2,0),0)","v":0}]
[1145,{"$f":"IFERROR(VLOOKUP(A29,Hoja4!$A$2:$B$163,2,0),0)","v":8.8626000000000005},{"$f":"IFERROR(VLOOKUP(A29,Hoja4!$D$2:$E$166,2,0),0)","v":0}]
[1151,{"$f":"IFERROR(VLOOKUP(A30,Hoja4!$A$2:$B$163,2,0),0)","v":0},{"$f":"IFERROR(VLOOKUP(A30,Hoja4!$D$2:$E$166,2,0),0)","v":0}]
[1153,{"$f":"IFERROR(VLOOKUP(A31,Hoja4!$A$2:$B$163,2,0),0)","v":0},{"$f":"IFERROR(VLOOKUP(A31,Hoja4!$D$2:$E$166,2,0),0)","v":0}]
[1154,{"$f":"IFERROR(VLOOKUP(A32,Hoja4!$A$2:$B$163,2,0),0)","v":0},{"$f":"IFERROR(VLOOKUP(A32,Hoja4!$D$2:$E$166,2,0),0)","v":0}]
[1155,{"$f":"IFERROR(VLOOKUP(A33,Hoja4!$A$2:$B$163,2,0),0)","v":0},{"$f":"IFERROR(VLOOKUP(A33,Hoja4!$D$2:$E$166,2,0),0)","v":0}]
[1159,{"$f":"IFERROR(VLOOKUP(A34,Hoja4!$A$2:$B$163,2,0),0)","v":0},{"$f":"IFERROR(VLOOKUP(A34,Hoja4!$D$2:$E$166,2,0),0)","v":0}]
[1163,{"$f":"IFERROR(VLOOKUP(A35,Hoja4!$A$2:$B$163,2,0),0)","v":0},{"$f":"IFERROR(VLOOKUP(A35,Hoja4!$D$2:$E$166,2,0),0)","v":0}]
[1164,{"$f":"IFERROR(VLOOKUP(A36,Hoja4!$A$2:$B$163,2,0),0)","v":0},{"$f":"IFERROR(VLOOKUP(A36,Hoja4!$D$2:$E$166,2,0),0)","v":0}]
[1165,{"$f":"IFERROR(VLOOKUP(A37,Hoja4!$A$2:$B$163,2,0),0)","v":49.567999999999998},{"$f":"IFERROR(VLOOKUP(A37,Hoja4!$D$2:$E$166,2,0),0)","v":0}]
[1166,{"$f":"IFERROR(VLOOKUP(A38,Hoja4!$A$2:$B$163,2,0),0)","v":0},{"$f":"IFERROR(VLOOKUP(A38,Hoja4!$D$2:$E$166,2,0),0)","v":0}]
[1168,{"$f":"IFERROR(VLOOKUP(A39,Hoja4!$A$2:$B$163,2,0),0)","v":47.957000000000001},{"$f":"IFERROR(VLOOKUP(A39,Hoja4!$D$2:$E$166,2,0),0)","v":0}]
[1169,{"$f":"IFERROR(VLOOKUP(A40,Hoja4!$A$2:$B$163,2,0),0)","v":0},{"$f":"IFERROR(VLOOKUP(A40,Hoja4!$D$2:$E$166,2,0),0)","v":0}]
[1170,{"$f":"IFERROR(VLOOKUP(A41,Hoja4!$A$2:$B$163,2,0),0)","v":2.1194000000000002},{"$f":"IFERROR(VLOOKUP(A41,Hoja4!$D$2:$E$166,2,0),0)","v":0}]
[1174,{"$f":"IFERROR(VLOOKUP(A42,Hoja4!$A$2:$B$163,2,0),0)","v":0},{"$f":"IFERROR(VLOOKUP(A42,Hoja4!$D$2:$E$166,2,0),0)","v":0}]
[1204,{"$f":"IFERROR(VLOOKUP(A43,Hoja4!$A$2:$B$163,2,0),0)","v":0},{"$f":"IFERROR(VLOOKUP(A43,Hoja4!$D$2:$E$166,2,0),0)","v":0}]
[1206,{"$f":"IFERROR(VLOOKUP(A44,Hoja4!$A$2:$B$163,2,0),0)","v":0},{"$f":"IFERROR(VLOOKUP(A44,Hoja4!$D$2:$E$166,2,0),0)","v":0}]
[1207,{"$f":"IFERROR(VLOOKUP(A45,Hoja4!$A$2:$B$163,2,0),0)","v":0},{"$f":"IFERROR(VLOOKUP(A45,Hoja4!$D$2:$E$166,2,0),0)","v":0}]
[1215,{"$f":"IFERROR(VLOOKUP(A46,Hoja4!$A$2:$B$163,2,0),0)","v":0},{"$f":"IFERROR(VLOOKUP(A46,Hoja4!$D$2:$E$166,2,0),0)","v":0}]
[1216,{"$f":"IFERROR(VLOOKUP(A47,Hoja4!$A$2:$B$163,2,0),0)","v":0},{"$f":"IFERROR(VLOOKUP(A47,Hoja4!$D$2:$E$166,2,0),0)","v":0}]
[1217,{"$f":"IFERROR(VLOOKUP(A48,Hoja4!$A$2:$B$163,2,0),0)","v":0},{"$f":"IFERROR(VLOOKUP(A48,Hoja4!$D$2:$E$166,2,0),0)","v":0}]
[1218,{"$f":"IFERROR(VLOOKUP(A49,Hoja4!$A$2:$B$163,2,0),0)","v":0},{"$f":"IFERROR(VLOOKUP(A49,Hoja4!$D$2:$E$166,2,0),0)","v":0}]
[1219,{"$f":"IFERROR(VLOOKUP(A50,Hoja4!$A$2:$B$163,2,0),0)","v":68.570999999999998},{"$f":"IFERROR(VLOOKUP(A50,Hoja4!$D$2:$E$166,2,0),0)","v":0}]
[1220,{"$f":"IFERROR(VLOOKUP(A51,Hoja4!$A$2:$B$163,2,0),0)","v":0},{"$f":"IFERROR(VLOOKUP(A51,Hoja4!$D$2:$E$166,2,0),0)","v":0}]
[1223,{"$f":"IFERROR(VLOOKUP(A52,Hoja4!$A$2:$B$163,2,0),0)","v":0},{"$f":"IFERROR(VLOOKUP(A52,Hoja4!$D$2:$E$166,2,0),0)","v":0}]
[1240,{"$f":"IFERROR(VLOOKUP(A53,Hoja4!$A$2:$B$163,2,0),0)","v":0},{"$f":"IFERROR(VLOOKUP(A53,Hoja4!$D$2:$E$166,2,0),0)","v":0}]
[1241,{"$f":"IFERROR(VLOOKUP(A54,Hoja4!$A$2:$B$163,2,0),0)","v":0},{"$f":"IFERROR(VLOOKUP(A54,Hoja4!$D$2:$E$166,2,0),0)","v":0}]
[1249,{"$f":"IFERROR(VLOOKUP(A55,Hoja4!$A$2:$B$163,2,0),0)","v":0},{"$f":"IFERROR(VLOOKUP(A55,Hoja4!$D$2:$E$166,2,0),0)","v":0}]
[1251,{"$f":"IFERROR(VLOOKUP(A56,Hoja4!$A$2:$B$163,2,0),0)","v":0},{"$f":"IFERROR(VLOOKUP(A56,Hoja4!$D$2:$E$166,2,0),0)","v":0}]
[1301,{"$f":"IFERROR(VLOOKUP(A57,Hoja4!$A$2:$B$163,2,0),0)","v":0},{"$f":"IFERROR(VLOOKUP(A57,Hoja4!$D$2:$E$166,2,0),0)","v":0}]
[1302,{"$f":"IFERROR(VLOOKUP(A58,Hoja4!$A$2:$B$163,2,0),0)","v":0},{"$f":"IFERROR(VLOOKUP(A58,Hoja4!$D$2:$E$166,2,0),0)","v":0}]
[1303,{"$f":"IFERROR(VLOOKUP(A59,Hoja4!$A$2:$B$163,2,0),0)","v":0},{"$f":"IFERROR(VLOOKUP(A59,Hoja4!$D$2:$E$166,2,0),0)","v":0}]
[1304,{"$f":"IFERROR(VLOOKUP(A60,Hoja4!$A$2:$B$163,2,0),0)","v":0},{"$f":"IFERROR(VLOOKUP(A60,Hoja4!$D$2:$E$166,2,0),0)","v":0}]
[1305,{"$f":"IFERROR(VLOOKUP(A61,Hoja4!$A$2:$B$163,2,0),0)","v":0},{"$f":"IFERROR(VLOOKUP(A61,Hoja4!$D$2:$E$166,2,0),0)","v":0}]
[1306,{"$f":"IFERROR(VLOOKUP(A62,Hoja4!$A$2:$B$163,2,0),0)","v":0},{"$f":"IFERROR(VLOOKUP(A62,Hoja4!$D$2:$E$166,2,0),0)","v":0}]
[1308,{"$f":"IFERROR(VLOOKUP(A63,Hoja4!$A$2:$B$163,2,0),0)","v":0},{"$f":"IFERROR(VLOOKUP(A63,Hoja4!$D$2:$E$166,2,0),0)","v":0}]
[1309,{"$f":"IFERROR(VLOOKUP(A64,Hoja4!$A$2:$B$163,2,0),0)","v":0},{"$f":"IFERROR(VLOOKUP(A64,Hoja4!$D$2:$E$166,2,0),0)","v":0}]
[1310,{"$f":"IFERROR(VLOOKUP(A65,Hoja4!$A$2:$B$163,2,0),0)","v":0},{"$f":"IFERROR(VLOOKUP(A65,Hoja4!$D$2:$E$166,2,0),0)","v":0}]
[1312,{"$f":"IFERROR(VLOOKUP(A66,Hoja4!$A$2:$B$163,2,0),0)","v":0},{"$f":"IFERROR(VLOOKUP(A66,Hoja4!$D$2:$E$166,2,0),0)","v":0}]
[1314,{"$f":"IFERROR(VLOOKUP(A67,Hoja4!$A$2:$B$163,2,0),0)","v":0},{"$f":"IFERROR(VLOOKUP(A67,Hoja4!$D$2:$E$166,2,0),0)","v":0}]
[1315,{"$f":"IFERROR(VLOOKUP(A68,Hoja4!$A$2:$B$163,2,0),0)","v":0},{"$f":"IFERROR(VLOOKUP(A68,Hoja4!$D$2:$E$166,2,0),0)","v":0}]
[1318,{"$f":"IFERROR(VLOOKUP(A69,Hoja4!$A$2:$B$163,2,0),0)","v":0},{"$f":"IFERROR(VLOOKUP(A69,Hoja4!$D$2:$E$166,2,0),0)","v":0}]
[1321,{"$f":"IFERROR(VLOOKUP(A70,Hoja4!$A$2:$B$163,2,0),0)","v":0},{"$f":"IFERROR(VLOOKUP(A70,Hoja4!$D$2:$E$166,2,0),0)","v":0}]
[1322,{"$f":"IFERROR(VLOOKUP(A71,Hoja4!$A$2:$B$163,2,0),0)","v":0},{"$f":"IFERROR(VLOOKUP(A71,Hoja4!$D$2:$E$166,2,0),0)","v":0}]
[1323,{"$f":"IFERROR(VLOOKUP(A72,Hoja4!$A$2:$B$163,2,0),0)","v":0},{"$f":"IFERROR(VLOOKUP(A72,Hoja4!$D$2:$E$166,2,0),0)","v":0}]
[1324,{"$f":"IFERROR(VLOOKUP(A73,Hoja4!$A$2:$B$163,2,0),0)","v":0},{"$f":"IFERROR(VLOOKUP(A73,Hoja4!$D$2:$E$166,2,0),0)","v":0}]
[1325,{"$f":"IFERROR(VLOOKUP(A74,Hoja4!$A$2:$B$163,2,0),0)","v":0},{"$f":"IFERROR(VLOOKUP(A74,Hoja4!$D$2:$E$166,2,0),0)","v":0}]
[1327,{"$f":"IFERROR(VLOOKUP(A75,Hoja4!$A$2:$B$163,2,0),0)","v":0},{"$f":"IFERROR(VLOOKUP(A75,Hoja4!$D$2:$E$166,2,0),0)","v":0}]
[1329,{"$f":"IFERROR(VLOOKUP(A76,Hoja4!$A$2:$B$163,2,0),0)","v":0},{"$f":"IFERROR(VLOOKUP(A76,Hoja4!$D$2:$E$166,2,0),0)","v":0}]
[1331,{"$f":"IFERROR(VLOOKUP(A77,Hoja4!$A$2:$B$163,2,0),0)","v":0},{"$f":"IFERROR(VLOOKUP(A77,Hoja4!$D$2:$E$166,2,0),0)","v":0}]
[1336,{"$f":"IFERROR(VLOOKUP(A78,Hoja4!$A$2:$B$163,2,0),0)","v":0},{"$f":"IFERROR(VLOOKUP(A78,Hoja4!$D$2:$E$166,2,0),0)","v":0}]
[1337,{"$f":"IFERROR(VLOOKUP(A79,Hoja4!$A$2:$B$163,2,0),0)","v":0},{"$f":"IFERROR(VLOOKUP(A79,Hoja4!$D$2:$E$166,2,0),0)","v":0}]
[1338,{"$f":"IFERROR(VLOOKUP(A80,Hoja4!$A$2:$B$163,2,0),0)","v":0},{"$f":"IFERROR(VLOOKUP(A80,Hoja4!$D$2:$E$166,2,0),0)","v":0}]
[1339,{"$f":"IFERROR(VLOOKUP(A81,Hoja4!$A$2:$B$163,2,0),0)","v":0},{"$f":"IFERROR(VLOOKUP(A81,Hoja4!$D$2:$E$166,2,0),0)","v":0}]
[1372,{"$f":"IFERROR(VLOOKUP(A82,Hoja4!$A$2:$B$163,2,0),0)","v":0},{"$f":"IFERROR(VLOOKUP(A82,Hoja4!$D$2:$E$166,2,0),0)","v":0}]
[1374,{"$f":"IFERROR(VLOOKUP(A83,Hoja4!$A$2:$B$163,2,0),0)","v":0},{"$f":"IFERROR(VLOOKUP(A83,Hoja4!$D$2:$E$166,2,0),0)","v":0}]
[1388,{"$f":"IFERROR(VLOOKUP(A84,Hoja4!$A$2:$B$163,2,0),0)","v":0},{"$f":"IFERROR(VLOOKUP(A84,Hoja4!$D$2:$E$166,2,0),0)","v":0}]
[1403,{"$f":"IFERROR(VLOOKUP(A85,Hoja4!$A$2:$B$163,2,0),0)","v":0},{"$f":"IFERROR(VLOOKUP(A85,Hoja4!$D$2:$E$166,2,0),0)","v":0}]
[1406,{"$f":"IFERROR(VLOOKUP(A86,Hoja4!$A$2:$B$163,2,0),0)","v":0},{"$f":"IFERROR(VLOOKUP(A86,Hoja4!$D$2:$E$166,2,0),0)","v":0}]
[1407,{"$f":"IFERROR(VLOOKUP(A87,Hoja4!$A$2:$B$163,2,0),0)","v":0},{"$f":"IFERROR(VLOOKUP(A87,Hoja4!$D$2:$E$166,2,0),0)","v":0}]
[1408,{"$f":"IFERROR(VLOOKUP(A88,Hoja4!$A$2:$B$163,2,0),0)","v":0},{"$f":"IFERROR(VLOOKUP(A88,Hoja4!$D$2:$E$166,2,0),0)","v":0}]
[1409,{"$f":"IFERROR(VLOOKUP(A89,Hoja4!$A$2:$B$163,2,0),0)","v":0},{"$f":"IFERROR(VLOOKUP(A89,Hoja4!$D$2:$E$166,2,0),0)","v":0}]
[1411,{"$f":"IFERROR(VLOOKUP(A90,Hoja4!$A$2:$B$163,2,0),0)","v":0},{"$f":"IFERROR(VLOOKUP(A90,Hoja4!$D$2:$E$166,2,0),0)","v":0}]
[1414,{"$f":"IFERROR(VLOOKUP(A91,Hoja4!$A$2:$B$163,2,0),0)","v":0},{"$f":"IFERROR(VLOOKUP(A91,Hoja4!$D$2:$E$166,2,0),0)","v":0}]
[1415,{"$f":"IFERROR(VLOOKUP(A92,Hoja4!$A$2:$B$163,2,0),0)","v":0},{"$f":"IFERROR(VLOOKUP(A92,Hoja4!$D$2:$E$166,2,0),0)","v":0}]
[1416,{"$f":"IFERROR(VLOOKUP(A93,Hoja4!$A$2:$B$163,2,0),0)","v":0},{"$f":"IFERROR(VLOOKUP(A93,Hoja4!$D$2:$E$166,2,0),0)","v":0}]
[1417,{"$f":"IFERROR(VLOOKUP(A94,Hoja4!$A$2:$B$163,2,0),0)","v":0},{"$f":"IFERROR(VLOOKUP(A94,Hoja4!$D$2:$E$166,2,0),0)","v":0}]
[1418,{"$f":"IFERROR(VLOOKUP(A95,Hoja4!$A$2:$B$163,2,0),0)","v":0},{"$f":"IFERROR(VLOOKUP(A95,Hoja4!$D$2:$E$166,2,0),0)","v":0}]
[1422,{"$f":"IFERROR(VLOOKUP(A96,Hoja4!$A$2:$B$163,2,0),0)","v":0},{"$f":"IFERROR(VLOOKUP(A96,Hoja4!$D$2:$E$166,2,0),0)","v":0}]
[1423,{"$f":"IFERROR(VLOOKUP(A97,Hoja4!$A$2:$B$163,2,0),0)","v":0},{"$f":"IFERROR(VLOOKUP(A97,Hoja4!$D$2:$E$166,2,0),0)","v":0}]
[1424,{"$f":"IFERROR(VLOOKUP(A98,Hoja4!$A$2:$B$163,2,0),0)","v":0},{"$f":"IFERROR(VLOOKUP(A98,Hoja4!$D$2:$E$166,2,0),0)","v":0}]
[1425,{"$f":"IFERROR(VLOOKUP(A99,Hoja4!$A$2:$B$163,2,0),0)","v":0},{"$f":"IFERROR(VLOOKUP(A99,Hoja4!$D$2:$E$166,2,0),0)","v":0}]
[1427,{"$f":"IFERROR(VLOOKUP(A100,Hoja4!$A$2:$B$163,2,0),0)","v":0},{"$f":"IFERROR(VLOOKUP(A100,Hoja4!$D$2:$E$166,2,0),0)","v":0}]
[1428,{"$f":"IFERROR(VLOOKUP(A101,Hoja4!$A$2:$B$163,2,0),0)","v":0},{"$f":"IFERROR(VLOOKUP(A101,Hoja4!$D$2:$E$166,2,0),0)","v":0}]
[1429,{"$f":"IFERROR(VLOOKUP(A102,Hoja4!$A$2:$B$163,2,0),0)","v":0},{"$f":"IFERROR(VLOOKUP(A102,Hoja4!$D$2:$E$166,2,0),0)","v":0}]
[1431,{"$f":"IFERROR(VLOOKUP(A103,Hoja4!$A$2:$B$163,2,0),0)","v":0},{"$f":"IFERROR(VLOOKUP(A103,Hoja4!$D$2:$E$166,2,0),0)","v":0}]
[1432,{"$f":"IFERROR(VLOOKUP(A104,Hoja4!$A$2:$B$163,2,0),0)","v":0},{"$f":"IFERROR(VLOOKUP(A104,Hoja4!$D$2:$E$166,2,0),0)","v":0}]
[1433,{"$f":"IFERROR(VLOOKUP(A105,Hoja4!$A$2:$B$163,2,0),0)","v":0},{"$f":"IFERROR(VLOOKUP(A105,Hoja4!$D$2:$E$166,2,0),0)","v":0}]
[1434,{"$f":"IFERROR(VLOOKUP(A106,Hoja4!$A$2:$B$163,2,0),0)","v":0},{"$f":"IFERROR(VLOOKUP(A106,Hoja4!$D$2:$E$166,2,0),0)","v":0}]
[1435,{"$f":"IFERROR(VLOOKUP(A107,Hoja4!$A$2:$B$163,2,0),0)","v":0},{"$f":"IFERROR(VLOOKUP(A107,Hoja4!$D$2:$E$166,2,0),0)","v":0}]
[1439,{"$f":"IFERROR(VLOOKUP(A108,Hoja4!$A$2:$B$163,2,0),0)","v":0},{"$f":"IFERROR(VLOOKUP(A108,Hoja4!$D$2:$E$166,2,0),0)","v":0}]
[1442,{"$f":"IFERROR(VLOOKUP(A109,Hoja4!$A$2:$B$163,2,0),0)","v":0},{"$f":"IFERROR(VLOOKUP(A109,Hoja4!$D$2:$E$166,2,0),0)","v":0}]
[1444,{"$f":"IFERROR(VLOOKUP(A110,Hoja4!$A$2:$B$163,2,0),0)","v":33.241},{"$f":"IFERROR(VLOOKUP(A110,Hoja4!$D$2:$E$166,2,0),0)","v":21.9}]
[1445,{"$f":"IFERROR(VLOOKUP(A111,Hoja4!$A$2:$B$163,2,0),0)","v":0},{"$f":"IFERROR(VLOOKUP(A111,Hoja4!$D$2:$E$166,2,0),0)","v":0}]
[1447,{"$f":"IFERROR(VLOOKUP(A112,Hoja4!$A$2:$B$163,2,0),0)","v":0},{"$f":"IFERROR(VLOOKUP(A112,Hoja4!$D$2:$E$166,2,0),0)","v":0}]
[1449,{"$f":"IFERROR(VLOOKUP(A113,Hoja4!$A$2:$B$163,2,0),0)","v":0},{"$f":"IFERROR(VLOOKUP(A113,Hoja4!$D$2:$E$166,2,0),0)","v":0}]
[1490,{"$f":"IFERROR(VLOOKUP(A114,Hoja4!$A$2:$B$163,2,0),0)","v":0},{"$f":"IFERROR(VLOOKUP(A114,Hoja4!$D$2:$E$166,2,0),0)","v":0}]
[1491,{"$f":"IFERROR(VLOOKUP(A115,Hoja4!$A$2:$B$163,2,0),0)","v":0},{"$f":"IFERROR(VLOOKUP(A115,Hoja4!$D$2:$E$166,2,0),0)","v":0}]
[1492,{"$f":"IFERROR(VLOOKUP(A116,Hoja4!$A$2:$B$163,2,0),0)","v":0},{"$f":"IFERROR(VLOOKUP(A116,Hoja4!$D$2:$E$166,2,0),0)","v":0}]
[1493,{"$f":"IFERROR(VLOOKUP(A117,Hoja4!$A$2:$B$163,2,0),0)","v":0},{"$f":"IFERROR(VLOOKUP(A117,Hoja4!$D$2:$E$166,2,0),0)","v":0}]
[1495,{"$f":"IFERROR(VLOOKUP(A118,Hoja4!$A$2:$B$163,2,0),0)","v":0},{"$f":"IFERROR(VLOOKUP(A118,Hoja4!$D$2:$E$166,2,0),0)","v":0}]
[1497,{"$f":"IFERROR(VLOOKUP(A119,Hoja4!$A$2:$B$163,2,0),0)","v":0},{"$f":"IFERROR(VLOOKUP(A119,Hoja4!$D$2:$E$166,2,0),0)","v":0}]
[1498,{"$f":"IFERROR(VLOOKUP(A120,Hoja4!$A$2:$B$163,2,0),0)","v":0},{"$f":"IFERROR(VLOOKUP(A120,Hoja4!$D$2:$E$166,2,0),0)","v":0}]
[1499,{"$f":"IFERROR(VLOOKUP(A121,Hoja4!$A$2:$B$163,2,0),0)","v":0},{"$f":"IFERROR(VLOOKUP(A121,Hoja4!$D$2:$E$166,2,0),0)","v":0}]
[1501,{"$f":"IFERROR(VLOOKUP(A122,Hoja4!$A$2:$B$163,2,0),0)","v":0},{"$f":"IFERROR(VLOOKUP(A122,Hoja4!$D$2:$E$166,2,0),0)","v":0}]
[1502,{"$f":"IFERROR(VLOOKUP(A123,Hoja4!$A$2:$B$163,2,0),0)","v":0},{"$f":"IFERROR(VLOOKUP(A123,Hoja4!$D$2:$E$166,2,0),0)","v":0}]
[1503,{"$f":"IFERROR(VLOOKUP(A124,Hoja4!$A$2:$B$163,2,0),0)","v":0},{"$f":"IFERROR(VLOOKUP(A124,Hoja4!$D$2:$E$166,2,0),0)","v":0}]
[1504,{"$f":"IFERROR(VLOOKUP(A125,Hoja4!$A$2:$B$163,2,0),0)","v":0},{"$f":"IFERROR(VLOOKUP(A125,Hoja4!$D$2:$E$166,2,0),0)","v":0}]
[1505,{"$f":"IFERROR(VLOOKUP(A126,Hoja4!$A$2:$B$163,2,0),0)","v":0},{"$f":"IFERROR(VLOOKUP(A126,Hoja4!$D$2:$E$166,2,0),0)","v":0}]
[1506,{"$f":"IFERROR(VLOOKUP(A127,Hoja4!$A$2:$B$163,2,0),0)","v":0},{"$f":"IFERROR(VLOOKUP(A127,Hoja4!$D$2:$E$166,2,0),0)","v":0}]
[1507,{"$f":"IFERROR(VLOOKUP(A128,Hoja4!$A$2:$B$163,2,0),0)","v":0},{"$f":"IFERROR(VLOOKUP(A128,Hoja4!$D$2:$E$166,2,0),0)","v":0}]
[1509,{"$f":"IFERROR(VLOOKUP(A129,Hoja4!$A$2:$B$163,2,0),0)","v":0},{"$f":"IFERROR(VLOOKUP(A129,Hoja4!$D$2:$E$166,2,0),0)","v":0}]
[1511,{"$f":"IFERROR(VLOOKUP(A130,Hoja4!$A$2:$B$163,2,0),0)","v":0},{"$f":"IFERROR(VLOOKUP(A130,Hoja4!$D$2:$E$166,2,0),0)","v":0}]
[1513,{"$f":"IFERROR(VLOOKUP(A131,Hoja4!$A$2:$B$163,2,0),0)","v":0},{"$f":"IFERROR(VLOOKUP(A131,Hoja4!$D$2:$E$166,2,0),0)","v":0}]
[1516,{"$f":"IFERROR(VLOOKUP(A132,Hoja4!$A$2:$B$163,2,0),0)","v":0},{"$f":"IFERROR(VLOOKUP(A132,Hoja4!$D$2:$E$166,2,0),0)","v":0}]
[1518,{"$f":"IFERROR(VLOOKUP(A133,Hoja4!$A$2:$B$163,2,0),0)","v":0},{"$f":"IFERROR(VLOOKUP(A133,Hoja4!$D$2:$E$166,2,0),0)","v":0}]
[1519,{"$f":"IFERROR(VLOOKUP(A134,Hoja4!$A$2:$B$163,2,0),0)","v":0},{"$f":"IFERROR(VLOOKUP(A134,Hoja4!$D$2:$E$166,2,0),0)","v":0}]
[1520,{"$f":"IFERROR(VLOOKUP(A135,Hoja4!$A$2:$B$163,2,0),0)","v":0},{"$f":"IFERROR(VLOOKUP(A135,Hoja4!$D$2:$E$166,2,0),0)","v":0}]
[1521,{"$f":"IFERROR(VLOOKUP(A136,Hoja4!$A$2:$B$163,2,0),0)","v":0},{"$f":"IFERROR(VLOOKUP(A136,Hoja4!$D$2:$E$166,2,0),0)","v":0}]
[1522,{"$f":"IFERROR(VLOOKUP(A137,Hoja4!$A$2:$B$163,2,0),0)","v":0},{"$f":"IFERROR(VLOOKUP(A137,Hoja4!$D$2:$E$166,2,0),0)","v":0}]
[1524,{"$f":"IFERROR(VLOOKUP(A138,Hoja4!$A$2:$B$163,2,0),0)","v":0},{"$f":"IFERROR(VLOOKUP(A138,Hoja4!$D$2:$E$166,2,0),0)","v":0}]
[1526,{"$f":"IFERROR(VLOOKUP(A139,Hoja4!$A$2:$B$163,2,0),0)","v":0},{"$f":"IFERROR(VLOOKUP(A139,Hoja4!$D$2:$E$166,2,0),0)","v":0}]
[1527,{"$f":"IFERROR(VLOOKUP(A140,Hoja4!$A$2:$B$163,2,0),0)","v":0},{"$f":"IFERROR(VLOOKUP(A140,Hoja4!$D$2:$E$166,2,0),0)","v":0}]
[1528,{"$f":"IFERROR(VLOOKUP(A141,Hoja4!$A$2:$B$163,2,0),0)","v":0},{"$f":"IFERROR(VLOOKUP(A141,Hoja4!$D$2:$E$166,2,0),0)","v":0}]
[1667,{"$f":"IFERROR(VLOOKUP(A142,Hoja4!$A$2:$B$163,2,0),0)","v":0},{"$f":"IFERROR(VLOOKUP(A142,Hoja4!$D$2:$E$166,2,0),0)","v":0}]
[1702,{"$f":"IFERROR(VLOOKUP(A143,Hoja4!$A$2:$B$163,2,0),0)","v":0},{"$f":"IFERROR(VLOOKUP(A143,Hoja4!$D$2:$E$166,2,0),0)","v":0}]
[1710,{"$f":"IFERROR(VLOOKUP(A144,Hoja4!$A$2:$B$163,2,0),0)","v":0},{"$f":"IFERROR(VLOOKUP(A144,Hoja4!$D$2:$E$166,2,0),0)","v":68.656999999999996}]
[1713,{"$f":"IFERROR(VLOOKUP(A145,Hoja4!$A$2:$B$163,2,0),0)","v":0},{"$f":"IFERROR(VLOOKUP(A145,Hoja4!$D$2:$E$166,2,0),0)","v":0}]
[1714,{"$f":"IFERROR(VLOOKUP(A146,Hoja4!$A$2:$B$163,2,0),0)","v":0},{"$f":"IFERROR(VLOOKUP(A146,Hoja4!$D$2:$E$166,2,0),0)","v":0}]
[1715,{"$f":"IFERROR(VLOOKUP(A147,Hoja4!$A$2:$B$163,2,0),0)","v":0},{"$f":"IFERROR(VLOOKUP(A147,Hoja4!$D$2:$E$166,2,0),0)","v":0}]
[1718,{"$f":"IFERROR(VLOOKUP(A148,Hoja4!$A$2:$B$163,2,0),0)","v":0},{"$f":"IFERROR(VLOOKUP(A148,Hoja4!$D$2:$E$166,2,0),0)","v":0}]
[1719,{"$f":"IFERROR(VLOOKUP(A149,Hoja4!$A$2:$B$163,2,0),0)","v":0},{"$f":"IFERROR(VLOOKUP(A149,Hoja4!$D$2:$E$166,2,0),0)","v":0}]
[1730,{"$f":"IFERROR(VLOOKUP(A150,Hoja4!$A$2:$B$163,2,0),0)","v":0},{"$f":"IFERROR(VLOOKUP(A150,Hoja4!$D$2:$E$166,2,0),0)","v":0}]
[1732,{"$f":"IFERROR(VLOOKUP(A151,Hoja4!$A$2:$B$163,2,0),0)","v":0},{"$f":"IFERROR(VLOOKUP(A151,Hoja4!$D$2:$E$166,2,0),0)","v":0}]
[1735,{"$f":"IFERROR(VLOOKUP(A152,Hoja4!$A$2:$B$163,2,0),0)","v":0},{"$f":"IFERROR(VLOOKUP(A152,Hoja4!$D$2:$E$166,2,0),0)","v":0}]
[1736,{"$f":"IFERROR(VLOOKUP(A153,Hoja4!$A$2:$B$163,2,0),0)","v":0},{"$f":"IFERROR(VLOOKUP(A153,Hoja4!$D$2:$E$166,2,0),0)","v":0}]
[1755,{"$f":"IFERROR(VLOOKUP(A154,Hoja4!$A$2:$B$163,2,0),0)","v":0},{"$f":"IFERROR(VLOOKUP(A154,Hoja4!$D$2:$E$166,2,0),0)","v":0}]
[1758,{"$f":"IFERROR(VLOOKUP(A155,Hoja4!$A$2:$B$163,2,0),0)","v":0},{"$f":"IFERROR(VLOOKUP(A155,Hoja4!$D$2:$E$166,2,0),0)","v":0}]
[1762,{"$f":"IFERROR(VLOOKUP(A156,Hoja4!$A$2:$B$163,2,0),0)","v":0},{"$f":"IFERROR(VLOOKUP(A156,Hoja4!$D$2:$E$166,2,0),0)","v":0}]
[1764,{"$f":"IFERROR(VLOOKUP(A157,Hoja4!$A$2:$B$163,2,0),0)","v":0},{"$f":"IFERROR(VLOOKUP(A157,Hoja4!$D$2:$E$166,2,0),0)","v":0}]
[1771,{"$f":"IFERROR(VLOOKUP(A158,Hoja4!$A$2:$B$163,2,0),0)","v":0},{"$f":"IFERROR(VLOOKUP(A158,Hoja4!$D$2:$E$166,2,0),0)","v":36.027000000000001}]
[1772,{"$f":"IFERROR(VLOOKUP(A159,Hoja4!$A$2:$B$163,2,0),0)","v":0},{"$f":"IFERROR(VLOOKUP(A159,Hoja4!$D$2:$E$166,2,0),0)","v":0}]
[1795,{"$f":"IFERROR(VLOOKUP(A160,Hoja4!$A$2:$B$163,2,0),0)","v":0},{"$f":"IFERROR(VLOOKUP(A160,Hoja4!$D$2:$E$166,2,0),0)","v":0}]
[1810,{"$f":"IFERROR(VLOOKUP(A161,Hoja4!$A$2:$B$163,2,0),0)","v":0},{"$f":"IFERROR(VLOOKUP(A161,Hoja4!$D$2:$E$166,2,0),0)","v":0}]
[1813,{"$f":"IFERROR(VLOOKUP(A162,Hoja4!$A$2:$B$163,2,0),0)","v":0},{"$f":"IFERROR(VLOOKUP(A162,Hoja4!$D$2:$E$166,2,0),0)","v":0}]
[1816,{"$f":"IFERROR(VLOOKUP(A163,Hoja4!$A$2:$B$163,2,0),0)","v":0},{"$f":"IFERROR(VLOOKUP(A163,Hoja4!$D$2:$E$166,2,0),0)","v":0}]
[1820,{"$f":"IFERROR(VLOOKUP(A164,Hoja4!$A$2:$B$163,2,0),0)","v":0},{"$f":"IFERROR(VLOOKUP(A164,Hoja4!$D$2:$E$166,2,0),0)","v":0}]
[1821,{"$f":"IFERROR(VLOOKUP(A165,Hoja4!$A$2:$B$163,2,0),0)","v":0},{"$f":"IFERROR(VLOOKUP(A165,Hoja4!$D$2:$E$166,2,0),0)","v":0}]
[1822,{"$f":"IFERROR(VLOOKUP(A166,Hoja4!$A$2:$B$163,2,0),0)","v":0},{"$f":"IFERROR(VLOOKUP(A166,Hoja4!$D$2:$E$166,2,0),0)","v":0}]
[1823,{"$f":"IFERROR(VLOOKUP(A167,Hoja4!$A$2:$B$163,2,0),0)","v":0},{"$f":"IFERROR(VLOOKUP(A167,Hoja4!$D$2:$E$166,2,0),0)","v":0}]
[1828,{"$f":"IFERROR(VLOOKUP(A168,Hoja4!$A$2:$B$163,2,0),0)","v":0},{"$f":"IFERROR(VLOOKUP(A168,Hoja4!$D$2:$E$166,2,0),0)","v":0}]
[1832,{"$f":"IFERROR(VLOOKUP(A169,Hoja4!$A$2:$B$163,2,0),0)","v":0},{"$f":"IFERROR(VLOOKUP(A169,Hoja4!$D$2:$E$166,2,0),0)","v":0}]
[1833,{"$f":"IFERROR(VLOOKUP(A170,Hoja4!$A$2:$B$163,2,0),0)","v":0},{"$f":"IFERROR(VLOOKUP(A170,Hoja4!$D$2:$E$166,2,0),0)","v":0}]
[1835,{"$f":"IFERROR(VLOOKUP(A171,Hoja4!$A$2:$B$163,2,0),0)","v":0},{"$f":"IFERROR(VLOOKUP(A171,Hoja4!$D$2:$E$166,2,0),0)","v":0}]
[1840,{"$f":"IFERROR(VLOOKUP(A172,Hoja4!$A$2:$B$163,2,0),0)","v":33.026000000000003},{"$f":"IFERROR(VLOOKUP(A172,Hoja4!$D$2:$E$166,2,0),0)","v":32.68}]
[1841,{"$f":"IFERROR(VLOOKUP(A173,Hoja4!$A$2:$B$163,2,0),0)","v":0},{"$f":"IFERROR(VLOOKUP(A173,Hoja4!$D$2:$E$166,2,0),0)","v":0}]
[1842,{"$f":"IFERROR(VLOOKUP(A174,Hoja4!$A$2:$B$163,2,0),0)","v":0},{"$f":"IFERROR(VLOOKUP(A174,Hoja4!$D$2:$E$166,2,0),0)","v":0}]
[1845,{"$f":"IFERROR(VLOOKUP(A175,Hoja4!$A$2:$B$163,2,0),0)","v":0},{"$f":"IFERROR(VLOOKUP(A175,Hoja4!$D$2:$E$166,2,0),0)","v":0}]
[1846,{"$f":"IFERROR(VLOOKUP(A176,Hoja4!$A$2:$B$163,2,0),0)","v":0},{"$f":"IFERROR(VLOOKUP(A176,Hoja4!$D$2:$E$166,2,0),0)","v":0}]
[1857,{"$f":"IFERROR(VLOOKUP(A177,Hoja4!$A$2:$B$163,2,0),0)","v":0},{"$f":"IFERROR(VLOOKUP(A177,Hoja4!$D$2:$E$166,2,0),0)","v":0}]
[1862,{"$f":"IFERROR(VLOOKUP(A178,Hoja4!$A$2:$B$163,2,0),0)","v":0},{"$f":"IFERROR(VLOOKUP(A178,Hoja4!$D$2:$E$166,2,0),0)","v":0}]
[1863,{"$f":"IFERROR(VLOOKUP(A179,Hoja4!$A$2:$B$163,2,0),0)","v":0},{"$f":"IFERROR(VLOOKUP(A179,Hoja4!$D$2:$E$166,2,0),0)","v":0}]
[1869,{"$f":"IFERROR(VLOOKUP(A180,Hoja4!$A$2:$B$163,2,0),0)","v":0},{"$f":"IFERROR(VLOOKUP(A180,Hoja4!$D$2:$E$166,2,0),0)","v":0}]
[1908,{"$f":"IFERROR(VLOOKUP(A181,Hoja4!$A$2:$B$163,2,0),0)","v":0},{"$f":"IFERROR(VLOOKUP(A181,Hoja4!$D$2:$E$166,2,0),0)","v":0}]
[3029,{"$f":"IFERROR(VLOOKUP(A182,Hoja4!$A$2:$B$163,2,0),0)","v":30.568000000000001},{"$f":"IFERROR(VLOOKUP(A182,Hoja4!$D$2:$E$166,2,0),0)","v":40.061900000000001}]
[3030,{"$f":"IFERROR(VLOOKUP(A183,Hoja4!$A$2:$B$163,2,0),0)","v":0},{"$f":"IFERROR(VLOOKUP(A183,Hoja4!$D$2:$E$166,2,0),0)","v":37.302500000000002}]
[3031,{"$f":"IFERROR(VLOOKUP(A184,Hoja4!$A$2:$B$163,2,0),0)","v":0},{"$f":"IFERROR(VLOOKUP(A184,Hoja4!$D$2:$E$166,2,0),0)","v":19.9908}]
[3032,{"$f":"IFERROR(VLOOKUP(A185,Hoja4!$A$2:$B$163,2,0),0)","v":124.9973},{"$f":"IFERROR(VLOOKUP(A185,Hoja4!$D$2:$E$166,2,0),0)","v":1.8548}]
[3033,{"$f":"IFERROR(VLOOKUP(A186,Hoja4!$A$2:$B$163,2,0),0)","v":0},{"$f":"IFERROR(VLOOKUP(A186,Hoja4!$D$2:$E$166,2,0),0)","v":17.620799999999999}]
[3034,{"$f":"IFERROR(VLOOKUP(A187,Hoja4!$A$2:$B$163,2,0),0)","v":99.774000000000001},{"$f":"IFERROR(VLOOKUP(A187,Hoja4!$D$2:$E$166,2,0),0)","v":30.032699999999998}]
[3036,{"$f":"IFERROR(VLOOKUP(A188,Hoja4!$A$2:$B$163,2,0),0)","v":0},{"$f":"IFERROR(VLOOKUP(A188,Hoja4!$D$2:$E$166,2,0),0)","v":0}]
[3037,{"$f":"IFERROR(VLOOKUP(A189,Hoja4!$A$2:$B$163,2,0),0)","v":0},{"$f":"IFERROR(VLOOKUP(A189,Hoja4!$D$2:$E$166,2,0),0)","v":60.281700000000001}]
[3038,{"$f":"IFERROR(VLOOKUP(A190,Hoja4!$A$2:$B$163,2,0),0)","v":22.923999999999999},{"$f":"IFERROR(VLOOKUP(A190,Hoja4!$D$2:$E$166,2,0),0)","v":23.1389}]
[3040,{"$f":"IFERROR(VLOOKUP(A191,Hoja4!$A$2:$B$163,2,0),0)","v":0},{"$f":"IFERROR(VLOOKUP(A191,Hoja4!$D$2:$E$166,2,0),0)","v":11.231999999999999}]
[3045,{"$f":"IFERROR(VLOOKUP(A192,Hoja4!$A$2:$B$163,2,0),0)","v":0},{"$f":"IFERROR(VLOOKUP(A192,Hoja4!$D$2:$E$166,2,0),0)","v":34.3142}]
[3049,{"$f":"IFERROR(VLOOKUP(A193,Hoja4!$A$2:$B$163,2,0),0)","v":0},{"$f":"IFERROR(VLOOKUP(A193,Hoja4!$D$2:$E$166,2,0),0)","v":30.5015}]
[3052,{"$f":"IFERROR(VLOOKUP(A194,Hoja4!$A$2:$B$163,2,0),0)","v":0},{"$f":"IFERROR(VLOOKUP(A194,Hoja4!$D$2:$E$166,2,0),0)","v":49.358800000000002}]
[3055,{"$f":"IFERROR(VLOOKUP(A195,Hoja4!$A$2:$B$163,2,0),0)","v":21.172000000000001},{"$f":"IFERROR(VLOOKUP(A195,Hoja4!$D$2:$E$166,2,0),0)","v":66.225099999999998}]
[3059,{"$f":"IFERROR(VLOOKUP(A196,Hoja4!$A$2:$B$163,2,0),0)","v":0},{"$f":"IFERROR(VLOOKUP(A196,Hoja4!$D$2:$E$166,2,0),0)","v":0}]
[3060,{"$f":"IFERROR(VLOOKUP(A197,Hoja4!$A$2:$B$163,2,0),0)","v":3.6469999999999998},{"$f":"IFERROR(VLOOKUP(A197,Hoja4!$D$2:$E$166,2,0),0)","v":35.550699999999999}]
[3064,{"$f":"IFERROR(VLOOKUP(A198,Hoja4!$A$2:$B$163,2,0),0)","v":0},{"$f":"IFERROR(VLOOKUP(A198,Hoja4!$D$2:$E$166,2,0),0)","v":3.3591000000000002}]
[3075,{"$f":"IFERROR(VLOOKUP(A199,Hoja4!$A$2:$B$163,2,0),0)","v":0},{"$f":"IFERROR(VLOOKUP(A199,Hoja4!$D$2:$E$166,2,0),0)","v":15.456799999999999}]
[3077,{"$f":"IFERROR(VLOOKUP(A200,Hoja4!$A$2:$B$163,2,0),0)","v":0},{"$f":"IFERROR(VLOOKUP(A200,Hoja4!$D$2:$E$166,2,0),0)","v":36.890300000000003}]
[3078,{"$f":"IFERROR(VLOOKUP(A201,Hoja4!$A$2:$B$163,2,0),0)","v":0},{"$f":"IFERROR(VLOOKUP(A201,Hoja4!$D$2:$E$166,2,0),0)","v":61.827399999999997}]
[3080,{"$f":"IFERROR(VLOOKUP(A202,Hoja4!$A$2:$B$163,2,0),0)","v":0},{"$f":"IFERROR(VLOOKUP(A202,Hoja4!$D$2:$E$166,2,0),0)","v":0}]
[3082,{"$f":"IFERROR(VLOOKUP(A203,Hoja4!$A$2:$B$163,2,0),0)","v":5.4450000000000003},{"$f":"IFERROR(VLOOKUP(A203,Hoja4!$D$2:$E$166,2,0),0)","v":8.3467000000000002}]
[3085,{"$f":"IFERROR(VLOOKUP(A204,Hoja4!$A$2:$B$163,2,0),0)","v":0},{"$f":"IFERROR(VLOOKUP(A204,Hoja4!$D$2:$E$166,2,0),0)","v":30.192399999999999}]
[3091,{"$f":"IFERROR(VLOOKUP(A205,Hoja4!$A$2:$B$163,2,0),0)","v":0},{"$f":"IFERROR(VLOOKUP(A205,Hoja4!$D$2:$E$166,2,0),0)","v":10.6137}]
[3093,{"$f":"IFERROR(VLOOKUP(A206,Hoja4!$A$2:$B$163,2,0),0)","v":0},{"$f":"IFERROR(VLOOKUP(A206,Hoja4!$D$2:$E$166,2,0),0)","v":0}]
[3095,{"$f":"IFERROR(VLOOKUP(A207,Hoja4!$A$2:$B$163,2,0),0)","v":0},{"$f":"IFERROR(VLOOKUP(A207,Hoja4!$D$2:$E$166,2,0),0)","v":29.058900000000001}]
[3098,{"$f":"IFERROR(VLOOKUP(A208,Hoja4!$A$2:$B$163,2,0),0)","v":39},{"$f":"IFERROR(VLOOKUP(A208,Hoja4!$D$2:$E$166,2,0),0)","v":0}]
[3100,{"$f":"IFERROR(VLOOKUP(A209,Hoja4!$A$2:$B$163,2,0),0)","v":3.3039999999999998},{"$f":"IFERROR(VLOOKUP(A209,Hoja4!$D$2:$E$166,2,0),0)","v":27.822299999999998}]
[3101,{"$f":"IFERROR(VLOOKUP(A210,Hoja4!$A$2:$B$163,2,0),0)","v":9.3249999999999993},{"$f":"IFERROR(VLOOKUP(A210,Hoja4!$D$2:$E$166,2,0),0)","v":62.651699999999998}]
[3103,{"$f":"IFERROR(VLOOKUP(A211,Hoja4!$A$2:$B$163,2,0),0)","v":0},{"$f":"IFERROR(VLOOKUP(A211,Hoja4!$D$2:$E$166,2,0),0)","v":14.1172}]
[3108,{"$f":"IFERROR(VLOOKUP(A212,Hoja4!$A$2:$B$163,2,0),0)","v":0},{"$f":"IFERROR(VLOOKUP(A212,Hoja4!$D$2:$E$166,2,0),0)","v":17.208600000000001}]
[3110,{"$f":"IFERROR(VLOOKUP(A213,Hoja4!$A$2:$B$163,2,0),0)","v":0},{"$f":"IFERROR(VLOOKUP(A213,Hoja4!$D$2:$E$166,2,0),0)","v":0}]
[3113,{"$f":"IFERROR(VLOOKUP(A214,Hoja4!$A$2:$B$163,2,0),0)","v":0},{"$f":"IFERROR(VLOOKUP(A214,Hoja4!$D$2:$E$166,2,0),0)","v":18.548200000000001}]
[3116,{"$f":"IFERROR(VLOOKUP(A215,Hoja4!$A$2:$B$163,2,0),0)","v":0},{"$f":"IFERROR(VLOOKUP(A215,Hoja4!$D$2:$E$166,2,0),0)","v":0}]
[3118,{"$f":"IFERROR(VLOOKUP(A216,Hoja4!$A$2:$B$163,2,0),0)","v":0},{"$f":"IFERROR(VLOOKUP(A216,Hoja4!$D$2:$E$166,2,0),0)","v":8.7767999999999997}]
[3120,{"$f":"IFERROR(VLOOKUP(A217,Hoja4!$A$2:$B$163,2,0),0)","v":0},{"$f":"IFERROR(VLOOKUP(A217,Hoja4!$D$2:$E$166,2,0),0)","v":0}]
[3122,{"$f":"IFERROR(VLOOKUP(A218,Hoja4!$A$2:$B$163,2,0),0)","v":0},{"$f":"IFERROR(VLOOKUP(A218,Hoja4!$D$2:$E$166,2,0),0)","v":13.8081}]
[3123,{"$f":"IFERROR(VLOOKUP(A219,Hoja4!$A$2:$B$163,2,0),0)","v":9.8550000000000004},{"$f":"IFERROR(VLOOKUP(A219,Hoja4!$D$2:$E$166,2,0),0)","v":51.419800000000002}]
[3131,{"$f":"IFERROR(VLOOKUP(A220,Hoja4!$A$2:$B$163,2,0),0)","v":0},{"$f":"IFERROR(VLOOKUP(A220,Hoja4!$D$2:$E$166,2,0),0)","v":8.4497}]
[3132,{"$f":"IFERROR(VLOOKUP(A221,Hoja4!$A$2:$B$163,2,0),0)","v":0},{"$f":"IFERROR(VLOOKUP(A221,Hoja4!$D$2:$E$166,2,0),0)","v":0}]
[3155,{"$f":"IFERROR(VLOOKUP(A222,Hoja4!$A$2:$B$163,2,0),0)","v":0},{"$f":"IFERROR(VLOOKUP(A222,Hoja4!$D$2:$E$166,2,0),0)","v":24.3188}]
[3160,{"$f":"IFERROR(VLOOKUP(A223,Hoja4!$A$2:$B$163,2,0),0)","v":0},{"$f":"IFERROR(VLOOKUP(A223,Hoja4!$D$2:$E$166,2,0),0)","v":17.620799999999999}]
[3179,{"$f":"IFERROR(VLOOKUP(A224,Hoja4!$A$2:$B$163,2,0),0)","v":0},{"$f":"IFERROR(VLOOKUP(A224,Hoja4!$D$2:$E$166,2,0),0)","v":10.0985}]
[3180,{"$f":"IFERROR(VLOOKUP(A225,Hoja4!$A$2:$B$163,2,0),0)","v":0.13200000000000001},{"$f":"IFERROR(VLOOKUP(A225,Hoja4!$D$2:$E$166,2,0),0)","v":14.426399999999999}]
[3183,{"$f":"IFERROR(VLOOKUP(A226,Hoja4!$A$2:$B$163,2,0),0)","v":6.2329999999999997},{"$f":"IFERROR(VLOOKUP(A226,Hoja4!$D$2:$E$166,2,0),0)","v":14.449200000000001}]
[3190,{"$f":"IFERROR(VLOOKUP(A227,Hoja4!$A$2:$B$163,2,0),0)","v":0},{"$f":"IFERROR(VLOOKUP(A227,Hoja4!$D$2:$E$166,2,0),0)","v":0}]
[3203,{"$f":"IFERROR(VLOOKUP(A228,Hoja4!$A$2:$B$163,2,0),0)","v":10.855},{"$f":"IFERROR(VLOOKUP(A228,Hoja4!$D$2:$E$166,2,0),0)","v":0}]
[3204,{"$f":"IFERROR(VLOOKUP(A229,Hoja4!$A$2:$B$163,2,0),0)","v":227},{"$f":"IFERROR(VLOOKUP(A229,Hoja4!$D$2:$E$166,2,0),0)","v":0}]
[3211,{"$f":"IFERROR(VLOOKUP(A230,Hoja4!$A$2:$B$163,2,0),0)","v":8},{"$f":"IFERROR(VLOOKUP(A230,Hoja4!$D$2:$E$166,2,0),0)","v":0}]
[3213,{"$f":"IFERROR(VLOOKUP(A231,Hoja4!$A$2:$B$163,2,0),0)","v":70},{"$f":"IFERROR(VLOOKUP(A231,Hoja4!$D$2:$E$166,2,0),0)","v":0}]
[3219,{"$f":"IFERROR(VLOOKUP(A232,Hoja4!$A$2:$B$163,2,0),0)","v":30},{"$f":"IFERROR(VLOOKUP(A232,Hoja4!$D$2:$E$166,2,0),0)","v":0}]
[3300,{"$f":"IFERROR(VLOOKUP(A233,Hoja4!$A$2:$B$163,2,0),0)","v":0},{"$f":"IFERROR(VLOOKUP(A233,Hoja4!$D$2:$E$166,2,0),0)","v":0}]
[3301,{"$f":"IFERROR(VLOOKUP(A234,Hoja4!$A$2:$B$163,2,0),0)","v":241},{"$f":"IFERROR(VLOOKUP(A234,Hoja4!$D$2:$E$166,2,0),0)","v":0}]
[3310,{"$f":"IFERROR(VLOOKUP(A235,Hoja4!$A$2:$B$163,2,0),0)","v":0},{"$f":"IFERROR(VLOOKUP(A235,Hoja4!$D$2:$E$166,2,0),0)","v":8.9650000000000034}]
[3355,{"$f":"IFERROR(VLOOKUP(A236,Hoja4!$A$2:$B$163,2,0),0)","v":0},{"$f":"IFERROR(VLOOKUP(A236,Hoja4!$D$2:$E$166,2,0),0)","v":0}]
[3408,{"$f":"IFERROR(VLOOKUP(A237,Hoja4!$A$2:$B$163,2,0),0)","v":0},{"$f":"IFERROR(VLOOKUP(A237,Hoja4!$D$2:$E$166,2,0),0)","v":20.196899999999999}]
[3424,{"$f":"IFERROR(VLOOKUP(A238,Hoja4!$A$2:$B$163,2,0),0)","v":0},{"$f":"IFERROR(VLOOKUP(A238,Hoja4!$D$2:$E$166,2,0),0)","v":21.639600000000002}]
[3427,{"$f":"IFERROR(VLOOKUP(A239,Hoja4!$A$2:$B$163,2,0),0)","v":0},{"$f":"IFERROR(VLOOKUP(A239,Hoja4!$D$2:$E$166,2,0),0)","v":0}]
[3428,{"$f":"IFERROR(VLOOKUP(A240,Hoja4!$A$2:$B$163,2,0),0)","v":0},{"$f":"IFERROR(VLOOKUP(A240,Hoja4!$D$2:$E$166,2,0),0)","v":0}]
[3429,{"$f":"IFERROR(VLOOKUP(A241,Hoja4!$A$2:$B$163,2,0),0)","v":0},{"$f":"IFERROR(VLOOKUP(A241,Hoja4!$D$2:$E$166,2,0),0)","v":0}]
[3544,{"$f":"IFERROR(VLOOKUP(A242,Hoja4!$A$2:$B$163,2,0),0)","v":8},{"$f":"IFERROR(VLOOKUP(A242,Hoja4!$D$2:$E$166,2,0),0)","v":0}]
[3550,{"$f":"IFERROR(VLOOKUP(A243,Hoja4!$A$2:$B$163,2,0),0)","v":18},{"$f":"IFERROR(VLOOKUP(A243,Hoja4!$D$2:$E$166,2,0),0)","v":0}]
[3553,{"$f":"IFERROR(VLOOKUP(A244,Hoja4!$A$2:$B$163,2,0),0)","v":56},{"$f":"IFERROR(VLOOKUP(A244,Hoja4!$D$2:$E$166,2,0),0)","v":34.365699999999997}]
[3592,{"$f":"IFERROR(VLOOKUP(A245,Hoja4!$A$2:$B$163,2,0),0)","v":8},{"$f":"IFERROR(VLOOKUP(A245,Hoja4!$D$2:$E$166,2,0),0)","v":0}]
[4122,{"$f":"IFERROR(VLOOKUP(A246,Hoja4!$A$2:$B$163,2,0),0)","v":0},{"$f":"IFERROR(VLOOKUP(A246,Hoja4!$D$2:$E$166,2,0),0)","v":0}]
[4124,{"$f":"IFERROR(VLOOKUP(A247,Hoja4!$A$2:$B$163,2,0),0)","v":0},{"$f":"IFERROR(VLOOKUP(A247,Hoja4!$D$2:$E$166,2,0),0)","v":0}]
[4173,{"$f":"IFERROR(VLOOKUP(A248,Hoja4!$A$2:$B$163,2,0),0)","v":0},{"$f":"IFERROR(VLOOKUP(A248,Hoja4!$D$2:$E$166,2,0),0)","v":0}]
[4300,{"$f":"IFERROR(VLOOKUP(A249,Hoja4!$A$2:$B$163,2,0),0)","v":0},{"$f":"IFERROR(VLOOKUP(A249,Hoja4!$D$2:$E$166,2,0),0)","v":29.02}]
[4302,{"$f":"IFERROR(VLOOKUP(A250,Hoja4!$A$2:$B$163,2,0),0)","v":0},{"$f":"IFERROR(VLOOKUP(A250,Hoja4!$D$2:$E$166,2,0),0)","v":0}]
[4305,{"$f":"IFERROR(VLOOKUP(A251,Hoja4!$A$2:$B$163,2,0),0)","v":0},{"$f":"IFERROR(VLOOKUP(A251,Hoja4!$D$2:$E$166,2,0),0)","v":0}]
[4306,{"$f":"IFERROR(VLOOKUP(A252,Hoja4!$A$2:$B$163,2,0),0)","v":0},{"$f":"IFERROR(VLOOKUP(A252,Hoja4!$D$2:$E$166,2,0),0)","v":0}]
[4307,{"$f":"IFERROR(VLOOKUP(A253,Hoja4!$A$2:$B$163,2,0),0)","v":3.62},{"$f":"IFERROR(VLOOKUP(A253,Hoja4!$D$2:$E$166,2,0),0)","v":4.34}]
[4312,{"$f":"IFERROR(VLOOKUP(A254,Hoja4!$A$2:$B$163,2,0),0)","v":0},{"$f":"IFERROR(VLOOKUP(A254,Hoja4!$D$2:$E$166,2,0),0)","v":0}]
[4315,{"$f":"IFERROR(VLOOKUP(A255,Hoja4!$A$2:$B$163,2,0),0)","v":0},{"$f":"IFERROR(VLOOKUP(A255,Hoja4!$D$2:$E$166,2,0),0)","v":71.010000000000005}]
[4316,{"$f":"IFERROR(VLOOKUP(A256,Hoja4!$A$2:$B$163,2,0),0)","v":49.126999999999995},{"$f":"IFERROR(VLOOKUP(A256,Hoja4!$D$2:$E$166,2,0),0)","v":31.764000000000003}]
[4317,{"$f":"IFERROR(VLOOKUP(A257,Hoja4!$A$2:$B$163,2,0),0)","v":9.8572000000000006},{"$f":"IFERROR(VLOOKUP(A257,Hoja4!$D$2:$E$166,2,0),0)","v":92.48}]
[4318,{"$f":"IFERROR(VLOOKUP(A258,Hoja4!$A$2:$B$163,2,0),0)","v":0},{"$f":"IFERROR(VLOOKUP(A258,Hoja4!$D$2:$E$166,2,0),0)","v":0}]
[4319,{"$f":"IFERROR(VLOOKUP(A259,Hoja4!$A$2:$B$163,2,0),0)","v":0},{"$f":"IFERROR(VLOOKUP(A259,Hoja4!$D$2:$E$166,2,0),0)","v":41.480000000000004}]
[4322,{"$f":"IFERROR(VLOOKUP(A260,Hoja4!$A$2:$B$163,2,0),0)","v":0},{"$f":"IFERROR(VLOOKUP(A260,Hoja4!$D$2:$E$166,2,0),0)","v":0}]
[4323,{"$f":"IFERROR(VLOOKUP(A261,Hoja4!$A$2:$B$163,2,0),0)","v":0},{"$f":"IFERROR(VLOOKUP(A261,Hoja4!$D$2:$E$166,2,0),0)","v":0}]
[4325,{"$f":"IFERROR(VLOOKUP(A262,Hoja4!$A$2:$B$163,2,0),0)","v":0},{"$f":"IFERROR(VLOOKUP(A262,Hoja4!$D$2:$E$166,2,0),0)","v":0}]
[4326,{"$f":"IFERROR(VLOOKUP(A263,Hoja4!$A$2:$B$163,2,0),0)","v":0},{"$f":"IFERROR(VLOOKUP(A263,Hoja4!$D$2:$E$166,2,0),0)","v":0}]
[4327,{"$f":"IFERROR(VLOOKUP(A264,Hoja4!$A$2:$B$163,2,0),0)","v":0},{"$f":"IFERROR(VLOOKUP(A264,Hoja4!$D$2:$E$166,2,0),0)","v":0}]
[4328,{"$f":"IFERROR(VLOOKUP(A265,Hoja4!$A$2:$B$163,2,0),0)","v":22.8},{"$f":"IFERROR(VLOOKUP(A265,Hoja4!$D$2:$E$166,2,0),0)","v":1.3125}]
[4329,{"$f":"IFERROR(VLOOKUP(A266,Hoja4!$A$2:$B$163,2,0),0)","v":0},{"$f":"IFERROR(VLOOKUP(A266,Hoja4!$D$2:$E$166,2,0),0)","v":0.14000000000000001}]
[4330,{"$f":"IFERROR(VLOOKUP(A267,Hoja4!$A$2:$B$163,2,0),0)","v":25.65},{"$f":"IFERROR(VLOOKUP(A267,Hoja4!$D$2:$E$166,2,0),0)","v":15.219999999999999}]
[4331,{"$f":"IFERROR(VLOOKUP(A268,Hoja4!$A$2:$B$163,2,0),0)","v":18.523299999999999},{"$f":"IFERROR(VLOOKUP(A268,Hoja4!$D$2:$E$166,2,0),0)","v":63.48}]
[4336,{"$f":"IFERROR(VLOOKUP(A269,Hoja4!$A$2:$B$163,2,0),0)","v":47.488999999999997},{"$f":"IFERROR(VLOOKUP(A269,Hoja4!$D$2:$E$166,2,0),0)","v":102.39999999999999}]
[4338,{"$f":"IFERROR(VLOOKUP(A270,Hoja4!$A$2:$B$163,2,0),0)","v":0},{"$f":"IFERROR(VLOOKUP(A270,Hoja4!$D$2:$E$166,2,0),0)","v":0}]
[4340,{"$f":"IFERROR(VLOOKUP(A271,Hoja4!$A$2:$B$163,2,0),0)","v":0},{"$f":"IFERROR(VLOOKUP(A271,Hoja4!$D$2:$E$166,2,0),0)","v":0}]
[4341,{"$f":"IFERROR(VLOOKUP(A272,Hoja4!$A$2:$B$163,2,0),0)","v":67},{"$f":"IFERROR(VLOOKUP(A272,Hoja4!$D$2:$E$166,2,0),0)","v":5.5670000000000002}]
[4342,{"$f":"IFERROR(VLOOKUP(A273,Hoja4!$A$2:$B$163,2,0),0)","v":0},{"$f":"IFERROR(VLOOKUP(A273,Hoja4!$D$2:$E$166,2,0),0)","v":5.54}]
[4343,{"$f":"IFERROR(VLOOKUP(A274,Hoja4!$A$2:$B$163,2,0),0)","v":0},{"$f":"IFERROR(VLOOKUP(A274,Hoja4!$D$2:$E$166,2,0),0)","v":0}]
[4345,{"$f":"IFERROR(VLOOKUP(A275,Hoja4!$A$2:$B$163,2,0),0)","v":0},{"$f":"IFERROR(VLOOKUP(A275,Hoja4!$D$2:$E$166,2,0),0)","v":0}]
[4346,{"$f":"IFERROR(VLOOKUP(A276,Hoja4!$A$2:$B$163,2,0),0)","v":0},{"$f":"IFERROR(VLOOKUP(A276,Hoja4!$D$2:$E$166,2,0),0)","v":0}]
[4350,{"$f":"IFERROR(VLOOKUP(A277,Hoja4!$A$2:$B$163,2,0),0)","v":0},{"$f":"IFERROR(VLOOKUP(A277,Hoja4!$D$2:$E$166,2,0),0)","v":0}]
[4354,{"$f":"IFERROR(VLOOKUP(A278,Hoja4!$A$2:$B$163,2,0),0)","v":0},{"$f":"IFERROR(VLOOKUP(A278,Hoja4!$D$2:$E$166,2,0),0)","v":0}]
[4357,{"$f":"IFERROR(VLOOKUP(A279,Hoja4!$A$2:$B$163,2,0),0)","v":0},{"$f":"IFERROR(VLOOKUP(A279,Hoja4!$D$2:$E$166,2,0),0)","v":10.77}]
[4358,{"$f":"IFERROR(VLOOKUP(A280,Hoja4!$A$2:$B$163,2,0),0)","v":0},{"$f":"IFERROR(VLOOKUP(A280,Hoja4!$D$2:$E$166,2,0),0)","v":0}]
[4359,{"$f":"IFERROR(VLOOKUP(A281,Hoja4!$A$2:$B$163,2,0),0)","v":0},{"$f":"IFERROR(VLOOKUP(A281,Hoja4!$D$2:$E$166,2,0),0)","v":0}]
[4361,{"$f":"IFERROR(VLOOKUP(A282,Hoja4!$A$2:$B$163,2,0),0)","v":0},{"$f":"IFERROR(VLOOKUP(A282,Hoja4!$D$2:$E$166,2,0),0)","v":0}]
[4362,{"$f":"IFERROR(VLOOKUP(A283,Hoja4!$A$2:$B$163,2,0),0)","v":0},{"$f":"IFERROR(VLOOKUP(A283,Hoja4!$D$2:$E$166,2,0),0)","v":0}]
[4386,{"$f":"IFERROR(VLOOKUP(A284,Hoja4!$A$2:$B$163,2,0),0)","v":0},{"$f":"IFERROR(VLOOKUP(A284,Hoja4!$D$2:$E$166,2,0),0)","v":0}]
[4392,{"$f":"IFERROR(VLOOKUP(A285,Hoja4!$A$2:$B$163,2,0),0)","v":0},{"$f":"IFERROR(VLOOKUP(A285,Hoja4!$D$2:$E$166,2,0),0)","v":0}]
[4400,{"$f":"IFERROR(VLOOKUP(A286,Hoja4!$A$2:$B$163,2,0),0)","v":0},{"$f":"IFERROR(VLOOKUP(A286,Hoja4!$D$2:$E$166,2,0),0)","v":0}]
[4401,{"$f":"IFERROR(VLOOKUP(A287,Hoja4!$A$2:$B$163,2,0),0)","v":0},{"$f":"IFERROR(VLOOKUP(A287,Hoja4!$D$2:$E$166,2,0),0)","v":0}]
[4402,{"$f":"IFERROR(VLOOKUP(A288,Hoja4!$A$2:$B$163,2,0),0)","v":0},{"$f":"IFERROR(VLOOKUP(A288,Hoja4!$D$2:$E$166,2,0),0)","v":1.1799999999999997}]
[4403,{"$f":"IFERROR(VLOOKUP(A289,Hoja4!$A$2:$B$163,2,0),0)","v":0},{"$f":"IFERROR(VLOOKUP(A289,Hoja4!$D$2:$E$166,2,0),0)","v":0}]
[4404,{"$f":"IFERROR(VLOOKUP(A290,Hoja4!$A$2:$B$163,2,0),0)","v":0},{"$f":"IFERROR(VLOOKUP(A290,Hoja4!$D$2:$E$166,2,0),0)","v":0}]
[4405,{"$f":"IFERROR(VLOOKUP(A291,Hoja4!$A$2:$B$163,2,0),0)","v":87.912000000000006},{"$f":"IFERROR(VLOOKUP(A291,Hoja4!$D$2:$E$166,2,0),0)","v":0.62}]
[4406,{"$f":"IFERROR(VLOOKUP(A292,Hoja4!$A$2:$B$163,2,0),0)","v":0},{"$f":"IFERROR(VLOOKUP(A292,Hoja4!$D$2:$E$166,2,0),0)","v":0}]
[4407,{"$f":"IFERROR(VLOOKUP(A293,Hoja4!$A$2:$B$163,2,0),0)","v":0},{"$f":"IFERROR(VLOOKUP(A293,Hoja4!$D$2:$E$166,2,0),0)","v":0}]
[4408,{"$f":"IFERROR(VLOOKUP(A294,Hoja4!$A$2:$B$163,2,0),0)","v":0},{"$f":"IFERROR(VLOOKUP(A294,Hoja4!$D$2:$E$166,2,0),0)","v":0}]
[4410,{"$f":"IFERROR(VLOOKUP(A295,Hoja4!$A$2:$B$163,2,0),0)","v":0},{"$f":"IFERROR(VLOOKUP(A295,Hoja4!$D$2:$E$166,2,0),0)","v":0}]
[4411,{"$f":"IFERROR(VLOOKUP(A296,Hoja4!$A$2:$B$163,2,0),0)","v":0},{"$f":"IFERROR(VLOOKUP(A296,Hoja4!$D$2:$E$166,2,0),0)","v":0}]
[4412,{"$f":"IFERROR(VLOOKUP(A297,Hoja4!$A$2:$B$163,2,0),0)","v":0},{"$f":"IFERROR(VLOOKUP(A297,Hoja4!$D$2:$E$166,2,0),0)","v":0}]
[4415,{"$f":"IFERROR(VLOOKUP(A298,Hoja4!$A$2:$B$163,2,0),0)","v":0},{"$f":"IFERROR(VLOOKUP(A298,Hoja4!$D$2:$E$166,2,0),0)","v":0}]
[4419,{"$f":"IFERROR(VLOOKUP(A299,Hoja4!$A$2:$B$163,2,0),0)","v":64.145499999999998},{"$f":"IFERROR(VLOOKUP(A299,Hoja4!$D$2:$E$166,2,0),0)","v":0.14000000000000001}]
[4420,{"$f":"IFERROR(VLOOKUP(A300,Hoja4!$A$2:$B$163,2,0),0)","v":0},{"$f":"IFERROR(VLOOKUP(A300,Hoja4!$D$2:$E$166,2,0),0)","v":0}]
[4750,{"$f":"IFERROR(VLOOKUP(A301,Hoja4!$A$2:$B$163,2,0),0)","v":36},{"$f":"IFERROR(VLOOKUP(A301,Hoja4!$D$2:$E$166,2,0),0)","v":0}]
[4800,{"$f":"IFERROR(VLOOKUP(A302,Hoja4!$A$2:$B$163,2,0),0)","v":25.509999999999998},{"$f":"IFERROR(VLOOKUP(A302,Hoja4!$D$2:$E$166,2,0),0)","v":0.22000000000000003}]
[4803,{"$f":"IFERROR(VLOOKUP(A303,Hoja4!$A$2:$B$163,2,0),0)","v":25.16},{"$f":"IFERROR(VLOOKUP(A303,Hoja4!$D$2:$E$166,2,0),0)","v":0}]
[4827,{"$f":"IFERROR(VLOOKUP(A304,Hoja4!$A$2:$B$163,2,0),0)","v":0},{"$f":"IFERROR(VLOOKUP(A304,Hoja4!$D$2:$E$166,2,0),0)","v":2.52}]
[4832,{"$f":"IFERROR(VLOOKUP(A305,Hoja4!$A$2:$B$163,2,0),0)","v":0},{"$f":"IFERROR(VLOOKUP(A305,Hoja4!$D$2:$E$166,2,0),0)","v":0}]
[4908,{"$f":"IFERROR(VLOOKUP(A306,Hoja4!$A$2:$B$163,2,0),0)","v":0},{"$f":"IFERROR(VLOOKUP(A306,Hoja4!$D$2:$E$166,2,0),0)","v":0}]
[4910,{"$f":"IFERROR(VLOOKUP(A307,Hoja4!$A$2:$B$163,2,0),0)","v":0},{"$f":"IFERROR(VLOOKUP(A307,Hoja4!$D$2:$E$166,2,0),0)","v":0}]
[4916,{"$f":"IFERROR(VLOOKUP(A308,Hoja4!$A$2:$B$163,2,0),0)","v":0},{"$f":"IFERROR(VLOOKUP(A308,Hoja4!$D$2:$E$166,2,0),0)","v":0}]
[4918,{"$f":"IFERROR(VLOOKUP(A309,Hoja4!$A$2:$B$163,2,0),0)","v":0},{"$f":"IFERROR(VLOOKUP(A309,Hoja4!$D$2:$E$166,2,0),0)","v":0}]
[4919,{"$f":"IFERROR(VLOOKUP(A310,Hoja4!$A$2:$B$163,2,0),0)","v":0},{"$f":"IFERROR(VLOOKUP(A310,Hoja4!$D$2:$E$166,2,0),0)","v":0}]
[4920,{"$f":"IFERROR(VLOOKUP(A311,Hoja4!$A$2:$B$163,2,0),0)","v":0},{"$f":"IFERROR(VLOOKUP(A311,Hoja4!$D$2:$E$166,2,0),0)","v":0}]
[4922,{"$f":"IFERROR(VLOOKUP(A312,Hoja4!$A$2:$B$163,2,0),0)","v":0},{"$f":"IFERROR(VLOOKUP(A312,Hoja4!$D$2:$E$166,2,0),0)","v":0}]
[4927,{"$f":"IFERROR(VLOOKUP(A313,Hoja4!$A$2:$B$163,2,0),0)","v":0},{"$f":"IFERROR(VLOOKUP(A313,Hoja4!$D$2:$E$166,2,0),0)","v":0}]
[6000,{"$f":"IFERROR(VLOOKUP(A314,Hoja4!$A$2:$B$163,2,0),0)","v":0},{"$f":"IFERROR(VLOOKUP(A314,Hoja4!$D$2:$E$166,2,0),0)","v":0}]
[6001,{"$f":"IFERROR(VLOOKUP(A315,Hoja4!$A$2:$B$163,2,0),0)","v":0},{"$f":"IFERROR(VLOOKUP(A315,Hoja4!$D$2:$E$166,2,0),0)","v":0}]
[6002,{"$f":"IFERROR(VLOOKUP(A316,Hoja4!$A$2:$B$163,2,0),0)","v":0},{"$f":"IFERROR(VLOOKUP(A316,Hoja4!$D$2:$E$166,2,0),0)","v":353.60429999999997}]
[6003,{"$f":"IFERROR(VLOOKUP(A317,Hoja4!$A$2:$B$163,2,0),0)","v":243.0521},{"$f":"IFERROR(VLOOKUP(A317,Hoja4!$D$2:$E$166,2,0),0)","v":0}]
[6004,{"$f":"IFERROR(VLOOKUP(A318,Hoja4!$A$2:$B$163,2,0),0)","v":0},{"$f":"IFERROR(VLOOKUP(A318,Hoja4!$D$2:$E$166,2,0),0)","v":94.595200000000006}]
[6005,{"$f":"IFERROR(VLOOKUP(A319,Hoja4!$A$2:$B$163,2,0),0)","v":142.45999999999998},{"$f":"IFERROR(VLOOKUP(A319,Hoja4!$D$2:$E$166,2,0),0)","v":0}]
[6006,{"$f":"IFERROR(VLOOKUP(A320,Hoja4!$A$2:$B$163,2,0),0)","v":0},{"$f":"IFERROR(VLOOKUP(A320,Hoja4!$D$2:$E$166,2,0),0)","v":0}]
[6007,{"$f":"IFERROR(VLOOKUP(A321,Hoja4!$A$2:$B$163,2,0),0)","v":0},{"$f":"IFERROR(VLOOKUP(A321,Hoja4!$D$2:$E$166,2,0),0)","v":81.611800000000002}]
[6008,{"$f":"IFERROR(VLOOKUP(A322,Hoja4!$A$2:$B$163,2,0),0)","v":157},{"$f":"IFERROR(VLOOKUP(A322,Hoja4!$D$2:$E$166,2,0),0)","v":0}]
[6009,{"$f":"IFERROR(VLOOKUP(A323,Hoja4!$A$2:$B$163,2,0),0)","v":1.5483},{"$f":"IFERROR(VLOOKUP(A323,Hoja4!$D$2:$E$166,2,0),0)","v":120.33629999999999}]
[6010,{"$f":"IFERROR(VLOOKUP(A324,Hoja4!$A$2:$B$163,2,0),0)","v":2.3940999999999999},{"$f":"IFERROR(VLOOKUP(A324,Hoja4!$D$2:$E$166,2,0),0)","v":9.2477}]
[6011,{"$f":"IFERROR(VLOOKUP(A325,Hoja4!$A$2:$B$163,2,0),0)","v":0},{"$f":"IFERROR(VLOOKUP(A325,Hoja4!$D$2:$E$166,2,0),0)","v":0}]
[6012,{"$f":"IFERROR(VLOOKUP(A326,Hoja4!$A$2:$B$163,2,0),0)","v":0},{"$f":"IFERROR(VLOOKUP(A326,Hoja4!$D$2:$E$166,2,0),0)","v":6.7462999999999997}]
[6013,{"$f":"IFERROR(VLOOKUP(A327,Hoja4!$A$2:$B$163,2,0),0)","v":12.728400000000001},{"$f":"IFERROR(VLOOKUP(A327,Hoja4!$D$2:$E$166,2,0),0)","v":67.223399999999998}]
[6014,{"$f":"IFERROR(VLOOKUP(A328,Hoja4!$A$2:$B$163,2,0),0)","v":0},{"$f":"IFERROR(VLOOKUP(A328,Hoja4!$D$2:$E$166,2,0),0)","v":0}]
[6015,{"$f":"IFERROR(VLOOKUP(A329,Hoja4!$A$2:$B$163,2,0),0)","v":0},{"$f":"IFERROR(VLOOKUP(A329,Hoja4!$D$2:$E$166,2,0),0)","v":0.34720000000000001}]
[6016,{"$f":"IFERROR(VLOOKUP(A330,Hoja4!$A$2:$B$163,2,0),0)","v":0},{"$f":"IFERROR(VLOOKUP(A330,Hoja4!$D$2:$E$166,2,0),0)","v":15.5433}]
[6018,{"$f":"IFERROR(VLOOKUP(A331,Hoja4!$A$2:$B$163,2,0),0)","v":0.35999999999999943},{"$f":"IFERROR(VLOOKUP(A331,Hoja4!$D$2:$E$166,2,0),0)","v":157.9281}]
[6024,{"$f":"IFERROR(VLOOKUP(A332,Hoja4!$A$2:$B$163,2,0),0)","v":0},{"$f":"IFERROR(VLOOKUP(A332,Hoja4!$D$2:$E$166,2,0),0)","v":39.219699999999996}]
[6036,{"$f":"IFERROR(VLOOKUP(A333,Hoja4!$A$2:$B$163,2,0),0)","v":0},{"$f":"IFERROR(VLOOKUP(A333,Hoja4!$D$2:$E$166,2,0),0)","v":0}]
[6059,{"$f":"IFERROR(VLOOKUP(A334,Hoja4!$A$2:$B$163,2,0),0)","v":0},{"$f":"IFERROR(VLOOKUP(A334,Hoja4!$D$2:$E$166,2,0),0)","v":99.885400000000004}]
[6060,{"$f":"IFERROR(VLOOKUP(A335,Hoja4!$A$2:$B$163,2,0),0)","v":0},{"$f":"IFERROR(VLOOKUP(A335,Hoja4!$D$2:$E$166,2,0),0)","v":0}]
[6066,{"$f":"IFERROR(VLOOKUP(A336,Hoja4!$A$2:$B$163,2,0),0)","v":0},{"$f":"IFERROR(VLOOKUP(A336,Hoja4!$D$2:$E$166,2,0),0)","v":0}]
[6074,{"$f":"IFERROR(VLOOKUP(A337,Hoja4!$A$2:$B$163,2,0),0)","v":0},{"$f":"IFERROR(VLOOKUP(A337,Hoja4!$D$2:$E$166,2,0),0)","v":0}]
[6082,{"$f":"IFERROR(VLOOKUP(A338,Hoja4!$A$2:$B$163,2,0),0)","v":0},{"$f":"IFERROR(VLOOKUP(A338,Hoja4!$D$2:$E$166,2,0),0)","v":0}]
[6083,{"$f":"IFERROR(VLOOKUP(A339,Hoja4!$A$2:$B$163,2,0),0)","v":0},{"$f":"IFERROR(VLOOKUP(A339,Hoja4!$D$2:$E$166,2,0),0)","v":0}]
[6084,{"$f":"IFERROR(VLOOKUP(A340,Hoja4!$A$2:$B$163,2,0),0)","v":0},{"$f":"IFERROR(VLOOKUP(A340,Hoja4!$D$2:$E$166,2,0),0)","v":0}]
[6085,{"$f":"IFERROR(VLOOKUP(A341,Hoja4!$A$2:$B$163,2,0),0)","v":0},{"$f":"IFERROR(VLOOKUP(A341,Hoja4!$D$2:$E$166,2,0),0)","v":0}]
[6086,{"$f":"IFERROR(VLOOKUP(A342,Hoja4!$A$2:$B$163,2,0),0)","v":0},{"$f":"IFERROR(VLOOKUP(A342,Hoja4!$D$2:$E$166,2,0),0)","v":0}]
[6087,{"$f":"IFERROR(VLOOKUP(A343,Hoja4!$A$2:$B$163,2,0),0)","v":0},{"$f":"IFERROR(VLOOKUP(A343,Hoja4!$D$2:$E$166,2,0),0)","v":0}]
[6088,{"$f":"IFERROR(VLOOKUP(A344,Hoja4!$A$2:$B$163,2,0),0)","v":30.690100000000001},{"$f":"IFERROR(VLOOKUP(A344,Hoja4!$D$2:$E$166,2,0),0)","v":0}]
[6092,{"$f":"IFERROR(VLOOKUP(A345,Hoja4!$A$2:$B$163,2,0),0)","v":36.053100000000001},{"$f":"IFERROR(VLOOKUP(A345,Hoja4!$D$2:$E$166,2,0),0)","v":0}]
[6096,{"$f":"IFERROR(VLOOKUP(A346,Hoja4!$A$2:$B$163,2,0),0)","v":294.6927},{"$f":"IFERROR(VLOOKUP(A346,Hoja4!$D$2:$E$166,2,0),0)","v":0}]
[6100,{"$f":"IFERROR(VLOOKUP(A347,Hoja4!$A$2:$B$163,2,0),0)","v":0},{"$f":"IFERROR(VLOOKUP(A347,Hoja4!$D$2:$E$166,2,0),0)","v":0.70950000000000002}]
[6105,{"$f":"IFERROR(VLOOKUP(A348,Hoja4!$A$2:$B$163,2,0),0)","v":0},{"$f":"IFERROR(VLOOKUP(A348,Hoja4!$D$2:$E$166,2,0),0)","v":0}]
[6123,{"$f":"IFERROR(VLOOKUP(A349,Hoja4!$A$2:$B$163,2,0),0)","v":0},{"$f":"IFERROR(VLOOKUP(A349,Hoja4!$D$2:$E$166,2,0),0)","v":0}]
[6170,{"$f":"IFERROR(VLOOKUP(A350,Hoja4!$A$2:$B$163,2,0),0)","v":0},{"$f":"IFERROR(VLOOKUP(A350,Hoja4!$D$2:$E$166,2,0),0)","v":13.0928}]
[6171,{"$f":"IFERROR(VLOOKUP(A351,Hoja4!$A$2:$B$163,2,0),0)","v":0},{"$f":"IFERROR(VLOOKUP(A351,Hoja4!$D$2:$E$166,2,0),0)","v":13.7797}]
[6173,{"$f":"IFERROR(VLOOKUP(A352,Hoja4!$A$2:$B$163,2,0),0)","v":0},{"$f":"IFERROR(VLOOKUP(A352,Hoja4!$D$2:$E$166,2,0),0)","v":0}]
[6178,{"$f":"IFERROR(VLOOKUP(A353,Hoja4!$A$2:$B$163,2,0),0)","v":40.520299999999999},{"$f":"IFERROR(VLOOKUP(A353,Hoja4!$D$2:$E$166,2,0),0)","v":0}]
[6179,{"$f":"IFERROR(VLOOKUP(A354,Hoja4!$A$2:$B$163,2,0),0)","v":0},{"$f":"IFERROR(VLOOKUP(A354,Hoja4!$D$2:$E$166,2,0),0)","v":0}]
[6182,{"$f":"IFERROR(VLOOKUP(A355,Hoja4!$A$2:$B$163,2,0),0)","v":0},{"$f":"IFERROR(VLOOKUP(A355,Hoja4!$D$2:$E$166,2,0),0)","v":0}]
[6240,{"$f":"IFERROR(VLOOKUP(A356,Hoja4!$A$2:$B$163,2,0),0)","v":0},{"$f":"IFERROR(VLOOKUP(A356,Hoja4!$D$2:$E$166,2,0),0)","v":0}]
[6241,{"$f":"IFERROR(VLOOKUP(A357,Hoja4!$A$2:$B$163,2,0),0)","v":0},{"$f":"IFERROR(VLOOKUP(A357,Hoja4!$D$2:$E$166,2,0),0)","v":28.187899999999999}]
[6243,{"$f":"IFERROR(VLOOKUP(A358,Hoja4!$A$2:$B$163,2,0),0)","v":0},{"$f":"IFERROR(VLOOKUP(A358,Hoja4!$D$2:$E$166,2,0),0)","v":0}]
[6260,{"$f":"IFERROR(VLOOKUP(A359,Hoja4!$A$2:$B$163,2,0),0)","v":0},{"$f":"IFERROR(VLOOKUP(A359,Hoja4!$D$2:$E$166,2,0),0)","v":0}]
[6261,{"$f":"IFERROR(VLOOKUP(A360,Hoja4!$A$2:$B$163,2,0),0)","v":0},{"$f":"IFERROR(VLOOKUP(A360,Hoja4!$D$2:$E$166,2,0),0)","v":0}]
[6262,{"$f":"IFERROR(VLOOKUP(A361,Hoja4!$A$2:$B$163,2,0),0)","v":0},{"$f":"IFERROR(VLOOKUP(A361,Hoja4!$D$2:$E$166,2,0),0)","v":10.997400000000001}]
[6263,{"$f":"IFERROR(VLOOKUP(A362,Hoja4!$A$2:$B$163,2,0),0)","v":9.6404999999999994},{"$f":"IFERROR(VLOOKUP(A362,Hoja4!$D$2:$E$166,2,0),0)","v":0}]
[6270,{"$f":"IFERROR(VLOOKUP(A363,Hoja4!$A$2:$B$163,2,0),0)","v":0},{"$f":"IFERROR(VLOOKUP(A363,Hoja4!$D$2:$E$166,2,0),0)","v":0}]
[6280,{"$f":"IFERROR(VLOOKUP(A364,Hoja4!$A$2:$B$163,2,0),0)","v":0},{"$f":"IFERROR(VLOOKUP(A364,Hoja4!$D$2:$E$166,2,0),0)","v":0}]
[6290,{"$f":"IFERROR(VLOOKUP(A365,Hoja4!$A$2:$B$163,2,0),0)","v":0},{"$f":"IFERROR(VLOOKUP(A365,Hoja4!$D$2:$E$166,2,0),0)","v":0}]
[6300,{"$f":"IFERROR(VLOOKUP(A366,Hoja4!$A$2:$B$163,2,0),0)","v":20.000599999999999},{"$f":"IFERROR(VLOOKUP(A366,Hoja4!$D$2:$E$166,2,0),0)","v":0}]
[6330,{"$f":"IFERROR(VLOOKUP(A367,Hoja4!$A$2:$B$163,2,0),0)","v":42.372799999999998},{"$f":"IFERROR(VLOOKUP(A367,Hoja4!$D$2:$E$166,2,0),0)","v":0}]
[6331,{"$f":"IFERROR(VLOOKUP(A368,Hoja4!$A$2:$B$163,2,0),0)","v":0},{"$f":"IFERROR(VLOOKUP(A368,Hoja4!$D$2:$E$166,2,0),0)","v":0}]
[6332,{"$f":"IFERROR(VLOOKUP(A369,Hoja4!$A$2:$B$163,2,0),0)","v":0},{"$f":"IFERROR(VLOOKUP(A369,Hoja4!$D$2:$E$166,2,0),0)","v":0}]
[6340,{"$f":"IFERROR(VLOOKUP(A370,Hoja4!$A$2:$B$163,2,0),0)","v":0},{"$f":"IFERROR(VLOOKUP(A370,Hoja4!$D$2:$E$166,2,0),0)","v":20.9438}]
[6360,{"$f":"IFERROR(VLOOKUP(A371,Hoja4!$A$2:$B$163,2,0),0)","v":7.3738000000000001},{"$f":"IFERROR(VLOOKUP(A371,Hoja4!$D$2:$E$166,2,0),0)","v":0}]
[6363,{"$f":"IFERROR(VLOOKUP(A372,Hoja4!$A$2:$B$163,2,0),0)","v":9.8757000000000001},{"$f":"IFERROR(VLOOKUP(A372,Hoja4!$D$2:$E$166,2,0),0)","v":0}]
[6366,{"$f":"IFERROR(VLOOKUP(A373,Hoja4!$A$2:$B$163,2,0),0)","v":15.246499999999999},{"$f":"IFERROR(VLOOKUP(A373,Hoja4!$D$2:$E$166,2,0),0)","v":0}]
[6380,{"$f":"IFERROR(VLOOKUP(A374,Hoja4!$A$2:$B$163,2,0),0)","v":0},{"$f":"IFERROR(VLOOKUP(A374,Hoja4!$D$2:$E$166,2,0),0)","v":0}]
[6381,{"$f":"IFERROR(VLOOKUP(A375,Hoja4!$A$2:$B$163,2,0),0)","v":21.4572},{"$f":"IFERROR(VLOOKUP(A375,Hoja4!$D$2:$E$166,2,0),0)","v":0}]
[6400,{"$f":"IFERROR(VLOOKUP(A376,Hoja4!$A$2:$B$163,2,0),0)","v":0},{"$f":"IFERROR(VLOOKUP(A376,Hoja4!$D$2:$E$166,2,0),0)","v":0}]
[6440,{"$f":"IFERROR(VLOOKUP(A377,Hoja4!$A$2:$B$163,2,0),0)","v":53.038999999999994},{"$f":"IFERROR(VLOOKUP(A377,Hoja4!$D$2:$E$166,2,0),0)","v":0}]
[6441,{"$f":"IFERROR(VLOOKUP(A378,Hoja4!$A$2:$B$163,2,0),0)","v":0},{"$f":"IFERROR(VLOOKUP(A378,Hoja4!$D$2:$E$166,2,0),0)","v":0}]
[6442,{"$f":"IFERROR(VLOOKUP(A379,Hoja4!$A$2:$B$163,2,0),0)","v":0},{"$f":"IFERROR(VLOOKUP(A379,Hoja4!$D$2:$E$166,2,0),0)","v":0}]
[6443,{"$f":"IFERROR(VLOOKUP(A380,Hoja4!$A$2:$B$163,2,0),0)","v":0},{"$f":"IFERROR(VLOOKUP(A380,Hoja4!$D$2:$E$166,2,0),0)","v":0}]
[6460,{"$f":"IFERROR(VLOOKUP(A381,Hoja4!$A$2:$B$163,2,0),0)","v":18.18},{"$f":"IFERROR(VLOOKUP(A381,Hoja4!$D$2:$E$166,2,0),0)","v":0}]
[6470,{"$f":"IFERROR(VLOOKUP(A382,Hoja4!$A$2:$B$163,2,0),0)","v":0},{"$f":"IFERROR(VLOOKUP(A382,Hoja4!$D$2:$E$166,2,0),0)","v":29.351800000000001}]
[6490,{"$f":"IFERROR(VLOOKUP(A383,Hoja4!$A$2:$B$163,2,0),0)","v":0},{"$f":"IFERROR(VLOOKUP(A383,Hoja4!$D$2:$E$166,2,0),0)","v":0}]
[6500,{"$f":"IFERROR(VLOOKUP(A384,Hoja4!$A$2:$B$163,2,0),0)","v":0},{"$f":"IFERROR(VLOOKUP(A384,Hoja4!$D$2:$E$166,2,0),0)","v":0}]
[6510,{"$f":"IFERROR(VLOOKUP(A385,Hoja4!$A$2:$B$163,2,0),0)","v":38.381100000000004},{"$f":"IFERROR(VLOOKUP(A385,Hoja4!$D$2:$E$166,2,0),0)","v":0}]
[6511,{"$f":"IFERROR(VLOOKUP(A386,Hoja4!$A$2:$B$163,2,0),0)","v":0},{"$f":"IFERROR(VLOOKUP(A386,Hoja4!$D$2:$E$166,2,0),0)","v":0}]
[6513,{"$f":"IFERROR(VLOOKUP(A387,Hoja4!$A$2:$B$163,2,0),0)","v":0},{"$f":"IFERROR(VLOOKUP(A387,Hoja4!$D$2:$E$166,2,0),0)","v":0}]
[6520,{"$f":"IFERROR(VLOOKUP(A388,Hoja4!$A$2:$B$163,2,0),0)","v":0},{"$f":"IFERROR(VLOOKUP(A388,Hoja4!$D$2:$E$166,2,0),0)","v":0}]
[6550,{"$f":"IFERROR(VLOOKUP(A389,Hoja4!$A$2:$B$163,2,0),0)","v":14.669600000000001},{"$f":"IFERROR(VLOOKUP(A389,Hoja4!$D$2:$E$166,2,0),0)","v":0}]
[6604,{"$f":"IFERROR(VLOOKUP(A390,Hoja4!$A$2:$B$163,2,0),0)","v":0},{"$f":"IFERROR(VLOOKUP(A390,Hoja4!$D$2:$E$166,2,0),0)","v":0}]
[6684,{"$f":"IFERROR(VLOOKUP(A391,Hoja4!$A$2:$B$163,2,0),0)","v":0},{"$f":"IFERROR(VLOOKUP(A391,Hoja4!$D$2:$E$166,2,0),0)","v":0}]
[6713,{"$f":"IFERROR(VLOOKUP(A392,Hoja4!$A$2:$B$163,2,0),0)","v":0},{"$f":"IFERROR(VLOOKUP(A392,Hoja4!$D$2:$E$166,2,0),0)","v":19.124400000000001}]
[6753,{"$f":"IFERROR(VLOOKUP(A393,Hoja4!$A$2:$B$163,2,0),0)","v":0},{"$f":"IFERROR(VLOOKUP(A393,Hoja4!$D$2:$E$166,2,0),0)","v":0}]
[6755,{"$f":"IFERROR(VLOOKUP(A394,Hoja4!$A$2:$B$163,2,0),0)","v":0},{"$f":"IFERROR(VLOOKUP(A394,Hoja4!$D$2:$E$166,2,0),0)","v":0}]
[12007,{"$f":"IFERROR(VLOOKUP(A395,Hoja4!$A$2:$B$163,2,0),0)","v":0},{"$f":"IFERROR(VLOOKUP(A395,Hoja4!$D$2:$E$166,2,0),0)","v":0}]
[12029,{"$f":"IFERROR(VLOOKUP(A396,Hoja4!$A$2:$B$163,2,0),0)","v":0},{"$f":"IFERROR(VLOOKUP(A396,Hoja4!$D$2:$E$166,2,0),0)","v":0}]
[12030,{"$f":"IFERROR(VLOOKUP(A397,Hoja4!$A$2:$B$163,2,0),0)","v":0},{"$f":"IFERROR(VLOOKUP(A397,Hoja4!$D$2:$E$166,2,0),0)","v":0}]
[12031,{"$f":"IFERROR(VLOOKUP(A398,Hoja4!$A$2:$B$163,2,0),0)","v":0},{"$f":"IFERROR(VLOOKUP(A398,Hoja4!$D$2:$E$166,2,0),0)","v":0}]
[12036,{"$f":"IFERROR(VLOOKUP(A399,Hoja4!$A$2:$B$163,2,0),0)","v":0},{"$f":"IFERROR(VLOOKUP(A399,Hoja4!$D$2:$E$166,2,0),0)","v":0}]
[12047,{"$f":"IFERROR(VLOOKUP(A400,Hoja4!$A$2:$B$163,2,0),0)","v":0},{"$f":"IFERROR(VLOOKUP(A400,Hoja4!$D$2:$E$166,2,0),0)","v":0}]
[12049,{"$f":"IFERROR(VLOOKUP(A401,Hoja4!$A$2:$B$163,2,0),0)","v":0},{"$f":"IFERROR(VLOOKUP(A401,Hoja4!$D$2:$E$166,2,0),0)","v":0}]
[12080,{"$f":"IFERROR(VLOOKUP(A402,Hoja4!$A$2:$B$163,2,0),0)","v":0},{"$f":"IFERROR(VLOOKUP(A402,Hoja4!$D$2:$E$166,2,0),0)","v":0}]
[12089,{"$f":"IFERROR(VLOOKUP(A403,Hoja4!$A$2:$B$163,2,0),0)","v":0},{"$f":"IFERROR(VLOOKUP(A403,Hoja4!$D$2:$E$166,2,0),0)","v":0}]
[12094,{"$f":"IFERROR(VLOOKUP(A404,Hoja4!$A$2:$B$163,2,0),0)","v":0},{"$f":"IFERROR(VLOOKUP(A404,Hoja4!$D$2:$E$166,2,0),0)","v":0}]
[12108,{"$f":"IFERROR(VLOOKUP(A405,Hoja4!$A$2:$B$163,2,0),0)","v":0},{"$f":"IFERROR(VLOOKUP(A405,Hoja4!$D$2:$E$166,2,0),0)","v":0}]
[12127,{"$f":"IFERROR(VLOOKUP(A406,Hoja4!$A$2:$B$163,2,0),0)","v":0},{"$f":"IFERROR(VLOOKUP(A406,Hoja4!$D$2:$E$166,2,0),0)","v":0}]
[12129,{"$f":"IFERROR(VLOOKUP(A407,Hoja4!$A$2:$B$163,2,0),0)","v":0},{"$f":"IFERROR(VLOOKUP(A407,Hoja4!$D$2:$E$166,2,0),0)","v":0}]
[12136,{"$f":"IFERROR(VLOOKUP(A408,Hoja4!$A$2:$B$163,2,0),0)","v":0},{"$f":"IFERROR(VLOOKUP(A408,Hoja4!$D$2:$E$166,2,0),0)","v":0}]
[12142,{"$f":"IFERROR(VLOOKUP(A409,Hoja4!$A$2:$B$163,2,0),0)","v":0},{"$f":"IFERROR(VLOOKUP(A409,Hoja4!$D$2:$E$166,2,0),0)","v":0}]
[12144,{"$f":"IFERROR(VLOOKUP(A410,Hoja4!$A$2:$B$163,2,0),0)","v":0},{"$f":"IFERROR(VLOOKUP(A410,Hoja4!$D$2:$E$166,2,0),0)","v":0}]
[12154,{"$f":"IFERROR(VLOOKUP(A411,Hoja4!$A$2:$B$163,2,0),0)","v":0},{"$f":"IFERROR(VLOOKUP(A411,Hoja4!$D$2:$E$166,2,0),0)","v":0}]
[12177,{"$f":"IFERROR(VLOOKUP(A412,Hoja4!$A$2:$B$163,2,0),0)","v":0},{"$f":"IFERROR(VLOOKUP(A412,Hoja4!$D$2:$E$166,2,0),0)","v":0}]
[12178,{"$f":"IFERROR(VLOOKUP(A413,Hoja4!$A$2:$B$163,2,0),0)","v":0},{"$f":"IFERROR(VLOOKUP(A413,Hoja4!$D$2:$E$166,2,0),0)","v":0}]
[12183,{"$f":"IFERROR(VLOOKUP(A414,Hoja4!$A$2:$B$163,2,0),0)","v":0},{"$f":"IFERROR(VLOOKUP(A414,Hoja4!$D$2:$E$166,2,0),0)","v":0}]
[12195,{"$f":"IFERROR(VLOOKUP(A415,Hoja4!$A$2:$B$163,2,0),0)","v":0},{"$f":"IFERROR(VLOOKUP(A415,Hoja4!$D$2:$E$166,2,0),0)","v":0}]
[12204,{"$f":"IFERROR(VLOOKUP(A416,Hoja4!$A$2:$B$163,2,0),0)","v":0},{"$f":"IFERROR(VLOOKUP(A416,Hoja4!$D$2:$E$166,2,0),0)","v":0}]
[12205,{"$f":"IFERROR(VLOOKUP(A417,Hoja4!$A$2:$B$163,2,0),0)","v":0},{"$f":"IFERROR(VLOOKUP(A417,Hoja4!$D$2:$E$166,2,0),0)","v":0}]
[12218,{"$f":"IFERROR(VLOOKUP(A418,Hoja4!$A$2:$B$163,2,0),0)","v":0},{"$f":"IFERROR(VLOOKUP(A418,Hoja4!$D$2:$E$166,2,0),0)","v":0}]
[12219,{"$f":"IFERROR(VLOOKUP(A419,Hoja4!$A$2:$B$163,2,0),0)","v":0},{"$f":"IFERROR(VLOOKUP(A419,Hoja4!$D$2:$E$166,2,0),0)","v":0}]
[12220,{"$f":"IFERROR(VLOOKUP(A420,Hoja4!$A$2:$B$163,2,0),0)","v":0},{"$f":"IFERROR(VLOOKUP(A420,Hoja4!$D$2:$E$166,2,0),0)","v":0}]
[12221,{"$f":"IFERROR(VLOOKUP(A421,Hoja4!$A$2:$B$163,2,0),0)","v":0},{"$f":"IFERROR(VLOOKUP(A421,Hoja4!$D$2:$E$166,2,0),0)","v":0}]
[12225,{"$f":"IFERROR(VLOOKUP(A422,Hoja4!$A$2:$B$163,2,0),0)","v":0},{"$f":"IFERROR(VLOOKUP(A422,Hoja4!$D$2:$E$166,2,0),0)","v":0}]
[12234,{"$f":"IFERROR(VLOOKUP(A423,Hoja4!$A$2:$B$163,2,0),0)","v":0},{"$f":"IFERROR(VLOOKUP(A423,Hoja4!$D$2:$E$166,2,0),0)","v":0}]
[12238,{"$f":"IFERROR(VLOOKUP(A424,Hoja4!$A$2:$B$163,2,0),0)","v":0},{"$f":"IFERROR(VLOOKUP(A424,Hoja4!$D$2:$E$166,2,0),0)","v":0}]
[12239,{"$f":"IFERROR(VLOOKUP(A425,Hoja4!$A$2:$B$163,2,0),0)","v":0},{"$f":"IFERROR(VLOOKUP(A425,Hoja4!$D$2:$E$166,2,0),0)","v":0}]
[12241,{"$f":"IFERROR(VLOOKUP(A426,Hoja4!$A$2:$B$163,2,0),0)","v":0},{"$f":"IFERROR(VLOOKUP(A426,Hoja4!$D$2:$E$166,2,0),0)","v":0}]
[12242,{"$f":"IFERROR(VLOOKUP(A427,Hoja4!$A$2:$B$163,2,0),0)","v":0},{"$f":"IFERROR(VLOOKUP(A427,Hoja4!$D$2:$E$166,2,0),0)","v":0}]
[12243,{"$f":"IFERROR(VLOOKUP(A428,Hoja4!$A$2:$B$163,2,0),0)","v":0},{"$f":"IFERROR(VLOOKUP(A428,Hoja4!$D$2:$E$166,2,0),0)","v":0}]
[12251,{"$f":"IFERROR(VLOOKUP(A429,Hoja4!$A$2:$B$163,2,0),0)","v":0},{"$f":"IFERROR(VLOOKUP(A429,Hoja4!$D$2:$E$166,2,0),0)","v":0}]
[12254,{"$f":"IFERROR(VLOOKUP(A430,Hoja4!$A$2:$B$163,2,0),0)","v":0},{"$f":"IFERROR(VLOOKUP(A430,Hoja4!$D$2:$E$166,2,0),0)","v":0}]
[12257,{"$f":"IFERROR(VLOOKUP(A431,Hoja4!$A$2:$B$163,2,0),0)","v":0},{"$f":"IFERROR(VLOOKUP(A431,Hoja4!$D$2:$E$166,2,0),0)","v":0}]
[12258,{"$f":"IFERROR(VLOOKUP(A432,Hoja4!$A$2:$B$163,2,0),0)","v":0},{"$f":"IFERROR(VLOOKUP(A432,Hoja4!$D$2:$E$166,2,0),0)","v":0}]
[12269,{"$f":"IFERROR(VLOOKUP(A433,Hoja4!$A$2:$B$163,2,0),0)","v":0},{"$f":"IFERROR(VLOOKUP(A433,Hoja4!$D$2:$E$166,2,0),0)","v":0}]
[12280,{"$f":"IFERROR(VLOOKUP(A434,Hoja4!$A$2:$B$163,2,0),0)","v":0},{"$f":"IFERROR(VLOOKUP(A434,Hoja4!$D$2:$E$166,2,0),0)","v":0}]
[12281,{"$f":"IFERROR(VLOOKUP(A435,Hoja4!$A$2:$B$163,2,0),0)","v":0},{"$f":"IFERROR(VLOOKUP(A435,Hoja4!$D$2:$E$166,2,0),0)","v":0}]
[12282,{"$f":"IFERROR(VLOOKUP(A436,Hoja4!$A$2:$B$163,2,0),0)","v":0},{"$f":"IFERROR(VLOOKUP(A436,Hoja4!$D$2:$E$166,2,0),0)","v":0}]
[12283,{"$f":"IFERROR(VLOOKUP(A437,Hoja4!$A$2:$B$163,2,0),0)","v":0},{"$f":"IFERROR(VLOOKUP(A437,Hoja4!$D$2:$E$166,2,0),0)","v":0}]
[12285,{"$f":"IFERROR(VLOOKUP(A438,Hoja4!$A$2:$B$163,2,0),0)","v":0},{"$f":"IFERROR(VLOOKUP(A438,Hoja4!$D$2:$E$166,2,0),0)","v":0}]
[12292,{"$f":"IFERROR(VLOOKUP(A439,Hoja4!$A$2:$B$163,2,0),0)","v":0},{"$f":"IFERROR(VLOOKUP(A439,Hoja4!$D$2:$E$166,2,0),0)","v":0}]
[12294,{"$f":"IFERROR(VLOOKUP(A440,Hoja4!$A$2:$B$163,2,0),0)","v":0},{"$f":"IFERROR(VLOOKUP(A440,Hoja4!$D$2:$E$166,2,0),0)","v":0}]
[12295,{"$f":"IFERROR(VLOOKUP(A441,Hoja4!$A$2:$B$163,2,0),0)","v":0},{"$f":"IFERROR(VLOOKUP(A441,Hoja4!$D$2:$E$166,2,0),0)","v":0}]
[12305,{"$f":"IFERROR(VLOOKUP(A442,Hoja4!$A$2:$B$163,2,0),0)","v":0},{"$f":"IFERROR(VLOOKUP(A442,Hoja4!$D$2:$E$166,2,0),0)","v":0}]
[14002,{"$f":"IFERROR(VLOOKUP(A443,Hoja4!$A$2:$B$163,2,0),0)","v":0},{"$f":"IFERROR(VLOOKUP(A443,Hoja4!$D$2:$E$166,2,0),0)","v":0}]
[14005,{"$f":"IFERROR(VLOOKUP(A444,Hoja4!$A$2:$B$163,2,0),0)","v":0},{"$f":"IFERROR(VLOOKUP(A444,Hoja4!$D$2:$E$166,2,0),0)","v":0}]
[14011,{"$f":"IFERROR(VLOOKUP(A445,Hoja4!$A$2:$B$163,2,0),0)","v":0},{"$f":"IFERROR(VLOOKUP(A445,Hoja4!$D$2:$E$166,2,0),0)","v":0}]
[14320,{"$f":"IFERROR(VLOOKUP(A446,Hoja4!$A$2:$B$163,2,0),0)","v":0},{"$f":"IFERROR(VLOOKUP(A446,Hoja4!$D$2:$E$166,2,0),0)","v":0}]
[22372,{"$f":"IFERROR(VLOOKUP(A447,Hoja4!$A$2:$B$163,2,0),0)","v":0},{"$f":"IFERROR(VLOOKUP(A447,Hoja4!$D$2:$E$166,2,0),0)","v":0}]
[24161,{"$f":"IFERROR(VLOOKUP(A448,Hoja4!$A$2:$B$163,2,0),0)","v":0},{"$f":"IFERROR(VLOOKUP(A448,Hoja4!$D$2:$E$166,2,0),0)","v":0}]
[24181,{"$f":"IFERROR(VLOOKUP(A449,Hoja4!$A$2:$B$163,2,0),0)","v":0},{"$f":"IFERROR(VLOOKUP(A449,Hoja4!$D$2:$E$166,2,0),0)","v":0}]
[27101,{"$f":"IFERROR(VLOOKUP(A450,Hoja4!$A$2:$B$163,2,0),0)","v":84.6},{"$f":"IFERROR(VLOOKUP(A450,Hoja4!$D$2:$E$166,2,0),0)","v":0}]
[27111,{"$f":"IFERROR(VLOOKUP(A451,Hoja4!$A$2:$B$163,2,0),0)","v":0},{"$f":"IFERROR(VLOOKUP(A451,Hoja4!$D$2:$E$166,2,0),0)","v":0}]
[27131,{"$f":"IFERROR(VLOOKUP(A452,Hoja4!$A$2:$B$163,2,0),0)","v":124.2},{"$f":"IFERROR(VLOOKUP(A452,Hoja4!$D$2:$E$166,2,0),0)","v":13.4}]
[27161,{"$f":"IFERROR(VLOOKUP(A453,Hoja4!$A$2:$B$163,2,0),0)","v":72.996800000000007},{"$f":"IFERROR(VLOOKUP(A453,Hoja4!$D$2:$E$166,2,0),0)","v":13.7}]
[27171,{"$f":"IFERROR(VLOOKUP(A454,Hoja4!$A$2:$B$163,2,0),0)","v":70.3},{"$f":"IFERROR(VLOOKUP(A454,Hoja4!$D$2:$E$166,2,0),0)","v":14.6}]
[27181,{"$f":"IFERROR(VLOOKUP(A455,Hoja4!$A$2:$B$163,2,0),0)","v":64.3},{"$f":"IFERROR(VLOOKUP(A455,Hoja4!$D$2:$E$166,2,0),0)","v":9.9}]
[27211,{"$f":"IFERROR(VLOOKUP(A456,Hoja4!$A$2:$B$163,2,0),0)","v":93.4},{"$f":"IFERROR(VLOOKUP(A456,Hoja4!$D$2:$E$166,2,0),0)","v":0}]
[27281,{"$f":"IFERROR(VLOOKUP(A457,Hoja4!$A$2:$B$163,2,0),0)","v":0},{"$f":"IFERROR(VLOOKUP(A457,Hoja4!$D$2:$E$166,2,0),0)","v":0}]
[27301,{"$f":"IFERROR(VLOOKUP(A458,Hoja4!$A$2:$B$163,2,0),0)","v":-35},{"$f":"IFERROR(VLOOKUP(A458,Hoja4!$D$2:$E$166,2,0),0)","v":75.3}]
[27321,{"$f":"IFERROR(VLOOKUP(A459,Hoja4!$A$2:$B$163,2,0),0)","v":0},{"$f":"IFERROR(VLOOKUP(A459,Hoja4!$D$2:$E$166,2,0),0)","v":39.200000000000003}]
[27341,{"$f":"IFERROR(VLOOKUP(A460,Hoja4!$A$2:$B$163,2,0),0)","v":52.4},{"$f":"IFERROR(VLOOKUP(A460,Hoja4!$D$2:$E$166,2,0),0)","v":69.900000000000006}]
[27351,{"$f":"IFERROR(VLOOKUP(A461,Hoja4!$A$2:$B$163,2,0),0)","v":11.1},{"$f":"IFERROR(VLOOKUP(A461,Hoja4!$D$2:$E$166,2,0),0)","v":48.9}]
[27361,{"$f":"IFERROR(VLOOKUP(A462,Hoja4!$A$2:$B$163,2,0),0)","v":0},{"$f":"IFERROR(VLOOKUP(A462,Hoja4!$D$2:$E$166,2,0),0)","v":57.7}]
[27371,{"$f":"IFERROR(VLOOKUP(A463,Hoja4!$A$2:$B$163,2,0),0)","v":0},{"$f":"IFERROR(VLOOKUP(A463,Hoja4!$D$2:$E$166,2,0),0)","v":68.2}]
[27381,{"$f":"IFERROR(VLOOKUP(A464,Hoja4!$A$2:$B$163,2,0),0)","v":0},{"$f":"IFERROR(VLOOKUP(A464,Hoja4!$D$2:$E$166,2,0),0)","v":11.9}]
[27391,{"$f":"IFERROR(VLOOKUP(A465,Hoja4!$A$2:$B$163,2,0),0)","v":0},{"$f":"IFERROR(VLOOKUP(A465,Hoja4!$D$2:$E$166,2,0),0)","v":0}]
[27401,{"$f":"IFERROR(VLOOKUP(A466,Hoja4!$A$2:$B$163,2,0),0)","v":6.3},{"$f":"IFERROR(VLOOKUP(A466,Hoja4!$D$2:$E$166,2,0),0)","v":16.299999999999997}]
[27411,{"$f":"IFERROR(VLOOKUP(A467,Hoja4!$A$2:$B$163,2,0),0)","v":0},{"$f":"IFERROR(VLOOKUP(A467,Hoja4!$D$2:$E$166,2,0),0)","v":17}]
[27421,{"$f":"IFERROR(VLOOKUP(A468,Hoja4!$A$2:$B$163,2,0),0)","v":0},{"$f":"IFERROR(VLOOKUP(A468,Hoja4!$D$2:$E$166,2,0),0)","v":0}]
[27431,{"$f":"IFERROR(VLOOKUP(A469,Hoja4!$A$2:$B$163,2,0),0)","v":0},{"$f":"IFERROR(VLOOKUP(A469,Hoja4!$D$2:$E$166,2,0),0)","v":0}]
[27441,{"$f":"IFERROR(VLOOKUP(A470,Hoja4!$A$2:$B$163,2,0),0)","v":0},{"$f":"IFERROR(VLOOKUP(A470,Hoja4!$D$2:$E$166,2,0),0)","v":101.4}]
[27451,{"$f":"IFERROR(VLOOKUP(A471,Hoja4!$A$2:$B$163,2,0),0)","v":0},{"$f":"IFERROR(VLOOKUP(A471,Hoja4!$D$2:$E$166,2,0),0)","v":0}]
[27461,{"$f":"IFERROR(VLOOKUP(A472,Hoja4!$A$2:$B$163,2,0),0)","v":-8.7000000000000011},{"$f":"IFERROR(VLOOKUP(A472,Hoja4!$D$2:$E$166,2,0),0)","v":50.3}]
[27471,{"$f":"IFERROR(VLOOKUP(A473,Hoja4!$A$2:$B$163,2,0),0)","v":0},{"$f":"IFERROR(VLOOKUP(A473,Hoja4!$D$2:$E$166,2,0),0)","v":0}]
[27481,{"$f":"IFERROR(VLOOKUP(A474,Hoja4!$A$2:$B$163,2,0),0)","v":93.6},{"$f":"IFERROR(VLOOKUP(A474,Hoja4!$D$2:$E$166,2,0),0)","v":0}]
[27491,{"$f":"IFERROR(VLOOKUP(A475,Hoja4!$A$2:$B$163,2,0),0)","v":0},{"$f":"IFERROR(VLOOKUP(A475,Hoja4!$D$2:$E$166,2,0),0)","v":0}]
[27501,{"$f":"IFERROR(VLOOKUP(A476,Hoja4!$A$2:$B$163,2,0),0)","v":0},{"$f":"IFERROR(VLOOKUP(A476,Hoja4!$D$2:$E$166,2,0),0)","v":15.7}]
[27511,{"$f":"IFERROR(VLOOKUP(A477,Hoja4!$A$2:$B$163,2,0),0)","v":0},{"$f":"IFERROR(VLOOKUP(A477,Hoja4!$D$2:$E$166,2,0),0)","v":0}]
[28161,{"$f":"IFERROR(VLOOKUP(A478,Hoja4!$A$2:$B$163,2,0),0)","v":0},{"$f":"IFERROR(VLOOKUP(A478,Hoja4!$D$2:$E$166,2,0),0)","v":0}]
[28181,{"$f":"IFERROR(VLOOKUP(A479,Hoja4!$A$2:$B$163,2,0),0)","v":0},{"$f":"IFERROR(VLOOKUP(A479,Hoja4!$D$2:$E$166,2,0),0)","v":0}]
[28371,{"$f":"IFERROR(VLOOKUP(A480,Hoja4!$A$2:$B$163,2,0),0)","v":0},{"$f":"IFERROR(VLOOKUP(A480,Hoja4!$D$2:$E$166,2,0),0)","v":0}]
[29161,{"$f":"IFERROR(VLOOKUP(A481,Hoja4!$A$2:$B$163,2,0),0)","v":0},{"$f":"IFERROR(VLOOKUP(A481,Hoja4!$D$2:$E$166,2,0),0)","v":0}]
[29162,{"$f":"IFERROR(VLOOKUP(A482,Hoja4!$A$2:$B$163,2,0),0)","v":0},{"$f":"IFERROR(VLOOKUP(A482,Hoja4!$D$2:$E$166,2,0),0)","v":0}]
[29181,{"$f":"IFERROR(VLOOKUP(A483,Hoja4!$A$2:$B$163,2,0),0)","v":0},{"$f":"IFERROR(VLOOKUP(A483,Hoja4!$D$2:$E$166,2,0),0)","v":0}]
[29182,{"$f":"IFERROR(VLOOKUP(A484,Hoja4!$A$2:$B$163,2,0),0)","v":0},{"$f":"IFERROR(VLOOKUP(A484,Hoja4!$D$2:$E$166,2,0),0)","v":0}]
[50000,{"$f":"IFERROR(VLOOKUP(A485,Hoja4!$A$2:$B$163,2,0),0)","v":0},{"$f":"IFERROR(VLOOKUP(A485,Hoja4!$D$2:$E$166,2,0),0)","v":35.8797}]
[50050,{"$f":"IFERROR(VLOOKUP(A486,Hoja4!$A$2:$B$163,2,0),0)","v":0},{"$f":"IFERROR(VLOOKUP(A486,Hoja4!$D$2:$E$166,2,0),0)","v":13.7013}]
[50054,{"$f":"IFERROR(VLOOKUP(A487,Hoja4!$A$2:$B$163,2,0),0)","v":2.8361999999999998},{"$f":"IFERROR(VLOOKUP(A487,Hoja4!$D$2:$E$166,2,0),0)","v":41.301099999999998}]
[50100,{"$f":"IFERROR(VLOOKUP(A488,Hoja4!$A$2:$B$163,2,0),0)","v":145.66300000000001},{"$f":"IFERROR(VLOOKUP(A488,Hoja4!$D$2:$E$166,2,0),0)","v":0}]
[50103,{"$f":"IFERROR(VLOOKUP(A489,Hoja4!$A$2:$B$163,2,0),0)","v":30.28},{"$f":"IFERROR(VLOOKUP(A489,Hoja4!$D$2:$E$166,2,0),0)","v":0}]
[50150,{"$f":"IFERROR(VLOOKUP(A490,Hoja4!$A$2:$B$163,2,0),0)","v":54.529000000000003},{"$f":"IFERROR(VLOOKUP(A490,Hoja4!$D$2:$E$166,2,0),0)","v":0}]
[50200,{"$f":"IFERROR(VLOOKUP(A491,Hoja4!$A$2:$B$163,2,0),0)","v":152.5326},{"$f":"IFERROR(VLOOKUP(A491,Hoja4!$D$2:$E$166,2,0),0)","v":12.8142}]
[50250,{"$f":"IFERROR(VLOOKUP(A492,Hoja4!$A$2:$B$163,2,0),0)","v":156.74930000000001},{"$f":"IFERROR(VLOOKUP(A492,Hoja4!$D$2:$E$166,2,0),0)","v":12.7156}]
[50253,{"$f":"IFERROR(VLOOKUP(A493,Hoja4!$A$2:$B$163,2,0),0)","v":0},{"$f":"IFERROR(VLOOKUP(A493,Hoja4!$D$2:$E$166,2,0),0)","v":0}]
[50300,{"$f":"IFERROR(VLOOKUP(A494,Hoja4!$A$2:$B$163,2,0),0)","v":29.170999999999999},{"$f":"IFERROR(VLOOKUP(A494,Hoja4!$D$2:$E$166,2,0),0)","v":0}]
[50350,{"$f":"IFERROR(VLOOKUP(A495,Hoja4!$A$2:$B$163,2,0),0)","v":0},{"$f":"IFERROR(VLOOKUP(A495,Hoja4!$D$2:$E$166,2,0),0)","v":39.132599999999996}]
[50354,{"$f":"IFERROR(VLOOKUP(A496,Hoja4!$A$2:$B$163,2,0),0)","v":0},{"$f":"IFERROR(VLOOKUP(A496,Hoja4!$D$2:$E$166,2,0),0)","v":0}]
[50404,{"$f":"IFERROR(VLOOKUP(A497,Hoja4!$A$2:$B$163,2,0),0)","v":0},{"$f":"IFERROR(VLOOKUP(A497,Hoja4!$D$2:$E$166,2,0),0)","v":0}]
[50454,{"$f":"IFERROR(VLOOKUP(A498,Hoja4!$A$2:$B$163,2,0),0)","v":0},{"$f":"IFERROR(VLOOKUP(A498,Hoja4!$D$2:$E$166,2,0),0)","v":0}]
[50499,{"$f":"IFERROR(VLOOKUP(A499,Hoja4!$A$2:$B$163,2,0),0)","v":0},{"$f":"IFERROR(VLOOKUP(A499,Hoja4!$D$2:$E$166,2,0),0)","v":0}]
[50504,{"$f":"IFERROR(VLOOKUP(A500,Hoja4!$A$2:$B$163,2,0),0)","v":0},{"$f":"IFERROR(VLOOKUP(A500,Hoja4!$D$2:$E$166,2,0),0)","v":0}]
[50554,{"$f":"IFERROR(VLOOKUP(A501,Hoja4!$A$2:$B$163,2,0),0)","v":0},{"$f":"IFERROR(VLOOKUP(A501,Hoja4!$D$2:$E$166,2,0),0)","v":0}]
[50604,{"$f":"IFERROR(VLOOKUP(A502,Hoja4!$A$2:$B$163,2,0),0)","v":0},{"$f":"IFERROR(VLOOKUP(A502,Hoja4!$D$2:$E$166,2,0),0)","v":0}]
[50650,{"$f":"IFERROR(VLOOKUP(A503,Hoja4!$A$2:$B$163,2,0),0)","v":38.450099999999999},{"$f":"IFERROR(VLOOKUP(A503,Hoja4!$D$2:$E$166,2,0),0)","v":24.741299999999999}]
[50700,{"$f":"IFERROR(VLOOKUP(A504,Hoja4!$A$2:$B$163,2,0),0)","v":22.411100000000001},{"$f":"IFERROR(VLOOKUP(A504,Hoja4!$D$2:$E$166,2,0),0)","v":2.2671000000000001}]
[50750,{"$f":"IFERROR(VLOOKUP(A505,Hoja4!$A$2:$B$163,2,0),0)","v":24.890999999999998},{"$f":"IFERROR(VLOOKUP(A505,Hoja4!$D$2:$E$166,2,0),0)","v":18.137}]
[50800,{"$f":"IFERROR(VLOOKUP(A506,Hoja4!$A$2:$B$163,2,0),0)","v":14.665100000000001},{"$f":"IFERROR(VLOOKUP(A506,Hoja4!$D$2:$E$166,2,0),0)","v":5.2241999999999997}]
[50900,{"$f":"IFERROR(VLOOKUP(A507,Hoja4!$A$2:$B$163,2,0),0)","v":1.4998},{"$f":"IFERROR(VLOOKUP(A507,Hoja4!$D$2:$E$166,2,0),0)","v":0}]
[50950,{"$f":"IFERROR(VLOOKUP(A508,Hoja4!$A$2:$B$163,2,0),0)","v":1.4004000000000001},{"$f":"IFERROR(VLOOKUP(A508,Hoja4!$D$2:$E$166,2,0),0)","v":9.3642000000000003}]
[51150,{"$f":"IFERROR(VLOOKUP(A509,Hoja4!$A$2:$B$163,2,0),0)","v":138.61199999999999},{"$f":"IFERROR(VLOOKUP(A509,Hoja4!$D$2:$E$166,2,0),0)","v":0}]
[51200,{"$f":"IFERROR(VLOOKUP(A510,Hoja4!$A$2:$B$163,2,0),0)","v":0},{"$f":"IFERROR(VLOOKUP(A510,Hoja4!$D$2:$E$166,2,0),0)","v":0}]
[51250,{"$f":"IFERROR(VLOOKUP(A511,Hoja4!$A$2:$B$163,2,0),0)","v":0},{"$f":"IFERROR(VLOOKUP(A511,Hoja4!$D$2:$E$166,2,0),0)","v":0}]
[51300,{"$f":"IFERROR(VLOOKUP(A512,Hoja4!$A$2:$B$163,2,0),0)","v":10.7355},{"$f":"IFERROR(VLOOKUP(A512,Hoja4!$D$2:$E$166,2,0),0)","v":0}]
[51450,{"$f":"IFERROR(VLOOKUP(A513,Hoja4!$A$2:$B$163,2,0),0)","v":0},{"$f":"IFERROR(VLOOKUP(A513,Hoja4!$D$2:$E$166,2,0),0)","v":21.685600000000001}]
[53000,{"$f":"IFERROR(VLOOKUP(A514,Hoja4!$A$2:$B$163,2,0),0)","v":0.99980000000000002},{"$f":"IFERROR(VLOOKUP(A514,Hoja4!$D$2:$E$166,2,0),0)","v":125.6777}]
[53004,{"$f":"IFERROR(VLOOKUP(A515,Hoja4!$A$2:$B$163,2,0),0)","v":0},{"$f":"IFERROR(VLOOKUP(A515,Hoja4!$D$2:$E$166,2,0),0)","v":0}]
[53050,{"$f":"IFERROR(VLOOKUP(A516,Hoja4!$A$2:$B$163,2,0),0)","v":18.301500000000001},{"$f":"IFERROR(VLOOKUP(A516,Hoja4!$D$2:$E$166,2,0),0)","v":41.399700000000003}]
[53100,{"$f":"IFERROR(VLOOKUP(A517,Hoja4!$A$2:$B$163,2,0),0)","v":0},{"$f":"IFERROR(VLOOKUP(A517,Hoja4!$D$2:$E$166,2,0),0)","v":0}]
[53150,{"$f":"IFERROR(VLOOKUP(A518,Hoja4!$A$2:$B$163,2,0),0)","v":0},{"$f":"IFERROR(VLOOKUP(A518,Hoja4!$D$2:$E$166,2,0),0)","v":30.852599999999999}]
[53154,{"$f":"IFERROR(VLOOKUP(A519,Hoja4!$A$2:$B$163,2,0),0)","v":0},{"$f":"IFERROR(VLOOKUP(A519,Hoja4!$D$2:$E$166,2,0),0)","v":0}]
[53200,{"$f":"IFERROR(VLOOKUP(A520,Hoja4!$A$2:$B$163,2,0),0)","v":44.393000000000001},{"$f":"IFERROR(VLOOKUP(A520,Hoja4!$D$2:$E$166,2,0),0)","v":0}]
[53204,{"$f":"IFERROR(VLOOKUP(A521,Hoja4!$A$2:$B$163,2,0),0)","v":43.987000000000002},{"$f":"IFERROR(VLOOKUP(A521,Hoja4!$D$2:$E$166,2,0),0)","v":14.095599999999999}]
[53254,{"$f":"IFERROR(VLOOKUP(A522,Hoja4!$A$2:$B$163,2,0),0)","v":0.28999999999999998},{"$f":"IFERROR(VLOOKUP(A522,Hoja4!$D$2:$E$166,2,0),0)","v":36.668300000000002}]
[53304,{"$f":"IFERROR(VLOOKUP(A523,Hoja4!$A$2:$B$163,2,0),0)","v":1.2501},{"$f":"IFERROR(VLOOKUP(A523,Hoja4!$D$2:$E$166,2,0),0)","v":40.9069}]
[53354,{"$f":"IFERROR(VLOOKUP(A524,Hoja4!$A$2:$B$163,2,0),0)","v":0.95630000000000004},{"$f":"IFERROR(VLOOKUP(A524,Hoja4!$D$2:$E$166,2,0),0)","v":39.625399999999999}]
[53404,{"$f":"IFERROR(VLOOKUP(A525,Hoja4!$A$2:$B$163,2,0),0)","v":0},{"$f":"IFERROR(VLOOKUP(A525,Hoja4!$D$2:$E$166,2,0),0)","v":78.560900000000004}]
[53454,{"$f":"IFERROR(VLOOKUP(A526,Hoja4!$A$2:$B$163,2,0),0)","v":0},{"$f":"IFERROR(VLOOKUP(A526,Hoja4!$D$2:$E$166,2,0),0)","v":89.699399999999997}]
[53550,{"$f":"IFERROR(VLOOKUP(A527,Hoja4!$A$2:$B$163,2,0),0)","v":0},{"$f":"IFERROR(VLOOKUP(A527,Hoja4!$D$2:$E$166,2,0),0)","v":27.205500000000001}]
[53604,{"$f":"IFERROR(VLOOKUP(A528,Hoja4!$A$2:$B$163,2,0),0)","v":0},{"$f":"IFERROR(VLOOKUP(A528,Hoja4!$D$2:$E$166,2,0),0)","v":82.503699999999995}]
[53654,{"$f":"IFERROR(VLOOKUP(A529,Hoja4!$A$2:$B$163,2,0),0)","v":0},{"$f":"IFERROR(VLOOKUP(A529,Hoja4!$D$2:$E$166,2,0),0)","v":78.363699999999994}]
[53704,{"$f":"IFERROR(VLOOKUP(A530,Hoja4!$A$2:$B$163,2,0),0)","v":0},{"$f":"IFERROR(VLOOKUP(A530,Hoja4!$D$2:$E$166,2,0),0)","v":50.862499999999997}]
[53754,{"$f":"IFERROR(VLOOKUP(A531,Hoja4!$A$2:$B$163,2,0),0)","v":6.0411999999999999},{"$f":"IFERROR(VLOOKUP(A531,Hoja4!$D$2:$E$166,2,0),0)","v":73.435199999999995}]
[53756,{"$f":"IFERROR(VLOOKUP(A532,Hoja4!$A$2:$B$163,2,0),0)","v":0},{"$f":"IFERROR(VLOOKUP(A532,Hoja4!$D$2:$E$166,2,0),0)","v":0}]
[53850,{"$f":"IFERROR(VLOOKUP(A533,Hoja4!$A$2:$B$163,2,0),0)","v":0},{"$f":"IFERROR(VLOOKUP(A533,Hoja4!$D$2:$E$166,2,0),0)","v":0}]
[53854,{"$f":"IFERROR(VLOOKUP(A534,Hoja4!$A$2:$B$163,2,0),0)","v":8},{"$f":"IFERROR(VLOOKUP(A534,Hoja4!$D$2:$E$166,2,0),0)","v":11.039899999999999}]
[53900,{"$f":"IFERROR(VLOOKUP(A535,Hoja4!$A$2:$B$163,2,0),0)","v":0},{"$f":"IFERROR(VLOOKUP(A535,Hoja4!$D$2:$E$166,2,0),0)","v":10.448499999999999}]
[54000,{"$f":"IFERROR(VLOOKUP(A536,Hoja4!$A$2:$B$163,2,0),0)","v":0},{"$f":"IFERROR(VLOOKUP(A536,Hoja4!$D$2:$E$166,2,0),0)","v":16.9542}]
[54050,{"$f":"IFERROR(VLOOKUP(A537,Hoja4!$A$2:$B$163,2,0),0)","v":0},{"$f":"IFERROR(VLOOKUP(A537,Hoja4!$D$2:$E$166,2,0),0)","v":27.1069}]
[54104,{"$f":"IFERROR(VLOOKUP(A538,Hoja4!$A$2:$B$163,2,0),0)","v":6.6125999999999996},{"$f":"IFERROR(VLOOKUP(A538,Hoja4!$D$2:$E$166,2,0),0)","v":27.501200000000001}]
[54154,{"$f":"IFERROR(VLOOKUP(A539,Hoja4!$A$2:$B$163,2,0),0)","v":0},{"$f":"IFERROR(VLOOKUP(A539,Hoja4!$D$2:$E$166,2,0),0)","v":0}]
[54200,{"$f":"IFERROR(VLOOKUP(A540,Hoja4!$A$2:$B$163,2,0),0)","v":0},{"$f":"IFERROR(VLOOKUP(A540,Hoja4!$D$2:$E$166,2,0),0)","v":8.8713999999999995}]
[54250,{"$f":"IFERROR(VLOOKUP(A541,Hoja4!$A$2:$B$163,2,0),0)","v":121.444},{"$f":"IFERROR(VLOOKUP(A541,Hoja4!$D$2:$E$166,2,0),0)","v":0}]
[54500,{"$f":"IFERROR(VLOOKUP(A542,Hoja4!$A$2:$B$163,2,0),0)","v":16.001999999999999},{"$f":"IFERROR(VLOOKUP(A542,Hoja4!$D$2:$E$166,2,0),0)","v":0}]
[54750,{"$f":"IFERROR(VLOOKUP(A543,Hoja4!$A$2:$B$163,2,0),0)","v":0},{"$f":"IFERROR(VLOOKUP(A543,Hoja4!$D$2:$E$166,2,0),0)","v":31.936900000000001}]
[56000,{"$f":"IFERROR(VLOOKUP(A544,Hoja4!$A$2:$B$163,2,0),0)","v":0},{"$f":"IFERROR(VLOOKUP(A544,Hoja4!$D$2:$E$166,2,0),0)","v":33.809800000000003}]
[56050,{"$f":"IFERROR(VLOOKUP(A545,Hoja4!$A$2:$B$163,2,0),0)","v":0},{"$f":"IFERROR(VLOOKUP(A545,Hoja4!$D$2:$E$166,2,0),0)","v":22.671299999999999}]
[56100,{"$f":"IFERROR(VLOOKUP(A546,Hoja4!$A$2:$B$163,2,0),0)","v":0},{"$f":"IFERROR(VLOOKUP(A546,Hoja4!$D$2:$E$166,2,0),0)","v":6.0128000000000004}]
[58004,{"$f":"IFERROR(VLOOKUP(A547,Hoja4!$A$2:$B$163,2,0),0)","v":110.355},{"$f":"IFERROR(VLOOKUP(A547,Hoja4!$D$2:$E$166,2,0),0)","v":7.0971000000000002}]
[58054,{"$f":"IFERROR(VLOOKUP(A548,Hoja4!$A$2:$B$163,2,0),0)","v":0.78300000000000003},{"$f":"IFERROR(VLOOKUP(A548,Hoja4!$D$2:$E$166,2,0),0)","v":7.4913999999999996}]
[58104,{"$f":"IFERROR(VLOOKUP(A549,Hoja4!$A$2:$B$163,2,0),0)","v":60},{"$f":"IFERROR(VLOOKUP(A549,Hoja4!$D$2:$E$166,2,0),0)","v":2.9571000000000001}]
[58150,{"$f":"IFERROR(VLOOKUP(A550,Hoja4!$A$2:$B$163,2,0),0)","v":0},{"$f":"IFERROR(VLOOKUP(A550,Hoja4!$D$2:$E$166,2,0),0)","v":18.925599999999999}]
[58200,{"$f":"IFERROR(VLOOKUP(A551,Hoja4!$A$2:$B$163,2,0),0)","v":8.7992000000000008},{"$f":"IFERROR(VLOOKUP(A551,Hoja4!$D$2:$E$166,2,0),0)","v":36.668300000000002}]
[58300,{"$f":"IFERROR(VLOOKUP(A552,Hoja4!$A$2:$B$163,2,0),0)","v":0},{"$f":"IFERROR(VLOOKUP(A552,Hoja4!$D$2:$E$166,2,0),0)","v":0}]
[58304,{"$f":"IFERROR(VLOOKUP(A553,Hoja4!$A$2:$B$163,2,0),0)","v":0},{"$f":"IFERROR(VLOOKUP(A553,Hoja4!$D$2:$E$166,2,0),0)","v":27.698399999999999}]
[58350,{"$f":"IFERROR(VLOOKUP(A554,Hoja4!$A$2:$B$163,2,0),0)","v":0},{"$f":"IFERROR(VLOOKUP(A554,Hoja4!$D$2:$E$166,2,0),0)","v":6.5057}]
[58450,{"$f":"IFERROR(VLOOKUP(A555,Hoja4!$A$2:$B$163,2,0),0)","v":20.227},{"$f":"IFERROR(VLOOKUP(A555,Hoja4!$D$2:$E$166,2,0),0)","v":0}]
[58500,{"$f":"IFERROR(VLOOKUP(A556,Hoja4!$A$2:$B$163,2,0),0)","v":76.352000000000004},{"$f":"IFERROR(VLOOKUP(A556,Hoja4!$D$2:$E$166,2,0),0)","v":0}]
[58600,{"$f":"IFERROR(VLOOKUP(A557,Hoja4!$A$2:$B$163,2,0),0)","v":0},{"$f":"IFERROR(VLOOKUP(A557,Hoja4!$D$2:$E$166,2,0),0)","v":0}]

{"sheet":"Hoja4","index":2,"n_rows":170,"n_cols":5,"rows_kept":170,"cut":false,"hidden":false,"merged":[]}
["Nodo","Inyeccion",null,"Nodo","Retiro"]
[1101,256.24789999999996,null,1102,36.238]
[1102,20.49,null,1106,36.290999999999997]
[1106,0,null,1107,143.10499999999999]
[1107,0,null,1108,155.583]
[1108,0,null,1109,207.28100000000001]
[1109,0,null,1120,0]
[1120,17.417999999999999,null,1124,35.914000000000001]
[1124,0,null,1126,50.213000000000001]
[1126,0,null,1133,19.166]
[1133,0,null,1140,35.988]
[1140,127.8661,null,1145,0]
[1141,228.58,null,1165,0]
[1145,8.8626000000000005,null,1166,0]
[1165,49.567999999999998,null,1168,0]
[1166,0,null,1219,0]
[1168,47.957000000000001,null,1444,21.9]
[1170,2.1194000000000002,null,1710,68.656999999999996]
[1219,68.570999999999998,null,1771,36.027000000000001]
[1444,33.241,null,1840,32.68]
[1710,0,null,3029,40.061900000000001]
[1771,0,null,3030,37.302500000000002]
[1840,33.026000000000003,null,3031,19.9908]
[1845,0,null,3032,1.8548]
[3029,30.568000000000001,null,3033,17.620799999999999]
[3032,124.9973,null,3034,30.032699999999998]
[3034,99.774000000000001,null,3036,0]
[3038,22.923999999999999,null,3037,60.281700000000001]
[3049,0,null,3038,23.1389]
[3055,21.172000000000001,null,3040,11.231999999999999]
[3059,0,null,3045,34.3142]
[3060,3.6469999999999998,null,3049,30.5015]
[3078,0,null,3052,49.358800000000002]
[3082,5.4450000000000003,null,3055,66.225099999999998]
[3098,39,null,3060,35.550699999999999]
[3100,3.3039999999999998,null,3064,3.3591000000000002]
[3101,9.3249999999999993,null,3075,15.456799999999999]
[3123,9.8550000000000004,null,3077,36.890300000000003]
[3180,0.13200000000000001,null,3078,61.827399999999997]
[3183,6.2329999999999997,null,3082,8.3467000000000002]
[3203,10.855,null,3085,30.192399999999999]
[3204,227,null,3091,10.6137]
[3211,8,null,3095,29.058900000000001]
[3213,70,null,3100,27.822299999999998]
[3219,30,null,3101,62.651699999999998]
[3301,241,null,3103,14.1172]
[3424,0,null,3108,17.208600000000001]
[3544,8,null,3113,18.548200000000001]
[3550,18,null,3118,8.7767999999999997]
[3553,56,null,3122,13.8081]
[3592,8,null,3123,51.419800000000002]
[4300,0,null,3131,8.4497]
[4307,3.62,null,3155,24.3188]
[4315,0,null,3160,17.620799999999999]
[4316,49.126999999999995,null,3179,10.0985]
[4317,9.8572000000000006,null,3180,14.426399999999999]
[4319,0,null,3183,14.449200000000001]
[4328,22.8,null,3310,8.9650000000000034]
[4329,0,null,3408,20.196899999999999]
[4330,25.65,null,3424,21.639600000000002]
[4331,18.523299999999999,null,3553,34.365699999999997]
[4336,47.488999999999997,null,4300,29.02]
[4341,67,null,4307,4.34]
[4342,0,null,4315,71.010000000000005]
[4402,0,null,4316,31.764000000000003]
[4403,0,null,4317,92.48]
[4405,87.912000000000006,null,4319,41.480000000000004]
[4406,0,null,4328,1.3125]
[4419,64.145499999999998,null,4329,0.14000000000000001]
[4750,36,null,4330,15.219999999999999]
[4800,25.509999999999998,null,4331,63.48]
[4803,25.16,null,4336,102.39999999999999]
[6003,243.0521,null,4341,5.5670000000000002]
[6005,142.45999999999998,null,4342,5.54]
[6008,157,null,4357,10.77]
[6009,1.5483,null,4402,1.1799999999999997]
[6010,2.3940999999999999,null,4403,0]
[6011,0,null,4405,0.62]
[6013,12.728400000000001,null,4406,0]
[6018,0.35999999999999943,null,4419,0.14000000000000001]
[6059,0,null,4750,0]
[6060,0,null,4800,0.22000000000000003]
[6088,30.690100000000001,null,4803,0]
[6092,36.053100000000001,null,4827,2.52]
[6096,294.6927,null,6002,353.60429999999997]
[6100,0,null,6004,94.595200000000006]
[6171,0,null,6007,81.611800000000002]
[6173,0,null,6009,120.33629999999999]
[6178,40.520299999999999,null,6010,9.2477]
[6240,0,null,6012,6.7462999999999997]
[6261,0,null,6013,67.223399999999998]
[6263,9.6404999999999994,null,6015,0.34720000000000001]
[6290,0,null,6016,15.5433]
[6300,20.000599999999999,null,6018,157.9281]
[6330,42.372799999999998,null,6024,39.219699999999996]
[6332,0,null,6059,99.885400000000004]
[6360,7.3738000000000001,null,6100,0.70950000000000002]
[6363,9.8757000000000001,null,6170,13.0928]
[6366,15.246499999999999,null,6171,13.7797]
[6381,21.4572,null,6241,28.187899999999999]
[6440,53.038999999999994,null,6262,10.997400000000001]
[6460,18.18,null,6340,20.9438]
[6510,38.381100000000004,null,6470,29.351800000000001]
[6520,0,null,6713,19.124400000000001]
[6550,14.669600000000001,null,27131,13.4]
[27101,84.6,null,27161,13.7]
[27131,124.2,null,27171,14.6]
[27161,72.996800000000007,null,27181,9.9]
[27171,70.3,null,27301,75.3]
[27181,64.3,null,27321,39.200000000000003]
[27211,93.4,null,27341,69.900000000000006]
[27281,0,null,27351,48.9]
[27301,-35,null,27361,57.7]
[27321,0,null,27371,68.2]
[27341,52.4,null,27381,11.9]
[27351,11.1,null,27401,16.299999999999997]
[27361,0,null,27411,17]
[27371,0,null,27441,101.4]
[27381,0,null,27461,50.3]
[27401,6.3,null,27501,15.7]
[27411,0,null,50000,35.8797]
[27441,0,null,50050,13.7013]
[27461,-8.7000000000000011,null,50054,41.301099999999998]
[27481,93.6,null,50200,12.8142]
[27501,0,null,50250,12.7156]
[28161,0,null,50350,39.132599999999996]
[28181,0,null,50650,24.741299999999999]
[50050,0,null,50700,2.2671000000000001]
[50054,2.8361999999999998,null,50750,18.137]
[50100,145.66300000000001,null,50800,5.2241999999999997]
[50103,30.28,null,50900,0]
[50150,54.529000000000003,null,50950,9.3642000000000003]
[50200,152.5326,null,51150,0]
[50250,156.74930000000001,null,51450,21.685600000000001]
[50300,29.170999999999999,null,53000,125.6777]
[50350,0,null,53050,41.399700000000003]
[50650,38.450099999999999,null,53150,30.852599999999999]
[50700,22.411100000000001,null,53204,14.095599999999999]
[50750,24.890999999999998,null,53254,36.668300000000002]
[50800,14.665100000000001,null,53304,40.9069]
[50900,1.4998,null,53354,39.625399999999999]
[50950,1.4004000000000001,null,53404,78.560900000000004]
[51150,138.61199999999999,null,53454,89.699399999999997]
[51300,10.7355,null,53550,27.205500000000001]
[53000,0.99980000000000002,null,53604,82.503699999999995]
[53050,18.301500000000001,null,53654,78.363699999999994]
[53200,44.393000000000001,null,53704,50.862499999999997]
[53204,43.987000000000002,null,53754,73.435199999999995]
[53254,0.28999999999999998,null,53854,11.039899999999999]
[53304,1.2501,null,53900,10.448499999999999]
[53354,0.95630000000000004,null,54000,16.9542]
[53754,6.0411999999999999,null,54050,27.1069]
[53854,8,null,54104,27.501200000000001]
[54104,6.6125999999999996,null,54200,8.8713999999999995]
[54250,121.444,null,54750,31.936900000000001]
[54500,16.001999999999999,null,56000,33.809800000000003]
[58004,110.355,null,56050,22.671299999999999]
[58054,0.78300000000000003,null,56100,6.0128000000000004]
[58104,60,null,58004,7.0971000000000002]
[58200,8.7992000000000008,null,58054,7.4913999999999996]
[58304,0,null,58104,2.9571000000000001]
[58450,20.227,null,58150,18.925599999999999]
[58500,76.352000000000004,null,58200,36.668300000000002]
[null,null,null,58304,27.698399999999999]
[null,null,null,58350,6.5057]
[null,null,null,28161,0]
[]
[]
[null,{"$f":"SUM(B2:B165)","v":5640.4248000000007},null,null,{"$f":"SUM(E2:E166)","v":5556.7349999999979}]
[{"$nulls":4},{"$f":"B169-E169","v":83.689800000002833}]

{"sheet":"oor","index":3,"n_rows":19,"n_cols":13,"rows_kept":19,"cut":false,"hidden":false,"merged":[]}
["N°","Nodo Retiro","Generador","Precio bloque 1","MW Ofertados Bloque 1","Precio Ofertado Bloque 1","MW Ofertados Bloque 2","Precio Ofertado Bloque 2","MW Ofertados Bloque 3","Precio Ofertado Bloque 3","MW Ofertados Bloque 4","Precio Ofertado Bloque 4","MW Ofertados Bloque 5"]
[1,1124,1,61.87,40,0,0,0,0,0,0,0,0]
[2,27131,1,34.200000000000003,20,33.200000000000003,20,32.200000000000003,10,0,0,0,0]
[3,27131,1,35.06,10,34.99,5,0,0,0,0,0,0]
[4,27161,1,36.33,25,34.33,10,0,0,0,0,0,0]
[5,27211,1,25,10,20,5,10,5,0,0,0,0]
[6,27211,1,32.51,7.5,31.64,7.5,1,5,0,0,0,0]
[7,27211,1,35.06,10,34.99,5,0,0,0,0,0,0]
[8,28161,1,32.81,5,0,0,0,0,0,0,0,0]
[9,28161,1,35.15,30,34.15,15,0,0,0,0,0,0]
[10,28161,1,35,10,0,0,0,0,0,0,0,0]
[11,28181,1,32.81,5,0,0,0,0,0,0,0,0]
[12,28181,1,1,0.98399999999999999,0,0,0,0,0,0,0,0]
[13,3034,1,50,25,0,0,0,0,0,0,0,0]
[14,3310,1,50,25,0,0,0,0,0,0,0,0]
[15,4402,1,50,2,0,0,0,0,0,0,0,0]
[16,4403,1,53,9.1999999999999993,0,0,0,0,0,0,0,0]
[17,4403,1,53,3.2,0,0,0,0,0,0,0,0]
[18,6096,1,37.049999999999997,210,0,0,0,0,0,0,0,0]

{"sheet":"ooi","index":4,"n_rows":64,"n_cols":13,"rows_kept":64,"cut":false,"hidden":false,"merged":[]}
["N°","Nodo Inyeccion","Generador","Precio bloque 1","MW Ofertados Bloque 1","Precio Ofertado Bloque 1","MW Ofertados Bloque 2","Precio Ofertado Bloque 2","MW Ofertados Bloque 3","Precio Ofertado Bloque 3","MW Ofertados Bloque 4","Precio Ofertado Bloque 4","MW Ofertados Bloque 5"]
[1,1124,1,259,23.47,0,0,0,0,0,0,0,0]
[2,1124,1,340.51,37.454999999999998,0,0,0,0,0,0,0,0]
[3,1124,1,145,93.84,0,0,0,0,0,0,0,0]
[4,1124,1,209.08,22.388999999999999,0,0,0,0,0,0,0,0]
[5,1126,1,198,16.568000000000001,0,0,0,0,0,0,0,0]
[6,1126,1,76.48,0.53800000000000003,0,0,0,0,0,0,0,0]
[7,1710,1,88,1.33,0,0,0,0,0,0,0,0]
[8,1710,1,65,1.2,0,0,0,0,0,0,0,0]
[10,1710,1,88,1.32,0,0,0,0,0,0,0,0]
[11,1710,1,71,1.1000000000000001,0,0,0,0,0,0,0,0]
[12,1710,1,65,2.9049999999999998,0,0,0,0,0,0,0,0]
[13,1710,1,76.48,4.5369999999999999,0,0,0,0,0,0,0,0]
[14,1710,1,65,15.26,0,0,0,0,0,0,0,0]
[15,27161,1,54.17,5,59.17,5,0,0,0,0,0,0]
[16,27301,1,51,10,56,5,61,10,0,0,0,0]
[17,27301,1,58.99,15,0,0,0,0,0,0,0,0]
[18,27301,1,52.3,15,54,10,0,0,0,0,0,0]
[19,27301,1,50.67,8,51.5,5,52,5,0,0,0,0]
[20,27461,1,54.14,20,55.14,20,56.14,10,57.14,20,0,0]
[21,27461,1,54.75,7.5,57.35,7.5,0,0,0,0,0,0]
[22,28161,1,53.1,3,0,0,0,0,0,0,0,0]
[23,28161,1,57.04,17,59.04,5,0,0,0,0,0,0]
[24,28181,1,53.1,10,0,0,0,0,0,0,0,0]
[25,28181,1,58.85,5,0,0,0,0,0,0,0,0]
[26,28181,1,57.04,17,59.04,5,0,0,0,0,0,0]
[27,50350,1,196,9,0,0,0,0,0,0,0,0]
[28,50900,1,190,106,0,0,0,0,0,0,0,0]
[29,58200,1,208,13,0,0,0,0,0,0,0,0]
[30,6003,1,63.12,13.951000000000001,0,0,0,0,0,0,0,0]
[31,6003,1,63.12,13.951000000000001,0,0,0,0,0,0,0,0]
[32,6003,1,63.12,13.951000000000001,0,0,0,0,0,0,0,0]
[33,6003,1,63.12,13.951000000000001,0,0,0,0,0,0,0,0]
[34,6003,1,63.12,13.951000000000001,0,0,0,0,0,0,0,0]
[35,6018,1,354.87,14.345000000000002,0,0,0,0,0,0,0,0]
[36,6059,1,258.23,31.198,0,0,0,0,0,0,0,0]
[37,6059,1,270.25,26.619,0,0,0,0,0,0,0,0]
[38,6059,1,84.21,13.68,0,0,0,0,0,0,0,0]
[39,6059,1,84.21,13.68,0,0,0,0,0,0,0,0]
[40,6059,1,84.21,13.68,0,0,0,0,0,0,0,0]
[41,6059,1,135.59,17.48,0,0,0,0,0,0,0,0]
[42,6059,1,135.59,17.48,0,0,0,0,0,0,0,0]
[43,6059,1,135.59,17.48,0,0,0,0,0,0,0,0]
[44,6059,1,135.59,17.48,0,0,0,0,0,0,0,0]
[45,6059,1,84.21,13.68,0,0,0,0,0,0,0,0]
[46,6059,1,135.59,17.48,0,0,0,0,0,0,0,0]
[47,6059,1,84.21,13.68,0,0,0,0,0,0,0,0]
[48,6100,1,44.93,37.158999999999999,0,0,0,0,0,0,0,0]
[49,6100,1,44.93,37.158999999999999,0,0,0,0,0,0,0,0]
[50,6100,1,44.93,37.158999999999999,0,0,0,0,0,0,0,0]
[51,6100,1,44.93,37.158999999999999,0,0,0,0,0,0,0,0]
[52,6100,1,44.93,37.158999999999999,0,0,0,0,0,0,0,0]
[53,6171,1,77.62,10.167999999999999,0,0,0,0,0,0,0,0]
[54,6171,1,77.62,10.167999999999999,0,0,0,0,0,0,0,0]
[55,6171,1,77.62,10.167999999999999,0,0,0,0,0,0,0,0]
[56,6171,1,77.62,10.167999999999999,0,0,0,0,0,0,0,0]
[57,6171,1,77.62,10.167999999999999,0,0,0,0,0,0,0,0]
[58,6173,1,84.16,10.635999999999999,0,0,0,0,0,0,0,0]
[59,6173,1,84.16,10.635999999999999,0,0,0,0,0,0,0,0]
[60,6173,1,84.16,10.635999999999999,0,0,0,0,0,0,0,0]
[61,6173,1,84.16,10.635999999999999,0,0,0,0,0,0,0,0]
[62,6173,1,84.16,10.635999999999999,0,0,0,0,0,0,0,0]
[63,6290,1,245.29,46.482999999999997,0,0,0,0,0,0,0,0]
[64,6290,1,249.15,46.113,0,0,0,0,0,0,0,0]

{"sheet":"cf","index":5,"n_rows":6,"n_cols":16,"rows_kept":6,"cut":false,"hidden":false,"merged":[]}
["N°","Nodo Inyeccion","Generador","Nodo Retiro","MW Energía Declarada","MW Energía Requerida","Precio Ofertado Bloque 1","MW Ofertados Bloque 1","Precio Ofertado Bloque 2","MW Ofertados Bloque 2","Precio Ofertado Bloque 3","MW Ofertados Bloque 3","Precio Ofertado Bloque 4","MW Ofertados Bloque 4","Precio Ofertado Bloque 5","MW Ofertados Bloque 5"]
[1,1710,"3_3183_005",3183,5.91,5.91,35,5.91,0,0,0,0,0,0,0,0]
[2,1124,"4_4403_119",4403,35,35,45.15,35,0,0,0,0,0,0,0,0]
[3,6005,"4_4750_005",4750,12,12,0,12,0,0,0,0,0,0,0,0]
[4,6008,"4_4750_136",4750,25,25,38,25,0,0,0,0,0,0,0,0]
[5,6008,"4_4750_129",4750,12,12,38,12,0,0,0,0,0,0,0,0]

{"sheet":"cnfff","index":6,"n_rows":10,"n_cols":36,"rows_kept":10,"cut":false,"hidden":false,"merged":[]}
["N°","nodo_i","Generador","nodo_r","Energia declarada","Precio_i bloque 1","Magnitud_i bloque 1","Precio_i bloque 2","Magnitud_i bloque 2","Precio_i bloque 3","Magnitud_i bloque 3","Precio_i bloque 4","Magnitud_i bloque 4","Precio_i bloque 5","Magnitud_i bloque 5","Precio_r bloque 1","Magnitud_r bloque 1","Precio_i bloque r","Magnitud_r bloque 2","Precio_r bloque 3","Magnitud_r bloque 3","Precio_r bloque 4","Magnitud_r bloque 4","Precio_r bloque 5","Magnitud_r bloque 5","k","Precio_max_cvt bloque 1","Magnitud_max_cvt bloque 1","Precio_max_cvt bloque 2","Magnitud_max_cvt bloque 2","Precio_max_cvt bloque 3","Magnitud_max_cvt bloque 3","Precio_max_cvt bloque 4","Magnitud_max_cvt bloque 4","Precio_max_cvt bloque 5","Magnitud_max_cvt bloque 5"]
[1,27301,"2_27301_190",1124,20,0,0,0,0,0,0,0,0,0,0,60,20,0,0,0,0,0,0,0,0,0,0.1,20,0,0,0,0,0,0,0,0]
[2,28161,"2_28161_660",1124,15,0,0,0,0,0,0,0,0,0,0,60,15,0,0,0,0,0,0,0,0,0,0.01,15,0,0,0,0,0,0,0,0]
[3,6018,"6_6018_195",27301,7.274,40,7.274,0,0,0,0,0,0,0,0,0,0,0,0,0,0,0,0,0,0,0,0.01,7.274,0,0,0,0,0,0,0,0]
[4,6100,"6_6100_061",27301,7.726,40,7.726,0,0,0,0,0,0,0,0,0,0,0,0,0,0,0,0,0,0,0,0.01,7.726,0,0,0,0,0,0,0,0]
[5,1710,"1_1710_898",27401,23,122.39,23,0,0,0,0,0,0,0,0,37.299999999999997,23,0,0,0,0,0,0,0,0,0,1,23,0,0,0,0,0,0,0,0]
[6,6100,"6_6100_013",27461,2.5750000000000002,43,{"$f":"E7","v":2.5750000000000002},0,0,0,0,0,0,0,0,0,0,0,0,0,0,0,0,0,0,0,0.01,2.5750000000000002,0,0,0,0,0,0,0,0]
[7,6018,"6_6018_205",27461,2.4249999999999998,43,{"$f":"E8","v":2.4249999999999998},0,0,0,0,0,0,0,0,0,0,0,0,0,0,0,0,0,0,0,0.01,2.4249999999999998,0,0,0,0,0,0,0,0]
[8,6018,"6_6018_206",27461,3.2,43,3.2,0,0,0,0,0,0,0,0,0,0,0,0,0,0,0,0,0,0,0,0.01,3.2,0,0,0,0,0,0,0,0]
[9,6100,"6_6100_014",27461,3.4,43,3.4,0,0,0,0,0,0,0,0,0,0,0,0,0,0,0,0,0,0,0,0.01,3.4,0,0,0,0,0,0,0,0]